{"text_format":"1","workbook":"xlsx","n_sheets":5,"sheets":["Poules","GROEP 1","GROEP 2","GROEP 3","GROEP 4"],"not_rendered":{"charts":0,"images":4,"macros":1,"external_links":0,"defined_names":0,"comments":0,"pivot_tables":0},"unopened":[],"bounds":{"document_bytes":16777216,"sheet_cells":100000,"rows_first":2000,"rows_last":500,"rows_between":2000,"halvings":0,"cell_chars":16384,"cell_head_chars":4096},"cells_cut":0,"cells_raw":0,"read":"whole","date_system":"1900"}

{"sheet":"Poules","index":0,"n_rows":77,"n_cols":57,"rows_kept":77,"cut":false,"hidden":false,"merged":[[67,28,67,29],[68,28,68,29],[69,28,69,29],[70,28,70,29],[71,28,71,29],[72,28,72,29],[15,0,18,0],[19,0,22,0],[23,0,26,0],[27,0,30,0],[31,0,34,0],[35,0,38,0],[39,0,42,0],[45,0,48,0],[49,0,52,0],[53,0,56,0],[57,0,60,0],[61,0,64,0],[65,0,68,0],[69,0,72,0],[57,28,57,29],[58,28,58,29],[59,28,59,29],[60,28,60,29],[61,28,61,29],[62,28,62,29],[63,28,63,29],[64,28,64,29],[65,28,65,29],[64,3,64,4],[65,3,65,4],[66,3,66,4],[62,6,62,11],[62,13,62,18],[63,6,63,11],[63,13,63,18],[64,6,64,11],[64,13,64,18],[65,6,65,11],[65,13,65,18],[66,6,66,11],[66,13,66,18],[66,28,66,29],[67,3,67,4],[68,3,68,4],[69,3,69,4],[70,3,70,4],[71,3,71,4],[72,3,72,4],[55,3,55,4],[56,3,56,4],[57,3,57,4],[58,3,58,4],[59,3,59,4],[60,3,60,4],[61,3,61,4],[62,3,62,4],[63,3,63,4],[71,31,71,36],[71,38,71,43],[72,31,72,36],[72,38,72,43],[23,28,23,29],[24,28,24,29],[25,28,25,29],[26,28,26,29],[27,28,27,29],[28,28,28,29],[31,28,31,29],[32,28,32,29],[33,28,33,29],[34,28,34,29],[35,28,35,29],[36,28,36,29],[37,28,37,29],[38,28,38,29],[39,28,39,29],[40,28,40,29],[41,28,41,29],[42,28,42,29],[55,28,55,29],[56,28,56,29],[66,31,66,36],[66,38,66,43],[67,31,67,36],[67,38,67,43],[68,31,68,36],[68,38,68,43],[69,31,69,36],[69,38,69,43],[70,31,70,36],[70,38,70,43],[72,6,72,11],[72,13,72,18],[55,31,55,36],[55,38,55,43],[56,31,56,36],[56,38,56,43],[57,31,57,36],[57,38,57,43],[58,31,58,36],[58,38,58,43],[59,31,59,36],[59,38,59,43],[60,31,60,36],[60,38,60,43],[61,31,61,36],[61,38,61,43],[62,31,62,36],[62,38,62,43],[63,31,63,36],[63,38,63,43],[64,31,64,36],[64,38,64,43],[65,31,65,36],[65,38,65,43],[67,6,67,11],[67,13,67,18],[68,6,68,11],[68,13,68,18],[69,6,69,11],[69,13,69,18],[70,6,70,11],[70,13,70,18],[71,6,71,11],[71,13,71,18],[57,6,57,11],[57,13,57,18],[58,6,58,11],[58,13,58,18],[59,6,59,11],[59,13,59,18],[60,6,60,11],[60,13,60,18],[61,6,61,11],[61,13,61,18],[44,49,44,51],[44,31,44,43],[44,28,44,29],[44,20,44,22],[44,6,44,18],[55,6,55,11],[55,13,55,18],[56,6,56,11],[56,13,56,18],[44,24,44,26],[50,38,50,43],[49,38,49,43],[50,31,50,36],[49,31,49,36],[50,28,50,29],[49,28,49,29],[48,13,48,18],[48,6,48,11],[48,3,48,4],[47,13,47,18],[47,6,47,11],[46,13,46,18],[46,6,46,11],[45,13,45,18],[45,6,45,11],[52,3,52,4],[51,13,51,18],[51,6,51,11],[51,3,51,4],[50,13,50,18],[50,6,50,11],[50,3,50,4],[49,13,49,18],[49,6,49,11],[49,3,49,4],[38,31,38,36],[38,38,38,43],[39,31,39,36],[39,38,39,43],[40,31,40,36],[40,38,40,43],[41,31,41,36],[41,38,41,43],[42,31,42,36],[42,38,42,43],[33,31,33,36],[33,38,33,43],[34,31,34,36],[34,38,34,43],[35,31,35,36],[35,38,35,43],[36,31,36,36],[36,38,36,43],[37,31,37,36],[37,38,37,43],[12,44,12,49],[14,45,14,47],[14,49,14,51],[12,30,12,35],[15,28,15,29],[20,31,20,36],[20,38,20,43],[19,38,19,43],[2,56,4,56],[2,42,4,42],[2,53,4,53],[2,54,4,54],[2,55,4,55],[2,28,4,28],[2,39,4,39],[2,40,4,40],[2,41,4,41],[4,44,4,49],[18,38,18,43],[14,28,14,29],[12,1,12,6],[14,3,14,4],[14,6,14,18],[15,3,15,4],[16,3,16,4],[17,3,17,4],[17,13,17,18],[17,31,17,36],[17,6,17,11],[17,28,17,29],[16,6,16,11],[15,6,15,11],[16,13,16,18],[15,13,15,18],[17,38,17,43],[16,38,16,43],[15,38,15,43],[19,31,19,36],[18,31,18,36],[20,6,20,11],[19,6,19,11],[18,6,18,11],[19,13,19,18],[18,28,18,29],[19,28,19,29],[20,28,20,29],[19,3,19,4],[20,13,20,18],[18,13,18,18],[18,3,18,4],[45,28,45,29],[46,28,46,29],[44,3,44,4],[20,3,20,4],[21,3,21,4],[21,6,21,11],[21,13,21,18],[22,3,22,4],[22,6,22,11],[22,13,22,18],[29,3,29,4],[29,6,29,11],[29,13,29,18],[30,3,30,4],[30,6,30,11],[30,13,30,18],[33,3,33,4],[23,6,23,11],[24,6,24,11],[25,6,25,11],[0,0,1,49],[5,1,5,6],[6,1,6,6],[7,1,7,6],[4,1,4,6],[2,0,4,0],[2,12,4,12],[2,11,4,11],[2,10,4,10],[2,27,4,27],[5,44,5,49],[7,44,7,49],[2,14,4,14],[2,29,4,29],[2,43,4,43],[4,15,4,21],[4,30,4,35],[6,30,6,35],[2,13,4,13],[2,25,4,25],[2,26,4,26],[6,44,6,49],[5,15,5,21],[5,30,5,35],[6,15,6,21],[16,31,16,36],[15,31,15,36],[14,20,14,22],[7,15,7,21],[7,30,7,35],[12,15,12,21],[14,31,14,43],[16,28,16,29],[14,24,14,26],[8,44,8,49],[9,44,9,49],[10,44,10,49],[11,44,11,49],[44,45,44,47],[47,31,47,36],[46,31,46,36],[47,28,47,29],[48,28,48,29],[45,31,45,36],[48,38,48,43],[47,38,47,43],[46,38,46,43],[45,38,45,43],[48,31,48,36],[21,28,21,29],[21,31,21,36],[21,38,21,43],[22,28,22,29],[22,31,22,36],[22,38,22,43],[29,28,29,29],[29,31,29,36],[29,38,29,43],[8,1,8,6],[9,1,9,6],[10,1,10,6],[11,1,11,6],[8,15,8,21],[9,15,9,21],[10,15,10,21],[11,15,11,21],[8,30,8,35],[9,30,9,35],[10,30,10,35],[11,30,11,35],[23,38,23,43],[24,31,24,36],[24,38,24,43],[25,31,25,36],[25,38,25,43],[26,31,26,36],[26,38,26,43],[27,31,27,36],[27,38,27,43],[23,31,23,36],[28,31,28,36],[28,38,28,43],[30,28,30,29],[30,31,30,36],[30,38,30,43],[31,3,31,4],[31,6,31,11],[31,13,31,18],[32,3,32,4],[32,6,32,11],[32,13,32,18],[31,31,31,36],[31,38,31,43],[32,31,32,36],[32,38,32,43],[54,28,54,29],[54,31,54,36],[54,38,54,43],[33,6,33,11],[33,13,33,18],[34,3,34,4],[34,6,34,11],[34,13,34,18],[35,3,35,4],[35,6,35,11],[35,13,35,18],[53,3,53,4],[53,6,53,11],[53,13,53,18],[36,3,36,4],[36,6,36,11],[36,13,36,18],[37,3,37,4],[37,6,37,11],[37,13,37,18],[38,3,38,4],[38,6,38,11],[38,13,38,18],[42,3,42,4],[51,28,51,29],[51,31,51,36],[51,38,51,43],[52,28,52,29],[52,31,52,36],[52,38,52,43],[53,28,53,29],[53,31,53,36],[53,38,53,43],[23,3,23,4],[24,3,24,4],[25,3,25,4],[26,3,26,4],[27,13,27,18],[28,13,28,18],[27,3,27,4],[28,3,28,4],[54,3,54,4],[54,6,54,11],[54,13,54,18],[42,6,42,11],[42,13,42,18],[39,3,39,4],[47,3,47,4],[45,3,45,4],[46,3,46,4],[26,6,26,11],[23,13,23,18],[24,13,24,18],[25,13,25,18],[26,13,26,18],[52,13,52,18],[52,6,52,11],[39,6,39,11],[39,13,39,18],[40,3,40,4],[40,6,40,11],[40,13,40,18],[41,3,41,4],[41,6,41,11],[41,13,41,18],[27,6,27,11],[28,6,28,11]]}
["Schoonhoven E TOERNOOI 2014",null,null,null,null,null,null,null,null,null,null,null,null,null,null,null,null,null,null,null,null,null,null,null,null,null,null,null,null,null,null,null,null,null,null,null,null,null,null,null,null,null,null,null,null,null,null,null,null,null,{"$f":"COUNTA(U16:W21)","v":18},{"$f":"COUNTA(AT16:AV21)","v":18},{"$f":"COUNTA(U46:W51)","v":18},{"$f":"COUNTA(AT46:AV51)","v":18}]
[]
["Stand",null,null,null,null,null,null,null,null,null,"Gewonnen","Gelijk","Verloren","Saldo","Stand",null,null,null,null,null,null,null,null,null,null,"Gewonnen","Gelijk","Verloren","Saldo","Stand",null,null,null,null,null,null,null,null,null,"Gewonnen","Gelijk","Verloren","Saldo","Stand",null,null,null,null,null,null,null,null,null,"Gewonnen","Gelijk","Verloren","Saldo"]
[]
[null,"Groep 1",null,null,null,null,null,"V","T","P",null,null,null,null,null,"Groep 2",null,null,null,null,null,null,"V","T","P",null,null,null,null,null,"Groep 3",null,null,null,null,null,"V","T","P",null,null,null,null,null,"Groep 4",null,null,null,null,null,"V","T","P"]
[{"$f":"RANK(J6,$J$6:$J$13,0)","v":7},"Schoonhoven E1",null,null,null,null,null,{"$f":"SUMIF($G$16:$L$43,B6,$U$16:$U$43)+SUMIF($N$16:$S$43,B6,$W$16:$W$43)","v":6},{"$f":"SUMIF($G$16:$L$43,B6,$W$16:$W$43)+SUMIF($N$16:$S$43,B6,$U$16:$U$43)","v":8},{"$f":"(K6*3)+L6+(H6*0.001)-(I6*0.001)","v":7.9980000000000002},{"$f":"SUMPRODUCT(($G$16:$L$43=B6)*($Y$16:$Y$43=3))+SUMPRODUCT(($N$16:$S$43=B6)*($AA$16:$AA$43=3))","v":2},{"$f":"SUMPRODUCT(($G$16:$L$43=B6)*($Y$16:$Y$43=1))+SUMPRODUCT(($N$16:$S$43=B6)*($AA$16:$AA$43=1))","v":2},{"$f":"SUMPRODUCT(($G$16:$L$43=B6)*($Y$16:$Y$43=0))+SUMPRODUCT(($N$16:$S$43=B6)*($AA$16:$AA$43=0))","v":3},{"$f":"H6-I6","v":-2},{"$f":"RANK(Y6,$Y$6:$Y$13,0)","v":6},"Schoonhoven E3",null,null,null,null,null,null,{"$f":"SUMIF($AF$16:$AK$43,P6,$AT$16:$AT$43)+SUMIF($AM$16:$AR$43,P6,$AV$16:$AV$43)","v":6},{"$f":"SUMIF($AF$16:$AK$43,P6,$AV$16:$AV$43)+SUMIF($AM$16:$AR$43,P6,$AT$16:$AT$43)","v":8},{"$f":"(Z6*3)+AA6+(W6*0.001)-(X6*0.001)","v":7.9980000000000002},{"$f":"SUMPRODUCT(($AF$16:$AK$43=P6)*($AX$16:$AX$43=3))+SUMPRODUCT(($AM$16:$AR$43=P6)*($AZ$16:$AZ$43=3))","v":2},{"$f":"SUMPRODUCT(($AF$16:$AK$43=P6)*($AX$16:$AX$43=1))+SUMPRODUCT(($AM$16:$AR$43=P6)*($AZ$16:$AZ$43=1))","v":2},{"$f":"SUMPRODUCT(($AF$16:$AK$43=P6)*($AX$16:$AX$43=0))+SUMPRODUCT(($AM$16:$AR$43=P6)*($AZ$16:$AZ$43=0))","v":3},{"$f":"W6-X6","v":-2},{"$f":"RANK(AM6,$AM$6:$AM$13,0)","v":3},"Schoonhoven E5",null,null,null,null,null,{"$f":"SUMIF($G$55:$L$73,AE6,$U$55:$U$73)+SUMIF($N$55:$S$73,AE6,$W$55:$W$73)","v":4},{"$f":"SUMIF($G$55:$L$73,AE6,$W$55:$W$73)+SUMIF($N$55:$S$73,AE6,$U$55:$U$73)","v":5},{"$f":"(AN6*3)+AO6+(AK6*0.001)-(AL6*0.001)","v":6.9989999999999997},{"$f":"SUMPRODUCT(($G$55:$L$73=AE6)*($Y$55:$Y$73=3))+SUMPRODUCT(($N$55:$S$73=AE6)*($AA$55:$AA$73=3))","v":2},{"$f":"SUMPRODUCT(($G$55:$L$73=AE6)*($Y$55:$Y$73=1))+SUMPRODUCT(($N$55:$S$73=AE6)*($AA$55:$AA$73=1))","v":1},{"$f":"SUMPRODUCT(($G$55:$L$73=AE6)*($Y$55:$Y$73=0))+SUMPRODUCT(($N$55:$S$73=AE6)*($AA$55:$AA$73=0))","v":2},{"$f":"AK6-AL6","v":-1},{"$f":"RANK(BA6,$BA$6:$BA$13,0)","v":3},"Schoonhoven E7",null,null,null,null,null,{"$f":"SUMIF($AF$55:$AK$73,AS6,$AT$55:$AT$73)+SUMIF($AM$55:$AR$73,AS6,$AV$55:$AV$73)","v":4},{"$f":"SUMIF($AF$55:$AK$73,AS6,$AV$55:$AV$73)+SUMIF($AM$55:$AR$73,AS6,$AT$55:$AT$73)","v":5},{"$f":"(BB6*3)+BC6+(AY6*0.001)-(AZ6*0.001)","v":6.9989999999999997},{"$f":"SUMPRODUCT(($AF$55:$AK$73=AS6)*($AX$55:$AX$73=3))+SUMPRODUCT(($AM$55:$AR$73=AS6)*($AZ$55:$AZ$73=3))","v":2},{"$f":"SUMPRODUCT(($AF$55:$AK$73=AS6)*($AX$55:$AX$73=1))+SUMPRODUCT(($AM$55:$AR$73=AS6)*($AZ$55:$AZ$73=1))","v":1},{"$f":"SUMPRODUCT(($AF$55:$AK$73=AS6)*($AX$55:$AX$73=0))+SUMPRODUCT(($AM$55:$AR$73=AS6)*($AZ$55:$AZ$73=0))","v":2},{"$f":"AY6-AZ6","v":-1}]
[1,"Cabauw E1",null,null,null,null,null,{"$f":"SUMIF($G$16:$L$43,B7,$U$16:$U$43)+SUMIF($N$16:$S$43,B7,$W$16:$W$43)","v":14},{"$f":"SUMIF($G$16:$L$43,B7,$W$16:$W$43)+SUMIF($N$16:$S$43,B7,$U$16:$U$43)","v":6},14.007999999999999,{"$f":"SUMPRODUCT(($G$16:$L$43=B7)*($Y$16:$Y$43=3))+SUMPRODUCT(($N$16:$S$43=B7)*($AA$16:$AA$43=3))","v":4},{"$f":"SUMPRODUCT(($G$16:$L$43=B7)*($Y$16:$Y$43=1))+SUMPRODUCT(($N$16:$S$43=B7)*($AA$16:$AA$43=1))","v":2},{"$f":"SUMPRODUCT(($G$16:$L$43=B7)*($Y$16:$Y$43=0))+SUMPRODUCT(($N$16:$S$43=B7)*($AA$16:$AA$43=0))","v":1},8,1,"Cabauw E2",null,null,null,null,null,null,{"$f":"SUMIF($AF$16:$AK$43,P7,$AT$16:$AT$43)+SUMIF($AM$16:$AR$43,P7,$AV$16:$AV$43)","v":14},{"$f":"SUMIF($AF$16:$AK$43,P7,$AV$16:$AV$43)+SUMIF($AM$16:$AR$43,P7,$AT$16:$AT$43)","v":6},14.007999999999999,{"$f":"SUMPRODUCT(($AF$16:$AK$43=P7)*($AX$16:$AX$43=3))+SUMPRODUCT(($AM$16:$AR$43=P7)*($AZ$16:$AZ$43=3))","v":4},{"$f":"SUMPRODUCT(($AF$16:$AK$43=P7)*($AX$16:$AX$43=1))+SUMPRODUCT(($AM$16:$AR$43=P7)*($AZ$16:$AZ$43=1))","v":2},{"$f":"SUMPRODUCT(($AF$16:$AK$43=P7)*($AX$16:$AX$43=0))+SUMPRODUCT(($AM$16:$AR$43=P7)*($AZ$16:$AZ$43=0))","v":1},8,1,"Lekkerkerk E2",null,null,null,null,null,{"$f":"SUMIF($G$55:$L$73,AE7,$U$55:$U$73)+SUMIF($N$55:$S$73,AE7,$W$55:$W$73)","v":10},{"$f":"SUMIF($G$55:$L$73,AE7,$W$55:$W$73)+SUMIF($N$55:$S$73,AE7,$U$55:$U$73)","v":2},11.007999999999999,{"$f":"SUMPRODUCT(($G$55:$L$73=AE7)*($Y$55:$Y$73=3))+SUMPRODUCT(($N$55:$S$73=AE7)*($AA$55:$AA$73=3))","v":3},{"$f":"SUMPRODUCT(($G$55:$L$73=AE7)*($Y$55:$Y$73=1))+SUMPRODUCT(($N$55:$S$73=AE7)*($AA$55:$AA$73=1))","v":2},{"$f":"SUMPRODUCT(($G$55:$L$73=AE7)*($Y$55:$Y$73=0))+SUMPRODUCT(($N$55:$S$73=AE7)*($AA$55:$AA$73=0))","v":0},8,1,"Stolwijk E2",null,null,null,null,null,{"$f":"SUMIF($AF$55:$AK$73,AS7,$AT$55:$AT$73)+SUMIF($AM$55:$AR$73,AS7,$AV$55:$AV$73)","v":10},{"$f":"SUMIF($AF$55:$AK$73,AS7,$AV$55:$AV$73)+SUMIF($AM$55:$AR$73,AS7,$AT$55:$AT$73)","v":2},11.007999999999999,{"$f":"SUMPRODUCT(($AF$55:$AK$73=AS7)*($AX$55:$AX$73=3))+SUMPRODUCT(($AM$55:$AR$73=AS7)*($AZ$55:$AZ$73=3))","v":3},{"$f":"SUMPRODUCT(($AF$55:$AK$73=AS7)*($AX$55:$AX$73=1))+SUMPRODUCT(($AM$55:$AR$73=AS7)*($AZ$55:$AZ$73=1))","v":2},{"$f":"SUMPRODUCT(($AF$55:$AK$73=AS7)*($AX$55:$AX$73=0))+SUMPRODUCT(($AM$55:$AR$73=AS7)*($AZ$55:$AZ$73=0))","v":0},8]
[2,"Jodan Boys E2",null,null,null,null,null,{"$f":"SUMIF($G$16:$L$43,B8,$U$16:$U$43)+SUMIF($N$16:$S$43,B8,$W$16:$W$43)","v":18},{"$f":"SUMIF($G$16:$L$43,B8,$W$16:$W$43)+SUMIF($N$16:$S$43,B8,$U$16:$U$43)","v":10},11.008000000000001,{"$f":"SUMPRODUCT(($G$16:$L$43=B8)*($Y$16:$Y$43=3))+SUMPRODUCT(($N$16:$S$43=B8)*($AA$16:$AA$43=3))","v":3},{"$f":"SUMPRODUCT(($G$16:$L$43=B8)*($Y$16:$Y$43=1))+SUMPRODUCT(($N$16:$S$43=B8)*($AA$16:$AA$43=1))","v":2},{"$f":"SUMPRODUCT(($G$16:$L$43=B8)*($Y$16:$Y$43=0))+SUMPRODUCT(($N$16:$S$43=B8)*($AA$16:$AA$43=0))","v":2},8,3,"RKDEO E3",null,null,null,null,null,null,{"$f":"SUMIF($AF$16:$AK$43,P8,$AT$16:$AT$43)+SUMIF($AM$16:$AR$43,P8,$AV$16:$AV$43)","v":18},{"$f":"SUMIF($AF$16:$AK$43,P8,$AV$16:$AV$43)+SUMIF($AM$16:$AR$43,P8,$AT$16:$AT$43)","v":10},11.008000000000001,{"$f":"SUMPRODUCT(($AF$16:$AK$43=P8)*($AX$16:$AX$43=3))+SUMPRODUCT(($AM$16:$AR$43=P8)*($AZ$16:$AZ$43=3))","v":3},{"$f":"SUMPRODUCT(($AF$16:$AK$43=P8)*($AX$16:$AX$43=1))+SUMPRODUCT(($AM$16:$AR$43=P8)*($AZ$16:$AZ$43=1))","v":2},{"$f":"SUMPRODUCT(($AF$16:$AK$43=P8)*($AX$16:$AX$43=0))+SUMPRODUCT(($AM$16:$AR$43=P8)*($AZ$16:$AZ$43=0))","v":2},8,2,"RKDEO E9",null,null,null,null,null,{"$f":"SUMIF($G$55:$L$73,AE8,$U$55:$U$73)+SUMIF($N$55:$S$73,AE8,$W$55:$W$73)","v":16},{"$f":"SUMIF($G$55:$L$73,AE8,$W$55:$W$73)+SUMIF($N$55:$S$73,AE8,$U$55:$U$73)","v":6},10.01,{"$f":"SUMPRODUCT(($G$55:$L$73=AE8)*($Y$55:$Y$73=3))+SUMPRODUCT(($N$55:$S$73=AE8)*($AA$55:$AA$73=3))","v":3},{"$f":"SUMPRODUCT(($G$55:$L$73=AE8)*($Y$55:$Y$73=1))+SUMPRODUCT(($N$55:$S$73=AE8)*($AA$55:$AA$73=1))","v":1},{"$f":"SUMPRODUCT(($G$55:$L$73=AE8)*($Y$55:$Y$73=0))+SUMPRODUCT(($N$55:$S$73=AE8)*($AA$55:$AA$73=0))","v":1},10,2,"Cabauw E2",null,null,null,null,null,{"$f":"SUMIF($AF$55:$AK$73,AS8,$AT$55:$AT$73)+SUMIF($AM$55:$AR$73,AS8,$AV$55:$AV$73)","v":16},{"$f":"SUMIF($AF$55:$AK$73,AS8,$AV$55:$AV$73)+SUMIF($AM$55:$AR$73,AS8,$AT$55:$AT$73)","v":6},10.01,{"$f":"SUMPRODUCT(($AF$55:$AK$73=AS8)*($AX$55:$AX$73=3))+SUMPRODUCT(($AM$55:$AR$73=AS8)*($AZ$55:$AZ$73=3))","v":3},{"$f":"SUMPRODUCT(($AF$55:$AK$73=AS8)*($AX$55:$AX$73=1))+SUMPRODUCT(($AM$55:$AR$73=AS8)*($AZ$55:$AZ$73=1))","v":1},{"$f":"SUMPRODUCT(($AF$55:$AK$73=AS8)*($AX$55:$AX$73=0))+SUMPRODUCT(($AM$55:$AR$73=AS8)*($AZ$55:$AZ$73=0))","v":1},10]
[8,"ONA E1",null,null,null,null,null,{"$f":"SUMIF($G$16:$L$43,B9,$U$16:$U$43)+SUMIF($N$16:$S$43,B9,$W$16:$W$43)","v":11},{"$f":"SUMIF($G$16:$L$43,B9,$W$16:$W$43)+SUMIF($N$16:$S$43,B9,$U$16:$U$43)","v":17},5.9939999999999998,{"$f":"SUMPRODUCT(($G$16:$L$43=B9)*($Y$16:$Y$43=3))+SUMPRODUCT(($N$16:$S$43=B9)*($AA$16:$AA$43=3))","v":1},{"$f":"SUMPRODUCT(($G$16:$L$43=B9)*($Y$16:$Y$43=1))+SUMPRODUCT(($N$16:$S$43=B9)*($AA$16:$AA$43=1))","v":3},{"$f":"SUMPRODUCT(($G$16:$L$43=B9)*($Y$16:$Y$43=0))+SUMPRODUCT(($N$16:$S$43=B9)*($AA$16:$AA$43=0))","v":3},-6,8,"Bergambacht E2",null,null,null,null,null,null,{"$f":"SUMIF($AF$16:$AK$43,P9,$AT$16:$AT$43)+SUMIF($AM$16:$AR$43,P9,$AV$16:$AV$43)","v":11},{"$f":"SUMIF($AF$16:$AK$43,P9,$AV$16:$AV$43)+SUMIF($AM$16:$AR$43,P9,$AT$16:$AT$43)","v":17},5.9939999999999998,{"$f":"SUMPRODUCT(($AF$16:$AK$43=P9)*($AX$16:$AX$43=3))+SUMPRODUCT(($AM$16:$AR$43=P9)*($AZ$16:$AZ$43=3))","v":1},{"$f":"SUMPRODUCT(($AF$16:$AK$43=P9)*($AX$16:$AX$43=1))+SUMPRODUCT(($AM$16:$AR$43=P9)*($AZ$16:$AZ$43=1))","v":3},{"$f":"SUMPRODUCT(($AF$16:$AK$43=P9)*($AX$16:$AX$43=0))+SUMPRODUCT(($AM$16:$AR$43=P9)*($AZ$16:$AZ$43=0))","v":3},-6,8,"Be Fair E3",null,null,null,null,null,{"$f":"SUMIF($G$55:$L$73,AE9,$U$55:$U$73)+SUMIF($N$55:$S$73,AE9,$W$55:$W$73)","v":7},{"$f":"SUMIF($G$55:$L$73,AE9,$W$55:$W$73)+SUMIF($N$55:$S$73,AE9,$U$55:$U$73)","v":14},1.9930000000000001,{"$f":"SUMPRODUCT(($G$55:$L$73=AE9)*($Y$55:$Y$73=3))+SUMPRODUCT(($N$55:$S$73=AE9)*($AA$55:$AA$73=3))","v":0},{"$f":"SUMPRODUCT(($G$55:$L$73=AE9)*($Y$55:$Y$73=1))+SUMPRODUCT(($N$55:$S$73=AE9)*($AA$55:$AA$73=1))","v":2},{"$f":"SUMPRODUCT(($G$55:$L$73=AE9)*($Y$55:$Y$73=0))+SUMPRODUCT(($N$55:$S$73=AE9)*($AA$55:$AA$73=0))","v":3},-7,8,"VFC Vlaardingen E8",null,null,null,null,null,{"$f":"SUMIF($AF$55:$AK$73,AS9,$AT$55:$AT$73)+SUMIF($AM$55:$AR$73,AS9,$AV$55:$AV$73)","v":7},{"$f":"SUMIF($AF$55:$AK$73,AS9,$AV$55:$AV$73)+SUMIF($AM$55:$AR$73,AS9,$AT$55:$AT$73)","v":14},1.9930000000000001,{"$f":"SUMPRODUCT(($AF$55:$AK$73=AS9)*($AX$55:$AX$73=3))+SUMPRODUCT(($AM$55:$AR$73=AS9)*($AZ$55:$AZ$73=3))","v":0},{"$f":"SUMPRODUCT(($AF$55:$AK$73=AS9)*($AX$55:$AX$73=1))+SUMPRODUCT(($AM$55:$AR$73=AS9)*($AZ$55:$AZ$73=1))","v":2},{"$f":"SUMPRODUCT(($AF$55:$AK$73=AS9)*($AX$55:$AX$73=0))+SUMPRODUCT(($AM$55:$AR$73=AS9)*($AZ$55:$AZ$73=0))","v":3},-7]
[4,"Spirit E1",null,null,null,null,null,{"$f":"SUMIF($G$16:$L$43,B10,$U$16:$U$43)+SUMIF($N$16:$S$43,B10,$W$16:$W$43)","v":9},{"$f":"SUMIF($G$16:$L$43,B10,$W$16:$W$43)+SUMIF($N$16:$S$43,B10,$U$16:$U$43)","v":8},9.0010000000000012,{"$f":"SUMPRODUCT(($G$16:$L$43=B10)*($Y$16:$Y$43=3))+SUMPRODUCT(($N$16:$S$43=B10)*($AA$16:$AA$43=3))","v":2},{"$f":"SUMPRODUCT(($G$16:$L$43=B10)*($Y$16:$Y$43=1))+SUMPRODUCT(($N$16:$S$43=B10)*($AA$16:$AA$43=1))","v":3},{"$f":"SUMPRODUCT(($G$16:$L$43=B10)*($Y$16:$Y$43=0))+SUMPRODUCT(($N$16:$S$43=B10)*($AA$16:$AA$43=0))","v":2},1,7,"VEP E2",null,null,null,null,null,null,{"$f":"SUMIF($AF$16:$AK$43,P10,$AT$16:$AT$43)+SUMIF($AM$16:$AR$43,P10,$AV$16:$AV$43)","v":7},{"$f":"SUMIF($AF$16:$AK$43,P10,$AV$16:$AV$43)+SUMIF($AM$16:$AR$43,P10,$AT$16:$AT$43)","v":8},5.9989999999999997,{"$f":"SUMPRODUCT(($AF$16:$AK$43=P10)*($AX$16:$AX$43=3))+SUMPRODUCT(($AM$16:$AR$43=P10)*($AZ$16:$AZ$43=3))","v":1},{"$f":"SUMPRODUCT(($AF$16:$AK$43=P10)*($AX$16:$AX$43=1))+SUMPRODUCT(($AM$16:$AR$43=P10)*($AZ$16:$AZ$43=1))","v":3},{"$f":"SUMPRODUCT(($AF$16:$AK$43=P10)*($AX$16:$AX$43=0))+SUMPRODUCT(($AM$16:$AR$43=P10)*($AZ$16:$AZ$43=0))","v":3},-1,6,"Ommoord E3",null,null,null,null,null,{"$f":"SUMIF($G$55:$L$73,AE10,$U$55:$U$73)+SUMIF($N$55:$S$73,AE10,$W$55:$W$73)","v":4},{"$f":"SUMIF($G$55:$L$73,AE10,$W$55:$W$73)+SUMIF($N$55:$S$73,AE10,$U$55:$U$73)","v":3},5.0009999999999994,{"$f":"SUMPRODUCT(($G$55:$L$73=AE10)*($Y$55:$Y$73=3))+SUMPRODUCT(($N$55:$S$73=AE10)*($AA$55:$AA$73=3))","v":1},{"$f":"SUMPRODUCT(($G$55:$L$73=AE10)*($Y$55:$Y$73=1))+SUMPRODUCT(($N$55:$S$73=AE10)*($AA$55:$AA$73=1))","v":2},{"$f":"SUMPRODUCT(($G$55:$L$73=AE10)*($Y$55:$Y$73=0))+SUMPRODUCT(($N$55:$S$73=AE10)*($AA$55:$AA$73=0))","v":1},1,6,"Oudewater E4",null,null,null,null,null,{"$f":"SUMIF($AF$55:$AK$73,AS10,$AT$55:$AT$73)+SUMIF($AM$55:$AR$73,AS10,$AV$55:$AV$73)","v":4},{"$f":"SUMIF($AF$55:$AK$73,AS10,$AV$55:$AV$73)+SUMIF($AM$55:$AR$73,AS10,$AT$55:$AT$73)","v":3},5.0009999999999994,{"$f":"SUMPRODUCT(($AF$55:$AK$73=AS10)*($AX$55:$AX$73=3))+SUMPRODUCT(($AM$55:$AR$73=AS10)*($AZ$55:$AZ$73=3))","v":1},{"$f":"SUMPRODUCT(($AF$55:$AK$73=AS10)*($AX$55:$AX$73=1))+SUMPRODUCT(($AM$55:$AR$73=AS10)*($AZ$55:$AZ$73=1))","v":2},{"$f":"SUMPRODUCT(($AF$55:$AK$73=AS10)*($AX$55:$AX$73=0))+SUMPRODUCT(($AM$55:$AR$73=AS10)*($AZ$55:$AZ$73=0))","v":1},1]
[6,"UNIO E1",null,null,null,null,null,{"$f":"SUMIF($G$16:$L$43,B11,$U$16:$U$43)+SUMIF($N$16:$S$43,B11,$W$16:$W$43)","v":7},{"$f":"SUMIF($G$16:$L$43,B11,$W$16:$W$43)+SUMIF($N$16:$S$43,B11,$U$16:$U$43)","v":19},8.9879999999999995,{"$f":"SUMPRODUCT(($G$16:$L$43=B11)*($Y$16:$Y$43=3))+SUMPRODUCT(($N$16:$S$43=B11)*($AA$16:$AA$43=3))","v":3},{"$f":"SUMPRODUCT(($G$16:$L$43=B11)*($Y$16:$Y$43=1))+SUMPRODUCT(($N$16:$S$43=B11)*($AA$16:$AA$43=1))","v":0},{"$f":"SUMPRODUCT(($G$16:$L$43=B11)*($Y$16:$Y$43=0))+SUMPRODUCT(($N$16:$S$43=B11)*($AA$16:$AA$43=0))","v":4},-12,5,"Stolwijk E2",null,null,null,null,null,null,{"$f":"SUMIF($AF$16:$AK$43,P11,$AT$16:$AT$43)+SUMIF($AM$16:$AR$43,P11,$AV$16:$AV$43)","v":7},{"$f":"SUMIF($AF$16:$AK$43,P11,$AV$16:$AV$43)+SUMIF($AM$16:$AR$43,P11,$AT$16:$AT$43)","v":19},8.9879999999999995,{"$f":"SUMPRODUCT(($AF$16:$AK$43=P11)*($AX$16:$AX$43=3))+SUMPRODUCT(($AM$16:$AR$43=P11)*($AZ$16:$AZ$43=3))","v":3},{"$f":"SUMPRODUCT(($AF$16:$AK$43=P11)*($AX$16:$AX$43=1))+SUMPRODUCT(($AM$16:$AR$43=P11)*($AZ$16:$AZ$43=1))","v":0},{"$f":"SUMPRODUCT(($AF$16:$AK$43=P11)*($AX$16:$AX$43=0))+SUMPRODUCT(($AM$16:$AR$43=P11)*($AZ$16:$AZ$43=0))","v":4},-12,5,"De Zwervers E3",null,null,null,null,null,{"$f":"SUMIF($G$55:$L$73,AE11,$U$55:$U$73)+SUMIF($N$55:$S$73,AE11,$W$55:$W$73)","v":4},{"$f":"SUMIF($G$55:$L$73,AE11,$W$55:$W$73)+SUMIF($N$55:$S$73,AE11,$U$55:$U$73)","v":12},5.992,{"$f":"SUMPRODUCT(($G$55:$L$73=AE11)*($Y$55:$Y$73=3))+SUMPRODUCT(($N$55:$S$73=AE11)*($AA$55:$AA$73=3))","v":2},{"$f":"SUMPRODUCT(($G$55:$L$73=AE11)*($Y$55:$Y$73=1))+SUMPRODUCT(($N$55:$S$73=AE11)*($AA$55:$AA$73=1))","v":0},{"$f":"SUMPRODUCT(($G$55:$L$73=AE11)*($Y$55:$Y$73=0))+SUMPRODUCT(($N$55:$S$73=AE11)*($AA$55:$AA$73=0))","v":3},-8,5,"SVS E4",null,null,null,null,null,{"$f":"SUMIF($AF$55:$AK$73,AS11,$AT$55:$AT$73)+SUMIF($AM$55:$AR$73,AS11,$AV$55:$AV$73)","v":4},{"$f":"SUMIF($AF$55:$AK$73,AS11,$AV$55:$AV$73)+SUMIF($AM$55:$AR$73,AS11,$AT$55:$AT$73)","v":12},5.992,{"$f":"SUMPRODUCT(($AF$55:$AK$73=AS11)*($AX$55:$AX$73=3))+SUMPRODUCT(($AM$55:$AR$73=AS11)*($AZ$55:$AZ$73=3))","v":2},{"$f":"SUMPRODUCT(($AF$55:$AK$73=AS11)*($AX$55:$AX$73=1))+SUMPRODUCT(($AM$55:$AR$73=AS11)*($AZ$55:$AZ$73=1))","v":0},{"$f":"SUMPRODUCT(($AF$55:$AK$73=AS11)*($AX$55:$AX$73=0))+SUMPRODUCT(($AM$55:$AR$73=AS11)*($AZ$55:$AZ$73=0))","v":3},-8]
[5,"Haastrecht E1",null,null,null,null,null,{"$f":"SUMIF($G$16:$L$43,B12,$U$16:$U$43)+SUMIF($N$16:$S$43,B12,$W$16:$W$43)","v":12},{"$f":"SUMIF($G$16:$L$43,B12,$W$16:$W$43)+SUMIF($N$16:$S$43,B12,$U$16:$U$43)","v":12},9,{"$f":"SUMPRODUCT(($G$16:$L$43=B12)*($Y$16:$Y$43=3))+SUMPRODUCT(($N$16:$S$43=B12)*($AA$16:$AA$43=3))","v":3},{"$f":"SUMPRODUCT(($G$16:$L$43=B12)*($Y$16:$Y$43=1))+SUMPRODUCT(($N$16:$S$43=B12)*($AA$16:$AA$43=1))","v":0},{"$f":"SUMPRODUCT(($G$16:$L$43=B12)*($Y$16:$Y$43=0))+SUMPRODUCT(($N$16:$S$43=B12)*($AA$16:$AA$43=0))","v":4},0,2,"Lekkerkerk E2",null,null,null,null,null,null,{"$f":"SUMIF($AF$16:$AK$43,P12,$AT$16:$AT$43)+SUMIF($AM$16:$AR$43,P12,$AV$16:$AV$43)","v":12},{"$f":"SUMIF($AF$16:$AK$43,P12,$AV$16:$AV$43)+SUMIF($AM$16:$AR$43,P12,$AT$16:$AT$43)","v":10},12.002000000000001,{"$f":"SUMPRODUCT(($AF$16:$AK$43=P12)*($AX$16:$AX$43=3))+SUMPRODUCT(($AM$16:$AR$43=P12)*($AZ$16:$AZ$43=3))","v":4},{"$f":"SUMPRODUCT(($AF$16:$AK$43=P12)*($AX$16:$AX$43=1))+SUMPRODUCT(($AM$16:$AR$43=P12)*($AZ$16:$AZ$43=1))","v":0},{"$f":"SUMPRODUCT(($AF$16:$AK$43=P12)*($AX$16:$AX$43=0))+SUMPRODUCT(($AM$16:$AR$43=P12)*($AZ$16:$AZ$43=0))","v":3},2,4,"DCV E3",null,null,null,null,null,{"$f":"SUMIF($G$55:$L$73,AE12,$U$55:$U$73)+SUMIF($N$55:$S$73,AE12,$W$55:$W$73)","v":7},{"$f":"SUMIF($G$55:$L$73,AE12,$W$55:$W$73)+SUMIF($N$55:$S$73,AE12,$U$55:$U$73)","v":8},5.9989999999999997,{"$f":"SUMPRODUCT(($G$55:$L$73=AE12)*($Y$55:$Y$73=3))+SUMPRODUCT(($N$55:$S$73=AE12)*($AA$55:$AA$73=3))","v":2},{"$f":"SUMPRODUCT(($G$55:$L$73=AE12)*($Y$55:$Y$73=1))+SUMPRODUCT(($N$55:$S$73=AE12)*($AA$55:$AA$73=1))","v":0},{"$f":"SUMPRODUCT(($G$55:$L$73=AE12)*($Y$55:$Y$73=0))+SUMPRODUCT(($N$55:$S$73=AE12)*($AA$55:$AA$73=0))","v":3},-1,4,"Stolwijk E3",null,null,null,null,null,{"$f":"SUMIF($AF$55:$AK$73,AS12,$AT$55:$AT$73)+SUMIF($AM$55:$AR$73,AS12,$AV$55:$AV$73)","v":7},{"$f":"SUMIF($AF$55:$AK$73,AS12,$AV$55:$AV$73)+SUMIF($AM$55:$AR$73,AS12,$AT$55:$AT$73)","v":8},5.9989999999999997,{"$f":"SUMPRODUCT(($AF$55:$AK$73=AS12)*($AX$55:$AX$73=3))+SUMPRODUCT(($AM$55:$AR$73=AS12)*($AZ$55:$AZ$73=3))","v":2},{"$f":"SUMPRODUCT(($AF$55:$AK$73=AS12)*($AX$55:$AX$73=1))+SUMPRODUCT(($AM$55:$AR$73=AS12)*($AZ$55:$AZ$73=1))","v":0},{"$f":"SUMPRODUCT(($AF$55:$AK$73=AS12)*($AX$55:$AX$73=0))+SUMPRODUCT(($AM$55:$AR$73=AS12)*($AZ$55:$AZ$73=0))","v":3},-1]
[3,"Alblasserdam E1",null,null,null,null,null,{"$f":"SUMIF($G$16:$L$43,B13,$U$16:$U$43)+SUMIF($N$16:$S$43,B13,$W$16:$W$43)","v":14},{"$f":"SUMIF($G$16:$L$43,B13,$W$16:$W$43)+SUMIF($N$16:$S$43,B13,$U$16:$U$43)","v":11},11.003,{"$f":"SUMPRODUCT(($G$16:$L$43=B13)*($Y$16:$Y$43=3))+SUMPRODUCT(($N$16:$S$43=B13)*($AA$16:$AA$43=3))","v":3},{"$f":"SUMPRODUCT(($G$16:$L$43=B13)*($Y$16:$Y$43=1))+SUMPRODUCT(($N$16:$S$43=B13)*($AA$16:$AA$43=1))","v":2},{"$f":"SUMPRODUCT(($G$16:$L$43=B13)*($Y$16:$Y$43=0))+SUMPRODUCT(($N$16:$S$43=B13)*($AA$16:$AA$43=0))","v":2},3,4,"VV GZ E3",null,null,null,null,null,null,{"$f":"SUMIF($AF$16:$AK$43,P13,$AT$16:$AT$43)+SUMIF($AM$16:$AR$43,P13,$AV$16:$AV$43)","v":14},{"$f":"SUMIF($AF$16:$AK$43,P13,$AV$16:$AV$43)+SUMIF($AM$16:$AR$43,P13,$AT$16:$AT$43)","v":11},11.003,{"$f":"SUMPRODUCT(($AF$16:$AK$43=P13)*($AX$16:$AX$43=3))+SUMPRODUCT(($AM$16:$AR$43=P13)*($AZ$16:$AZ$43=3))","v":3},{"$f":"SUMPRODUCT(($AF$16:$AK$43=P13)*($AX$16:$AX$43=1))+SUMPRODUCT(($AM$16:$AR$43=P13)*($AZ$16:$AZ$43=1))","v":2},{"$f":"SUMPRODUCT(($AF$16:$AK$43=P13)*($AX$16:$AX$43=0))+SUMPRODUCT(($AM$16:$AR$43=P13)*($AZ$16:$AZ$43=0))","v":2},3,7,"scVictorie'04 E3",null,null,null,null,null,{"$f":"SUMIF($G$55:$L$73,AE13,$U$55:$U$73)+SUMIF($N$55:$S$73,AE13,$W$55:$W$73)","v":6},{"$f":"SUMIF($G$55:$L$73,AE13,$W$55:$W$73)+SUMIF($N$55:$S$73,AE13,$U$55:$U$73)","v":8},4.9980000000000002,{"$f":"SUMPRODUCT(($G$55:$L$73=AE13)*($Y$55:$Y$73=3))+SUMPRODUCT(($N$55:$S$73=AE13)*($AA$55:$AA$73=3))","v":1},{"$f":"SUMPRODUCT(($G$55:$L$73=AE13)*($Y$55:$Y$73=1))+SUMPRODUCT(($N$55:$S$73=AE13)*($AA$55:$AA$73=1))","v":2},{"$f":"SUMPRODUCT(($G$55:$L$73=AE13)*($Y$55:$Y$73=0))+SUMPRODUCT(($N$55:$S$73=AE13)*($AA$55:$AA$73=0))","v":1},-2,7,"Jodan Boys E8",null,null,null,null,null,{"$f":"SUMIF($AF$55:$AK$73,AS13,$AT$55:$AT$73)+SUMIF($AM$55:$AR$73,AS13,$AV$55:$AV$73)","v":6},{"$f":"SUMIF($AF$55:$AK$73,AS13,$AV$55:$AV$73)+SUMIF($AM$55:$AR$73,AS13,$AT$55:$AT$73)","v":8},4.9980000000000002,{"$f":"SUMPRODUCT(($AF$55:$AK$73=AS13)*($AX$55:$AX$73=3))+SUMPRODUCT(($AM$55:$AR$73=AS13)*($AZ$55:$AZ$73=3))","v":1},{"$f":"SUMPRODUCT(($AF$55:$AK$73=AS13)*($AX$55:$AX$73=1))+SUMPRODUCT(($AM$55:$AR$73=AS13)*($AZ$55:$AZ$73=1))","v":2},{"$f":"SUMPRODUCT(($AF$55:$AK$73=AS13)*($AX$55:$AX$73=0))+SUMPRODUCT(($AM$55:$AR$73=AS13)*($AZ$55:$AZ$73=0))","v":1},-2]
[]
[null,null,null,"Tijd",null,null,"VELD A",null,null,null,null,null,null,null,null,null,null,null,null,null,"Uitslag",null,null,null,"Punten",null,null,null,"Tijd",null,null,"VELD B",null,null,null,null,null,null,null,null,null,null,null,null,null,"Uitslag",null,null,null,"Punten"]
["RND1",null,null,"10:00:00",null,null,{"$f":"$B$10","v":"Spirit E1"},null,null,null,null,null,"--",{"$f":"$B$11","v":"UNIO E1"},null,null,null,null,null,null,1,"--",2,null,{"$f":"IF(U16=\"\",\"\",IF(U16>W16,3,IF(U16=W16,1,0)))","v":0},null,{"$f":"IF(W16=\"\",\"\",IF(W16>U16,3,IF(W16=U16,1,0)))","v":3},null,"10:00:00",null,null,{"$f":"$P$10","v":"VEP E2"},null,null,null,null,null,"--",{"$f":"$P$11","v":"Stolwijk E2"},null,null,null,null,null,null,1,"--",2,null,{"$f":"IF(AT16=\"\",\"\",IF(AT16>AV16,3,IF(AT16=AV16,1,0)))","v":0},null,{"$f":"IF(AV16=\"\",\"\",IF(AV16>AT16,3,IF(AV16=AT16,1,0)))","v":3}]
[null,null,null,"10:12:00",null,null,{"$f":"$B$12","v":"Haastrecht E1"},null,null,null,null,null,"--",{"$f":"$B$13","v":"Alblasserdam E1"},null,null,null,null,null,null,2,"--",1,null,{"$f":"IF(U17=\"\",\"\",IF(U17>W17,3,IF(U17=W17,1,0)))","v":3},null,{"$f":"IF(W17=\"\",\"\",IF(W17>U17,3,IF(W17=U17,1,0)))","v":0},null,"10:12:00",null,null,{"$f":"$P$12","v":"Lekkerkerk E2"},null,null,null,null,null,"--",{"$f":"$P$13","v":"VV GZ E3"},null,null,null,null,null,null,2,"--",1,null,{"$f":"IF(AT17=\"\",\"\",IF(AT17>AV17,3,IF(AT17=AV17,1,0)))","v":3},null,{"$f":"IF(AV17=\"\",\"\",IF(AV17>AT17,3,IF(AV17=AT17,1,0)))","v":0}]
[null,null,null,"10:24:00",null,null,{"$f":"$B$6","v":"Schoonhoven E1"},null,null,null,null,null,"--",{"$f":"$B$9","v":"ONA E1"},null,null,null,null,null,null,1,"--",2,null,{"$f":"IF(U18=\"\",\"\",IF(U18>W18,3,IF(U18=W18,1,0)))","v":0},null,3,null,"10:24:00",null,null,{"$f":"$P$6","v":"Schoonhoven E3"},null,null,null,null,null,"--",{"$f":"$P$9","v":"Bergambacht E2"},null,null,null,null,null,null,1,"--",2,null,{"$f":"IF(AT18=\"\",\"\",IF(AT18>AV18,3,IF(AT18=AV18,1,0)))","v":0},null,3]
[null,null,null,"10:36:00",null,null,{"$f":"$B$7","v":"Cabauw E1"},null,null,null,null,null,"--",{"$f":"$B$8","v":"Jodan Boys E2"},null,null,null,null,null,null,3,"--",1,null,3,null,0,null,"10:36:00",null,null,{"$f":"$P$7","v":"Cabauw E2"},null,null,null,null,null,"--",{"$f":"$P$8","v":"RKDEO E3"},null,null,null,null,null,null,3,"--",1,null,3,null,0]
["RND2",null,null,"10:48:00",null,null,{"$f":"$B$11","v":"UNIO E1"},null,null,null,null,null,"--",{"$f":"$B$13","v":"Alblasserdam E1"},null,null,null,null,null,null,1,"--",6,null,0,null,3,null,"10:48:00",null,null,{"$f":"$P$11","v":"Stolwijk E2"},null,null,null,null,null,"--",{"$f":"$P$13","v":"VV GZ E3"},null,null,null,null,null,null,1,"--",6,null,0,null,3]
[null,null,null,"11:00:00",null,null,{"$f":"$B$10","v":"Spirit E1"},null,null,null,null,null,"--",{"$f":"$B$9","v":"ONA E1"},null,null,null,null,null,null,2,"--",2,null,1,null,1,null,"11:00:00",null,null,{"$f":"$P$10","v":"VEP E2"},null,null,null,null,null,"--",{"$f":"$P$9","v":"Bergambacht E2"},null,null,null,null,null,null,2,"--",2,null,1,null,1]
[null,null,null,"11:12:00",null,null,{"$f":"$B$12","v":"Haastrecht E1"},null,null,null,null,null,"--",{"$f":"$B$7","v":"Cabauw E1"},null,null,null,null,null,null,3,"--",1,null,{"$f":"IF(U22=\"\",\"\",IF(U22>W22,3,IF(U22=W22,1,0)))","v":3},null,{"$f":"IF(W22=\"\",\"\",IF(W22>U22,3,IF(W22=U22,1,0)))","v":0},null,"11:12:00",null,null,{"$f":"$P$12","v":"Lekkerkerk E2"},null,null,null,null,null,"--",{"$f":"$P$7","v":"Cabauw E2"},null,null,null,null,null,null,3,"--",1,null,3,null,0]
[null,null,null,"11:24:00",null,null,{"$f":"$B$8","v":"Jodan Boys E2"},null,null,null,null,null,"--",{"$f":"$B$6","v":"Schoonhoven E1"},null,null,null,null,null,null,1,"--",1,null,1,null,1,null,"11:24:00",null,null,{"$f":"$P$8","v":"RKDEO E3"},null,null,null,null,null,"--",{"$f":"$P$6","v":"Schoonhoven E3"},null,null,null,null,null,null,1,"--",1,null,1,null,1]
["RND3",null,null,"11:36:00",null,null,{"$f":"$B$13","v":"Alblasserdam E1"},null,null,null,null,null,"--",{"$f":"$B$10","v":"Spirit E1"},null,null,null,null,null,null,1,"--",0,null,{"$f":"IF(U24=\"\",\"\",IF(U24>W24,3,IF(U24=W24,1,0)))","v":3},null,{"$f":"IF(W24=\"\",\"\",IF(W24>U24,3,IF(W24=U24,1,0)))","v":0},null,"11:36:00",null,null,{"$f":"$P$13","v":"VV GZ E3"},null,null,null,null,null,"--",{"$f":"$P$10","v":"VEP E2"},null,null,null,null,null,null,1,"--",0,null,3,null,0]
[null,null,null,"11:48:00",null,null,{"$f":"$B$9","v":"ONA E1"},null,null,null,null,null,"--",{"$f":"$B$11","v":"UNIO E1"},null,null,null,null,null,null,0,"--",2,null,0,null,3,null,"11:48:00",null,null,{"$f":"$P$9","v":"Bergambacht E2"},null,null,null,null,null,"--",{"$f":"$P$11","v":"Stolwijk E2"},null,null,null,null,null,null,0,"--",2,null,0,null,3]
[null,null,null,"12:00:00",null,null,{"$f":"$B$6","v":"Schoonhoven E1"},null,null,null,null,null,"--",{"$f":"$B$7","v":"Cabauw E1"},null,null,null,null,null,null,0,"--",1,null,0,null,3,null,"12:00:00",null,null,{"$f":"$P$6","v":"Schoonhoven E3"},null,null,null,null,null,"--",{"$f":"$P$7","v":"Cabauw E2"},null,null,null,null,null,null,0,"--",1,null,0,null,3]
[null,null,null,"12:12:00",null,null,{"$f":"$B$12","v":"Haastrecht E1"},null,null,null,null,null,"--",{"$f":"$B$8","v":"Jodan Boys E2"},null,null,null,null,null,null,1,"--",3,null,0,null,3,null,"12:12:00",null,null,{"$f":"$P$12","v":"Lekkerkerk E2"},null,null,null,null,null,"--",{"$f":"$P$8","v":"RKDEO E3"},null,null,null,null,null,null,1,"--",3,null,0,null,3]
["RND4",null,null,"12:24:00",null,null,{"$f":"$B$9","v":"ONA E1"},null,null,null,null,null,"--",{"$f":"$B$13","v":"Alblasserdam E1"},null,null,null,null,null,null,3,"--",3,null,{"$f":"IF(U28=\"\",\"\",IF(U28>W28,3,IF(U28=W28,1,0)))","v":1},null,{"$f":"IF(W28=\"\",\"\",IF(W28>U28,3,IF(W28=U28,1,0)))","v":1},null,"12:24:00",null,null,{"$f":"$P$9","v":"Bergambacht E2"},null,null,null,null,null,"--",{"$f":"$P$13","v":"VV GZ E3"},null,null,null,null,null,null,3,"--",3,null,1,null,1]
[null,null,null,"12:36:00",null,null,{"$f":"$B$6","v":"Schoonhoven E1"},null,null,null,null,null,"--",{"$f":"$B$12","v":"Haastrecht E1"},null,null,null,null,null,null,2,"--",1,null,3,null,0,null,"12:36:00",null,null,{"$f":"$P$6","v":"Schoonhoven E3"},null,null,null,null,null,"--",{"$f":"$P$12","v":"Lekkerkerk E2"},null,null,null,null,null,null,2,"--",1,null,3,null,0]
[null,null,null,"12:48:00",null,null,{"$f":"$B$11","v":"UNIO E1"},null,null,null,null,null,"--",{"$f":"$B$7","v":"Cabauw E1"},null,null,null,null,null,null,0,"--",4,null,0,null,3,null,"12:48:00",null,null,{"$f":"$P$11","v":"Stolwijk E2"},null,null,null,null,null,"--",{"$f":"$P$7","v":"Cabauw E2"},null,null,null,null,null,null,0,"--",4,null,0,null,3]
[null,null,null,"13:00:00",null,null,{"$f":"$B$8","v":"Jodan Boys E2"},null,null,null,null,null,"--",{"$f":"$B$10","v":"Spirit E1"},null,null,null,null,null,null,1,"--",1,null,1,null,1,null,"13:00:00",null,null,{"$f":"$P$8","v":"RKDEO E3"},null,null,null,null,null,"--",{"$f":"$P$10","v":"VEP E2"},null,null,null,null,null,null,1,"--",1,null,1,null,1]
["RND5",null,null,"13:12:00",null,null,{"$f":"$B$13","v":"Alblasserdam E1"},null,null,null,null,null,"--",{"$f":"$B$6","v":"Schoonhoven E1"},null,null,null,null,null,null,0,"--",0,null,{"$f":"IF(U32=\"\",\"\",IF(U32>W32,3,IF(U32=W32,1,0)))","v":1},null,{"$f":"IF(W32=\"\",\"\",IF(W32>U32,3,IF(W32=U32,1,0)))","v":1},null,"13:12:00",null,null,{"$f":"$P$13","v":"VV GZ E3"},null,null,null,null,null,"--",{"$f":"$P$6","v":"Schoonhoven E3"},null,null,null,null,null,null,0,"--",0,null,1,null,1]
[null,null,null,"13:24:00",null,null,{"$f":"$B$7","v":"Cabauw E1"},null,null,null,null,null,"--",{"$f":"$B$9","v":"ONA E1"},null,null,null,null,null,null,1,"--",1,null,1,null,1,null,"13:24:00",null,null,{"$f":"$P$7","v":"Cabauw E2"},null,null,null,null,null,"--",{"$f":"$P$9","v":"Bergambacht E2"},null,null,null,null,null,null,1,"--",1,null,1,null,1]
[null,null,null,"13:36:00",null,null,{"$f":"$B$8","v":"Jodan Boys E2"},null,null,null,null,null,"--",{"$f":"$B$11","v":"UNIO E1"},null,null,null,null,null,null,6,"--",0,null,3,null,0,null,"13:36:00",null,null,{"$f":"$P$8","v":"RKDEO E3"},null,null,null,null,null,"--",{"$f":"$P$11","v":"Stolwijk E2"},null,null,null,null,null,null,6,"--",0,null,3,null,0]
[null,null,null,"13:48:00",null,null,{"$f":"$B$10","v":"Spirit E1"},null,null,null,null,null,"--",{"$f":"$B$12","v":"Haastrecht E1"},null,null,null,null,null,null,2,"--",1,null,3,null,0,null,"13:48:00",null,null,{"$f":"$P$10","v":"VEP E2"},null,null,null,null,null,"--",{"$f":"$P$12","v":"Lekkerkerk E2"},null,null,null,null,null,null,0,"--",1,null,0,null,3]
["RND6",null,null,"14:00:00",null,null,{"$f":"$B$11","v":"UNIO E1"},null,null,null,null,null,"--",{"$f":"$B$6","v":"Schoonhoven E1"},null,null,null,null,null,null,1,"--",2,null,{"$f":"IF(U36=\"\",\"\",IF(U36>W36,3,IF(U36=W36,1,0)))","v":0},null,{"$f":"IF(W36=\"\",\"\",IF(W36>U36,3,IF(W36=U36,1,0)))","v":3},null,"14:00:00",null,null,{"$f":"$P$11","v":"Stolwijk E2"},null,null,null,null,null,"--",{"$f":"$P$6","v":"Schoonhoven E3"},null,null,null,null,null,null,1,"--",2,null,0,null,3]
[null,null,null,"14:12:00",null,null,{"$f":"$B$12","v":"Haastrecht E1"},null,null,null,null,null,"--",{"$f":"$B$9","v":"ONA E1"},null,null,null,null,null,null,4,"--",2,null,3,null,0,null,"14:12:00",null,null,{"$f":"$P$12","v":"Lekkerkerk E2"},null,null,null,null,null,"--",{"$f":"$P$9","v":"Bergambacht E2"},null,null,null,null,null,null,4,"--",2,null,3,null,0]
[null,null,null,"14:24:00",null,null,{"$f":"$B$13","v":"Alblasserdam E1"},null,null,null,null,null,"--",{"$f":"$B$8","v":"Jodan Boys E2"},null,null,null,null,null,null,3,"--",2,null,3,null,0,null,"14:24:00",null,null,{"$f":"$P$13","v":"VV GZ E3"},null,null,null,null,null,"--",{"$f":"$P$8","v":"RKDEO E3"},null,null,null,null,null,null,3,"--",2,null,3,null,0]
[null,null,null,"14:36:00",null,null,{"$f":"$B$10","v":"Spirit E1"},null,null,null,null,null,"--",{"$f":"$B$7","v":"Cabauw E1"},null,null,null,null,null,null,1,"--",1,null,1,null,1,null,"14:36:00",null,null,{"$f":"$P$10","v":"VEP E2"},null,null,null,null,null,"--",{"$f":"$P$7","v":"Cabauw E2"},null,null,null,null,null,null,1,"--",1,null,1,null,1]
["RND7",null,null,"14:48:00",null,null,{"$f":"$B$11","v":"UNIO E1"},null,null,null,null,null,"--",{"$f":"$B$12","v":"Haastrecht E1"},null,null,null,null,null,null,1,"--",0,null,3,null,0,null,"14:48:00",null,null,{"$f":"$P$11","v":"Stolwijk E2"},null,null,null,null,null,"--",{"$f":"$P$12","v":"Lekkerkerk E2"},null,null,null,null,null,null,1,"--",0,null,3,null,0]
[null,null,null,"15:00:00",null,null,{"$f":"$B$7","v":"Cabauw E1"},null,null,null,null,null,"--",{"$f":"$B$13","v":"Alblasserdam E1"},null,null,null,null,null,null,3,"--",0,null,3,null,0,null,"15:00:00",null,null,{"$f":"$P$7","v":"Cabauw E2"},null,null,null,null,null,"--",{"$f":"$P$13","v":"VV GZ E3"},null,null,null,null,null,null,3,"--",0,null,3,null,0]
[null,null,null,"15:12:00",null,null,{"$f":"$B$6","v":"Schoonhoven E1"},null,null,null,null,null,"--",{"$f":"$B$10","v":"Spirit E1"},null,null,null,null,null,null,0,"--",2,null,0,null,3,null,"15:12:00",null,null,{"$f":"$P$6","v":"Schoonhoven E3"},null,null,null,null,null,"--",{"$f":"$P$10","v":"VEP E2"},null,null,null,null,null,null,0,"--",2,null,0,null,3]
[null,null,null,"15:24:00",null,null,{"$f":"$B$9","v":"ONA E1"},null,null,null,null,null,"--",{"$f":"$B$8","v":"Jodan Boys E2"},null,null,null,null,null,null,1,"--",4,null,0,null,3,null,"15:24:00",null,null,{"$f":"$P$9","v":"Bergambacht E2"},null,null,null,null,null,"--",{"$f":"$P$8","v":"RKDEO E3"},null,null,null,null,null,null,1,"--",4,null,0,null,3]
[]
[null,null,null,"Tijd",null,null,"VELD C",null,null,null,null,null,null,null,null,null,null,null,null,null,"Uitslag",null,null,null,"Punten",null,null,null,"Tijd",null,null,"VELD D",null,null,null,null,null,null,null,null,null,null,null,null,null,"Uitslag",null,null,null,"Punten"]
["RND1",null,null,"10:00:00",null,null,{"$f":"$AE$10","v":"Ommoord E3"},null,null,null,null,null,"--",{"$f":"$AE$11","v":"De Zwervers E3"},null,null,null,null,null,null,1,"--",2,null,{"$f":"IF(U46=\"\",\"\",IF(U46>W46,3,IF(U46=W46,1,0)))","v":0},null,{"$f":"IF(W46=\"\",\"\",IF(W46>U46,3,IF(W46=U46,1,0)))","v":3},null,"10:00:00",null,null,{"$f":"$AS$10","v":"Oudewater E4"},null,null,null,null,null,"--",{"$f":"$AS$11","v":"SVS E4"},null,null,null,null,null,null,1,"--",2,null,{"$f":"IF(AT46=\"\",\"\",IF(AT46>AV46,3,IF(AT46=AV46,1,0)))","v":0},null,{"$f":"IF(AV46=\"\",\"\",IF(AV46>AT46,3,IF(AV46=AT46,1,0)))","v":3}]
[null,null,null,"10:12:00",null,null,{"$f":"$AE$12","v":"DCV E3"},null,null,null,null,null,"--",{"$f":"$AE$13","v":"scVictorie'04 E3"},null,null,null,null,null,null,2,"--",1,null,{"$f":"IF(U47=\"\",\"\",IF(U47>W47,3,IF(U47=W47,1,0)))","v":3},null,{"$f":"IF(W47=\"\",\"\",IF(W47>U47,3,IF(W47=U47,1,0)))","v":0},null,"10:12:00",null,null,{"$f":"$AS$12","v":"Stolwijk E3"},null,null,null,null,null,"--",{"$f":"$AS$13","v":"Jodan Boys E8"},null,null,null,null,null,null,2,"--",1,null,{"$f":"IF(AT47=\"\",\"\",IF(AT47>AV47,3,IF(AT47=AV47,1,0)))","v":3},null,{"$f":"IF(AV47=\"\",\"\",IF(AV47>AT47,3,IF(AV47=AT47,1,0)))","v":0}]
[null,null,null,"10:24:00",null,null,{"$f":"$AE$6","v":"Schoonhoven E5"},null,null,null,null,null,"--",{"$f":"$AE$9","v":"Be Fair E3"},null,null,null,null,null,null,1,"--",2,null,{"$f":"IF(U48=\"\",\"\",IF(U48>W48,3,IF(U48=W48,1,0)))","v":0},null,3,null,"10:24:00",null,null,{"$f":"$AS$6","v":"Schoonhoven E7"},null,null,null,null,null,"--",{"$f":"$AS$9","v":"VFC Vlaardingen E8"},null,null,null,null,null,null,1,"--",2,null,{"$f":"IF(AT48=\"\",\"\",IF(AT48>AV48,3,IF(AT48=AV48,1,0)))","v":0},null,3]
[null,null,null,"10:36:00",null,null,{"$f":"$AE$7","v":"Lekkerkerk E2"},null,null,null,null,null,"--",{"$f":"$AE$8","v":"RKDEO E9"},null,null,null,null,null,null,3,"--",1,null,3,null,0,null,"10:36:00",null,null,{"$f":"$AS$7","v":"Stolwijk E2"},null,null,null,null,null,"--",{"$f":"$AS$8","v":"Cabauw E2"},null,null,null,null,null,null,3,"--",1,null,3,null,0]
["RND2",null,null,"10:48:00",null,null,{"$f":"$AE$11","v":"De Zwervers E3"},null,null,null,null,null,"--",{"$f":"$AE$13","v":"scVictorie'04 E3"},null,null,null,null,null,null,1,"--",6,null,0,null,3,null,"10:48:00",null,null,{"$f":"$AS$11","v":"SVS E4"},null,null,null,null,null,"--",{"$f":"$AS$13","v":"Jodan Boys E8"},null,null,null,null,null,null,1,"--",6,null,0,null,3]
[null,null,null,"11:00:00",null,null,{"$f":"$AE$10","v":"Ommoord E3"},null,null,null,null,null,"--",{"$f":"$AE$9","v":"Be Fair E3"},null,null,null,null,null,null,2,"--",2,null,1,null,1,null,"11:00:00",null,null,{"$f":"$AS$10","v":"Oudewater E4"},null,null,null,null,null,"--",{"$f":"$AS$9","v":"VFC Vlaardingen E8"},null,null,null,null,null,null,2,"--",2,null,1,null,1]
[null,null,null,"11:12:00",null,null,{"$f":"$AE$12","v":"DCV E3"},null,null,null,null,null,"--",{"$f":"$AE$7","v":"Lekkerkerk E2"},null,null,null,null,null,null,3,"--",1,null,3,null,0,null,"11:12:00",null,null,{"$f":"$AS$12","v":"Stolwijk E3"},null,null,null,null,null,"--",{"$f":"$AS$7","v":"Stolwijk E2"},null,null,null,null,null,null,3,"--",1,null,3,null,0]
[null,null,null,"11:24:00",null,null,{"$f":"$AE$8","v":"RKDEO E9"},null,null,null,null,null,"--",{"$f":"$AE$6","v":"Schoonhoven E5"},null,null,null,null,null,null,1,"--",1,null,1,null,1,null,"11:24:00",null,null,{"$f":"$AS$8","v":"Cabauw E2"},null,null,null,null,null,"--",{"$f":"$AS$6","v":"Schoonhoven E7"},null,null,null,null,null,null,1,"--",1,null,1,null,1]
["RND3",null,null,"11:36:00",null,null,{"$f":"$AE$13","v":"scVictorie'04 E3"},null,null,null,null,null,"--",{"$f":"$AE$10","v":"Ommoord E3"},null,null,null,null,null,null,1,"--",0,null,3,null,0,null,"11:36:00",null,null,{"$f":"$AS$13","v":"Jodan Boys E8"},null,null,null,null,null,"--",{"$f":"$AS$10","v":"Oudewater E4"},null,null,null,null,null,null,1,"--",0,null,3,null,0]
[null,null,null,"11:48:00",null,null,{"$f":"$AE$9","v":"Be Fair E3"},null,null,null,null,null,"--",{"$f":"$AE$11","v":"De Zwervers E3"},null,null,null,null,null,null,0,"--",2,null,0,null,3,null,"11:48:00",null,null,{"$f":"$AS$9","v":"VFC Vlaardingen E8"},null,null,null,null,null,"--",{"$f":"$AS$11","v":"SVS E4"},null,null,null,null,null,null,0,"--",2,null,0,null,3]
[null,null,null,"12:00:00",null,null,{"$f":"$AE$6","v":"Schoonhoven E5"},null,null,null,null,null,"--",{"$f":"$AE$7","v":"Lekkerkerk E2"},null,null,null,null,null,null,0,"--",1,null,0,null,3,null,"12:00:00",null,null,{"$f":"$AS$6","v":"Schoonhoven E7"},null,null,null,null,null,"--",{"$f":"$AS$7","v":"Stolwijk E2"},null,null,null,null,null,null,0,"--",1,null,0,null,3]
[null,null,null,"12:12:00",null,null,{"$f":"$AE$12","v":"DCV E3"},null,null,null,null,null,"--",{"$f":"$AE$8","v":"RKDEO E9"},null,null,null,null,null,null,1,"--",3,null,0,null,3,null,"12:12:00",null,null,{"$f":"$AS$12","v":"Stolwijk E3"},null,null,null,null,null,"--",{"$f":"$AS$8","v":"Cabauw E2"},null,null,null,null,null,null,1,"--",3,null,0,null,3]
["RND4",null,null,"12:24:00",null,null,{"$f":"$AE$9","v":"Be Fair E3"},null,null,null,null,null,"--",{"$f":"$AE$13","v":"scVictorie'04 E3"},null,null,null,null,null,null,3,"--",3,null,1,null,1,null,"12:24:00",null,null,{"$f":"$AS$9","v":"VFC Vlaardingen E8"},null,null,null,null,null,"--",{"$f":"$AS$13","v":"Jodan Boys E8"},null,null,null,null,null,null,3,"--",3,null,1,null,1]
[null,null,null,"12:36:00",null,null,{"$f":"$AE$6","v":"Schoonhoven E5"},null,null,null,null,null,"--",{"$f":"$AE$12","v":"DCV E3"},null,null,null,null,null,null,2,"--",1,null,3,null,0,null,"12:36:00",null,null,{"$f":"$AS$6","v":"Schoonhoven E7"},null,null,null,null,null,"--",{"$f":"$AS$12","v":"Stolwijk E3"},null,null,null,null,null,null,2,"--",1,null,3,null,0]
[null,null,null,"12:48:00",null,null,{"$f":"$AE$11","v":"De Zwervers E3"},null,null,null,null,null,"--",{"$f":"$AE$7","v":"Lekkerkerk E2"},null,null,null,null,null,null,0,"--",4,null,0,null,3,null,"12:48:00",null,null,{"$f":"$AS$11","v":"SVS E4"},null,null,null,null,null,"--",{"$f":"$AS$7","v":"Stolwijk E2"},null,null,null,null,null,null,0,"--",4,null,0,null,3]
[null,null,null,"13:00:00",null,null,{"$f":"$AE$8","v":"RKDEO E9"},null,null,null,null,null,"--",{"$f":"$AE$10","v":"Ommoord E3"},null,null,null,null,null,null,1,"--",1,null,1,null,1,null,"13:00:00",null,null,{"$f":"$AS$8","v":"Cabauw E2"},null,null,null,null,null,"--",{"$f":"$AS$10","v":"Oudewater E4"},null,null,null,null,null,null,1,"--",1,null,1,null,1]
["RND5",null,null,"13:12:00",null,null,{"$f":"$AE$13","v":"scVictorie'04 E3"},null,null,null,null,null,"--",{"$f":"$AE$6","v":"Schoonhoven E5"},null,null,null,null,null,null,0,"--",0,null,1,null,1,null,"13:12:00",null,null,{"$f":"$AS$13","v":"Jodan Boys E8"},null,null,null,null,null,"--",{"$f":"$AS$6","v":"Schoonhoven E7"},null,null,null,null,null,null,0,"--",0,null,1,null,1]
[null,null,null,"13:24:00",null,null,{"$f":"$AE$7","v":"Lekkerkerk E2"},null,null,null,null,null,"--",{"$f":"$AE$9","v":"Be Fair E3"},null,null,null,null,null,null,1,"--",1,null,1,null,1,null,"13:24:00",null,null,{"$f":"$AS$7","v":"Stolwijk E2"},null,null,null,null,null,"--",{"$f":"$AS$9","v":"VFC Vlaardingen E8"},null,null,null,null,null,null,1,"--",1,null,1,null,1]
[null,null,null,"13:36:00",null,null,{"$f":"$AE$8","v":"RKDEO E9"},null,null,null,null,null,"--",{"$f":"$AE$11","v":"De Zwervers E3"},null,null,null,null,null,null,6,"--",0,null,3,null,0,null,"13:36:00",null,null,{"$f":"$AS$8","v":"Cabauw E2"},null,null,null,null,null,"--",{"$f":"$AS$11","v":"SVS E4"},null,null,null,null,null,null,6,"--",0,null,3,null,0]
[null,null,null,"13:48:00",null,null,{"$f":"$AE$10","v":"Ommoord E3"},null,null,null,null,null,"--",{"$f":"$AE$12","v":"DCV E3"},null,null,null,null,null,null,0,"--",1,null,0,null,3,null,"13:48:00",null,null,{"$f":"$AS$10","v":"Oudewater E4"},null,null,null,null,null,"--",{"$f":"$AS$12","v":"Stolwijk E3"},null,null,null,null,null,null,0,"--",1,null,0,null,3]
["RND6",null,null,"14:00:00",null,null,{"$f":"$AE$11","v":"De Zwervers E3"},null,null,null,null,null,"--",{"$f":"$AE$6","v":"Schoonhoven E5"},null,null,null,null,null,null,1,"--",2,null,0,null,3,null,"14:00:00",null,null,{"$f":"$AS$11","v":"SVS E4"},null,null,null,null,null,"--",{"$f":"$AS$6","v":"Schoonhoven E7"},null,null,null,null,null,null,1,"--",2,null,0,null,3]
[null,null,null,"14:12:00",null,null,{"$f":"$AE$12","v":"DCV E3"},null,null,null,null,null,"--",{"$f":"$AE$9","v":"Be Fair E3"},null,null,null,null,null,null,4,"--",2,null,3,null,0,null,"14:12:00",null,null,{"$f":"$AS$12","v":"Stolwijk E3"},null,null,null,null,null,"--",{"$f":"$AS$9","v":"VFC Vlaardingen E8"},null,null,null,null,null,null,4,"--",2,null,3,null,0]
[null,null,null,"14:24:00",null,null,{"$f":"$AE$13","v":"scVictorie'04 E3"},null,null,null,null,null,"--",{"$f":"$AE$8","v":"RKDEO E9"},null,null,null,null,null,null,3,"--",2,null,3,null,0,null,"14:24:00",null,null,{"$f":"$AS$13","v":"Jodan Boys E8"},null,null,null,null,null,"--",{"$f":"$AS$8","v":"Cabauw E2"},null,null,null,null,null,null,3,"--",2,null,3,null,0]
[null,null,null,"14:36:00",null,null,{"$f":"$AE$10","v":"Ommoord E3"},null,null,null,null,null,"--",{"$f":"$AE$7","v":"Lekkerkerk E2"},null,null,null,null,null,null,1,"--",1,null,1,null,1,null,"14:36:00",null,null,{"$f":"$AS$10","v":"Oudewater E4"},null,null,null,null,null,"--",{"$f":"$AS$7","v":"Stolwijk E2"},null,null,null,null,null,null,1,"--",1,null,1,null,1]
["RND7",null,null,"14:48:00",null,null,{"$f":"$AE$11","v":"De Zwervers E3"},null,null,null,null,null,"--",{"$f":"$AE$12","v":"DCV E3"},null,null,null,null,null,null,1,"--",0,null,3,null,0,null,"14:48:00",null,null,{"$f":"$AS$11","v":"SVS E4"},null,null,null,null,null,"--",{"$f":"$AS$12","v":"Stolwijk E3"},null,null,null,null,null,null,1,"--",0,null,3,null,0]
[null,null,null,"15:00:00",null,null,{"$f":"$AE$7","v":"Lekkerkerk E2"},null,null,null,null,null,"--",{"$f":"$AE$13","v":"scVictorie'04 E3"},null,null,null,null,null,null,3,"--",0,null,3,null,0,null,"15:00:00",null,null,{"$f":"$AS$7","v":"Stolwijk E2"},null,null,null,null,null,"--",{"$f":"$AS$13","v":"Jodan Boys E8"},null,null,null,null,null,null,3,"--",0,null,3,null,0]
[null,null,null,"15:12:00",null,null,{"$f":"$AE$6","v":"Schoonhoven E5"},null,null,null,null,null,"--",{"$f":"$AE$10","v":"Ommoord E3"},null,null,null,null,null,null,0,"--",2,null,0,null,3,null,"15:12:00",null,null,{"$f":"$AS$6","v":"Schoonhoven E7"},null,null,null,null,null,"--",{"$f":"$AS$10","v":"Oudewater E4"},null,null,null,null,null,null,0,"--",2,null,0,null,3]
[null,null,null,"15:24:00",null,null,{"$f":"$AE$9","v":"Be Fair E3"},null,null,null,null,null,"--",{"$f":"$AE$8","v":"RKDEO E9"},null,null,null,null,null,null,1,"--",4,null,0,null,3,null,"15:24:00",null,null,{"$f":"$AS$9","v":"VFC Vlaardingen E8"},null,null,null,null,null,"--",{"$f":"$AS$8","v":"Cabauw E2"},null,null,null,null,null,null,1,"--",4,null,0,null,3]
[]
[]
[]
[null,null,null,"(zie verder op het volgende blad)"]

{"sheet":"GROEP 1","index":1,"n_rows":32,"n_cols":25,"rows_kept":32,"cut":false,"hidden":false,"merged":[[17,16,17,17],[4,15,5,24],[0,14,2,16],[14,16,14,17],[15,16,15,17],[16,16,16,17],[30,0,30,1],[30,2,30,3],[30,5,30,6],[26,0,26,1],[26,2,26,3],[26,5,26,6],[27,0,27,1],[27,2,27,3],[27,5,27,6],[24,0,24,1],[24,2,24,3],[24,5,24,6],[25,0,25,1],[25,2,25,3],[25,5,25,6],[22,0,22,1],[22,2,22,3],[22,5,22,6],[31,0,31,1],[31,2,31,3],[31,5,31,6],[28,0,28,1],[28,2,28,3],[28,5,28,6],[29,0,29,1],[29,2,29,3],[29,5,29,6],[23,0,23,1],[23,2,23,3],[23,5,23,6],[20,0,20,1],[20,2,20,3],[20,5,20,6],[21,0,21,1],[21,2,21,3],[21,5,21,6],[18,0,18,1],[18,2,18,3],[18,5,18,6],[19,0,19,1],[19,2,19,3],[19,5,19,6],[16,0,16,1],[16,2,16,3],[16,5,16,6],[17,0,17,1],[17,2,17,3],[17,5,17,6],[14,0,14,1],[14,2,14,3],[14,5,14,6],[15,0,15,1],[15,2,15,3],[15,5,15,6],[12,0,12,1],[12,2,12,3],[12,5,12,6],[13,0,13,1],[13,2,13,3],[13,5,13,6],[11,0,11,1],[11,2,11,3],[11,5,11,6],[10,16,10,17],[7,21,9,21],[9,2,9,3],[9,5,9,6],[7,19,9,19],[7,20,9,20],[8,0,8,1],[9,0,9,1],[6,2,6,3],[6,5,6,6],[8,2,8,3],[8,5,8,6],[10,0,10,1],[10,2,10,3],[10,5,10,6],[7,22,9,22],[7,23,9,23],[7,24,9,24],[0,0,2,13],[11,16,11,17],[12,16,12,17],[13,16,13,17],[7,15,9,15],[3,0,3,1],[3,2,3,6],[3,7,3,9],[7,2,7,3],[7,5,7,6],[6,0,6,1],[7,0,7,1],[3,11,3,13],[7,16,9,17],[7,18,9,18],[4,0,4,1],[5,0,5,1],[5,2,5,3],[4,2,4,3],[4,5,4,6],[5,5,5,6]]}
["SCHOONHOVEN TOERNOOI\nGROEP 1",null,null,null,null,null,null,null,null,null,null,null,null,null,"SCORES BY:\nOnlineExcelCursus.NL"]
[]
[]
[{"$f":"Poules!$D$15","v":"Tijd"},null,{"$f":"Poules!$G$15","v":"VELD A"},null,null,null,null,{"$f":"Poules!$U$15","v":"Uitslag"},null,null,null,{"$f":"Poules!$Y$15","v":"Punten"}]
[{"$f":"Poules!$D$16","v":"10:00:00"},null,{"$f":"Poules!$G$16","v":"Spirit E1"},null,{"$f":"Poules!$M$16","v":"--"},{"$f":"Poules!$N$16","v":"UNIO E1"},null,{"$f":"Poules!$U$16","v":1},"--",{"$f":"Poules!$W$16","v":2},null,{"$f":"Poules!$Y$16","v":0},null,{"$f":"Poules!$AA$16","v":3},null,"STAND GROEP 1"]
[{"$f":"Poules!$D$17","v":"10:12:00"},null,{"$f":"Poules!$G$17","v":"Haastrecht E1"},null,{"$f":"Poules!$M$17","v":"--"},{"$f":"Poules!$N$17","v":"Alblasserdam E1"},null,{"$f":"Poules!$U$17","v":2},"--",{"$f":"Poules!$W$17","v":1},null,{"$f":"Poules!$Y$17","v":3},null,{"$f":"Poules!$AA$17","v":0}]
[{"$f":"Poules!$D$18","v":"10:24:00"},null,{"$f":"Poules!$G$18","v":"Schoonhoven E1"},null,{"$f":"Poules!$M$18","v":"--"},{"$f":"Poules!$N$18","v":"ONA E1"},null,{"$f":"Poules!$U$18","v":1},"--",{"$f":"Poules!$W$18","v":2},null,{"$f":"Poules!$Y$18","v":0},null,{"$f":"Poules!$AA$18","v":3}]
[{"$f":"Poules!$D$19","v":"10:36:00"},null,{"$f":"Poules!$G$19","v":"Cabauw E1"},null,{"$f":"Poules!$M$19","v":"--"},{"$f":"Poules!$N$19","v":"Jodan Boys E2"},null,{"$f":"Poules!$U$19","v":3},"--",{"$f":"Poules!$W$19","v":1},null,{"$f":"Poules!$Y$19","v":3},null,{"$f":"Poules!$AA$19","v":0},null,{"$f":"Poules!$A$3","v":"Stand"},{"$f":"Poules!$B$5","v":"Groep 1"},null,{"$f":"Poules!$H$5","v":"V"},{"$f":"Poules!$I$5","v":"T"},{"$f":"Poules!$J$5","v":"P"},{"$f":"Poules!$K$3","v":"Gewonnen"},{"$f":"Poules!$L$3","v":"Gelijk"},{"$f":"Poules!$M$3","v":"Verloren"},{"$f":"Poules!$N$3","v":"Saldo"}]
[{"$f":"Poules!$D$20","v":"10:48:00"},null,{"$f":"Poules!$G$20","v":"UNIO E1"},null,{"$f":"Poules!$M$20","v":"--"},{"$f":"Poules!$N$20","v":"Alblasserdam E1"},null,{"$f":"Poules!$U$20","v":1},"--",{"$f":"Poules!$W$20","v":6},null,{"$f":"Poules!$Y$20","v":0},null,{"$f":"Poules!$AA$20","v":3}]
[{"$f":"Poules!$D$21","v":"11:00:00"},null,{"$f":"Poules!$G$21","v":"Spirit E1"},null,{"$f":"Poules!$M$21","v":"--"},{"$f":"Poules!$N$21","v":"ONA E1"},null,{"$f":"Poules!$U$21","v":2},"--",{"$f":"Poules!$W$21","v":2},null,{"$f":"Poules!$Y$21","v":1},null,{"$f":"Poules!$AA$21","v":1}]
[{"$f":"Poules!$D$22","v":"11:12:00"},null,{"$f":"Poules!$G$22","v":"Haastrecht E1"},null,{"$f":"Poules!$M$22","v":"--"},{"$f":"Poules!$N$22","v":"Cabauw E1"},null,{"$f":"Poules!$U$22","v":3},"--",{"$f":"Poules!$W$22","v":1},null,{"$f":"Poules!$Y$22","v":3},null,{"$f":"Poules!$AA$22","v":0},null,{"$f":"Poules!$A$6","v":7},{"$f":"Poules!$B$6","v":"Schoonhoven E1"},null,{"$f":"Poules!$H$6","v":6},{"$f":"Poules!$I$6","v":8},{"$f":"Poules!$J$6","v":7.9980000000000002},{"$f":"Poules!$K$6","v":2},{"$f":"Poules!$L$6","v":2},{"$f":"Poules!$M$6","v":3},{"$f":"Poules!$N$6","v":-2}]
[{"$f":"Poules!$D$23","v":"11:24:00"},null,{"$f":"Poules!$G$23","v":"Jodan Boys E2"},null,{"$f":"Poules!$M$23","v":"--"},{"$f":"Poules!$N$23","v":"Schoonhoven E1"},null,{"$f":"Poules!$U$23","v":1},"--",{"$f":"Poules!$W$23","v":1},null,{"$f":"Poules!$Y$23","v":1},null,{"$f":"Poules!$AA$23","v":1},null,{"$f":"Poules!$A$7","v":1},{"$f":"Poules!$B$7","v":"Cabauw E1"},null,{"$f":"Poules!$H$7","v":14},{"$f":"Poules!$I$7","v":6},{"$f":"Poules!$J$7","v":14.007999999999999},{"$f":"Poules!$K$7","v":4},{"$f":"Poules!$L$7","v":2},{"$f":"Poules!$M$7","v":1},{"$f":"Poules!$N$7","v":8}]
[{"$f":"Poules!$D$24","v":"11:36:00"},null,{"$f":"Poules!$G$24","v":"Alblasserdam E1"},null,{"$f":"Poules!$M$24","v":"--"},{"$f":"Poules!$N$24","v":"Spirit E1"},null,{"$f":"Poules!$U$24","v":1},"--",{"$f":"Poules!$W$24","v":0},null,{"$f":"Poules!$Y$24","v":3},null,{"$f":"Poules!$AA$24","v":0},null,{"$f":"Poules!A8","v":2},{"$f":"Poules!B8","v":"Jodan Boys E2"},null,{"$f":"Poules!H8","v":18},{"$f":"Poules!I8","v":10},{"$f":"Poules!J8","v":11.008000000000001},{"$f":"Poules!K8","v":3},{"$f":"Poules!L8","v":2},{"$f":"Poules!M8","v":2},{"$f":"Poules!N8","v":8}]
[{"$f":"Poules!$D$25","v":"11:48:00"},null,{"$f":"Poules!$G$25","v":"ONA E1"},null,{"$f":"Poules!$M$25","v":"--"},{"$f":"Poules!$N$25","v":"UNIO E1"},null,{"$f":"Poules!$U$25","v":0},"--",{"$f":"Poules!$W$25","v":2},null,{"$f":"Poules!$Y$25","v":0},null,{"$f":"Poules!$AA$25","v":3},null,{"$f":"Poules!A9","v":8},{"$f":"Poules!B9","v":"ONA E1"},null,{"$f":"Poules!H9","v":11},{"$f":"Poules!I9","v":17},{"$f":"Poules!J9","v":5.9939999999999998},{"$f":"Poules!K9","v":1},{"$f":"Poules!L9","v":3},{"$f":"Poules!M9","v":3},{"$f":"Poules!N9","v":-6}]
[{"$f":"Poules!$D$26","v":"12:00:00"},null,{"$f":"Poules!$G$26","v":"Schoonhoven E1"},null,{"$f":"Poules!$M$26","v":"--"},{"$f":"Poules!$N$26","v":"Cabauw E1"},null,{"$f":"Poules!$U$26","v":0},"--",{"$f":"Poules!$W$26","v":1},null,{"$f":"Poules!$Y$26","v":0},null,{"$f":"Poules!$AA$26","v":3},null,{"$f":"Poules!A10","v":4},{"$f":"Poules!B10","v":"Spirit E1"},null,{"$f":"Poules!H10","v":9},{"$f":"Poules!I10","v":8},{"$f":"Poules!J10","v":9.0010000000000012},{"$f":"Poules!K10","v":2},{"$f":"Poules!L10","v":3},{"$f":"Poules!M10","v":2},{"$f":"Poules!N10","v":1}]
[{"$f":"Poules!$D$27","v":"12:12:00"},null,{"$f":"Poules!$G$27","v":"Haastrecht E1"},null,{"$f":"Poules!$M$27","v":"--"},{"$f":"Poules!$N$27","v":"Jodan Boys E2"},null,{"$f":"Poules!$U$27","v":1},"--",{"$f":"Poules!$W$27","v":3},null,{"$f":"Poules!$Y$27","v":0},null,{"$f":"Poules!$AA$27","v":3},null,{"$f":"Poules!A11","v":6},{"$f":"Poules!B11","v":"UNIO E1"},null,{"$f":"Poules!H11","v":7},{"$f":"Poules!I11","v":19},{"$f":"Poules!J11","v":8.9879999999999995},{"$f":"Poules!K11","v":3},{"$f":"Poules!L11","v":0},{"$f":"Poules!M11","v":4},{"$f":"Poules!N11","v":-12}]
[{"$f":"Poules!$D$28","v":"12:24:00"},null,{"$f":"Poules!$G$28","v":"ONA E1"},null,{"$f":"Poules!$M$28","v":"--"},{"$f":"Poules!$N$28","v":"Alblasserdam E1"},null,{"$f":"Poules!$U$28","v":3},"--",{"$f":"Poules!$W$28","v":3},null,{"$f":"Poules!$Y$28","v":1},null,{"$f":"Poules!$AA$28","v":1},null,{"$f":"Poules!A12","v":5},{"$f":"Poules!B12","v":"Haastrecht E1"},null,{"$f":"Poules!H12","v":12},{"$f":"Poules!I12","v":12},{"$f":"Poules!J12","v":9},{"$f":"Poules!K12","v":3},{"$f":"Poules!L12","v":0},{"$f":"Poules!M12","v":4},{"$f":"Poules!N12","v":0}]
[{"$f":"Poules!$D$29","v":"12:36:00"},null,{"$f":"Poules!$G$29","v":"Schoonhoven E1"},null,{"$f":"Poules!$M$29","v":"--"},{"$f":"Poules!$N$29","v":"Haastrecht E1"},null,{"$f":"Poules!$U$29","v":2},"--",{"$f":"Poules!$W$29","v":1},null,{"$f":"Poules!$Y$29","v":3},null,{"$f":"Poules!$AA$29","v":0},null,{"$f":"Poules!A13","v":3},{"$f":"Poules!B13","v":"Alblasserdam E1"},null,{"$f":"Poules!H13","v":14},{"$f":"Poules!I13","v":11},{"$f":"Poules!J13","v":11.003},{"$f":"Poules!K13","v":3},{"$f":"Poules!L13","v":2},{"$f":"Poules!M13","v":2},{"$f":"Poules!N13","v":3}]
[{"$f":"Poules!$D$30","v":"12:48:00"},null,{"$f":"Poules!$G$30","v":"UNIO E1"},null,{"$f":"Poules!$M$30","v":"--"},{"$f":"Poules!$N$30","v":"Cabauw E1"},null,{"$f":"Poules!$U$30","v":0},"--",{"$f":"Poules!$W$30","v":4},null,{"$f":"Poules!$Y$30","v":0},null,{"$f":"Poules!$AA$30","v":3}]
[{"$f":"Poules!$D$31","v":"13:00:00"},null,{"$f":"Poules!$G$31","v":"Jodan Boys E2"},null,{"$f":"Poules!$M$31","v":"--"},{"$f":"Poules!$N$31","v":"Spirit E1"},null,{"$f":"Poules!$U$31","v":1},"--",{"$f":"Poules!$W$31","v":1},null,{"$f":"Poules!$Y$31","v":1},null,{"$f":"Poules!$AA$31","v":1}]
[{"$f":"Poules!$D$32","v":"13:12:00"},null,{"$f":"Poules!$G$32","v":"Alblasserdam E1"},null,{"$f":"Poules!$M$32","v":"--"},{"$f":"Poules!$N$32","v":"Schoonhoven E1"},null,{"$f":"Poules!$U$32","v":0},"--",{"$f":"Poules!$W$32","v":0},null,{"$f":"Poules!$Y$32","v":1},null,{"$f":"Poules!$AA$32","v":1}]
[{"$f":"Poules!$D$33","v":"13:24:00"},null,{"$f":"Poules!$G$33","v":"Cabauw E1"},null,{"$f":"Poules!$M$33","v":"--"},{"$f":"Poules!$N$33","v":"ONA E1"},null,{"$f":"Poules!$U$33","v":1},"--",{"$f":"Poules!$W$33","v":1},null,{"$f":"Poules!$Y$33","v":1},null,{"$f":"Poules!$AA$33","v":1}]
[{"$f":"Poules!$D$34","v":"13:36:00"},null,{"$f":"Poules!$G$34","v":"Jodan Boys E2"},null,{"$f":"Poules!$M$34","v":"--"},{"$f":"Poules!$N$34","v":"UNIO E1"},null,{"$f":"Poules!$U$34","v":6},"--",{"$f":"Poules!$W$34","v":0},null,{"$f":"Poules!$Y$34","v":3},null,{"$f":"Poules!$AA$34","v":0}]
[{"$f":"Poules!$D$35","v":"13:48:00"},null,{"$f":"Poules!$G$35","v":"Spirit E1"},null,{"$f":"Poules!$M$35","v":"--"},{"$f":"Poules!$N$35","v":"Haastrecht E1"},null,{"$f":"Poules!$U$35","v":2},"--",{"$f":"Poules!$W$35","v":1},null,{"$f":"Poules!$Y$35","v":3},null,{"$f":"Poules!$AA$35","v":0}]
[{"$f":"Poules!$D$36","v":"14:00:00"},null,{"$f":"Poules!$G$36","v":"UNIO E1"},null,{"$f":"Poules!$M$36","v":"--"},{"$f":"Poules!$N$36","v":"Schoonhoven E1"},null,{"$f":"Poules!$U$36","v":1},"--",{"$f":"Poules!$W$36","v":2},null,{"$f":"Poules!$Y$36","v":0},null,{"$f":"Poules!$AA$36","v":3}]
[{"$f":"Poules!$D$37","v":"14:12:00"},null,{"$f":"Poules!$G$37","v":"Haastrecht E1"},null,{"$f":"Poules!$M$37","v":"--"},{"$f":"Poules!$N$37","v":"ONA E1"},null,{"$f":"Poules!$U$37","v":4},"--",{"$f":"Poules!$W$37","v":2},null,{"$f":"Poules!$Y$37","v":3},null,{"$f":"Poules!$AA$37","v":0}]
[{"$f":"Poules!$D$38","v":"14:24:00"},null,{"$f":"Poules!$G$38","v":"Alblasserdam E1"},null,{"$f":"Poules!$M$38","v":"--"},{"$f":"Poules!$N$38","v":"Jodan Boys E2"},null,{"$f":"Poules!$U$38","v":3},"--",{"$f":"Poules!$W$38","v":2},null,{"$f":"Poules!$Y$38","v":3},null,{"$f":"Poules!$AA$38","v":0}]
[{"$f":"Poules!$D$39","v":"14:36:00"},null,{"$f":"Poules!$G$39","v":"Spirit E1"},null,{"$f":"Poules!$M$39","v":"--"},{"$f":"Poules!$N$39","v":"Cabauw E1"},null,{"$f":"Poules!$U$39","v":1},"--",{"$f":"Poules!$W$39","v":1},null,{"$f":"Poules!$Y$39","v":1},null,{"$f":"Poules!$AA$39","v":1}]
[{"$f":"Poules!$D$40","v":"14:48:00"},null,{"$f":"Poules!$G$40","v":"UNIO E1"},null,{"$f":"Poules!$M$40","v":"--"},{"$f":"Poules!$N$40","v":"Haastrecht E1"},null,{"$f":"Poules!$U$40","v":1},"--",{"$f":"Poules!$W$40","v":0},null,{"$f":"Poules!$Y$40","v":3},null,{"$f":"Poules!$AA$40","v":0}]
[{"$f":"Poules!$D$41","v":"15:00:00"},null,{"$f":"Poules!$G$41","v":"Cabauw E1"},null,{"$f":"Poules!$M$41","v":"--"},{"$f":"Poules!$N$41","v":"Alblasserdam E1"},null,{"$f":"Poules!$U$41","v":3},"--",{"$f":"Poules!$W$41","v":0},null,{"$f":"Poules!$Y$41","v":3},null,{"$f":"Poules!$AA$41","v":0}]
[{"$f":"Poules!$D$42","v":"15:12:00"},null,{"$f":"Poules!$G$42","v":"Schoonhoven E1"},null,{"$f":"Poules!$M$42","v":"--"},{"$f":"Poules!$N$42","v":"Spirit E1"},null,{"$f":"Poules!$U$42","v":0},"--",{"$f":"Poules!$W$42","v":2},null,{"$f":"Poules!$Y$42","v":0},null,{"$f":"Poules!$AA$42","v":3}]
[{"$f":"Poules!$D$43","v":"15:24:00"},null,{"$f":"Poules!$G$43","v":"ONA E1"},null,{"$f":"Poules!$M$43","v":"--"},{"$f":"Poules!$N$43","v":"Jodan Boys E2"},null,{"$f":"Poules!$U$43","v":1},"--",{"$f":"Poules!$W$43","v":4},null,{"$f":"Poules!$Y$43","v":0},null,{"$f":"Poules!$AA$43","v":3}]

{"sheet":"GROEP 2","index":2,"n_rows":32,"n_cols":23,"rows_kept":32,"cut":false,"hidden":false,"merged":[[17,14,17,15],[4,13,5,22],[0,12,2,14],[14,14,14,15],[15,14,15,15],[13,14,13,15],[27,0,27,1],[28,0,28,1],[29,0,29,1],[30,0,30,1],[31,0,31,1],[22,0,22,1],[23,0,23,1],[24,0,24,1],[25,0,25,1],[26,0,26,1],[17,0,17,1],[18,0,18,1],[19,0,19,1],[20,0,20,1],[21,0,21,1],[7,0,7,1],[8,0,8,1],[7,22,9,22],[4,0,4,1],[5,0,5,1],[7,13,9,13],[7,14,9,15],[7,16,9,16],[9,0,9,1],[6,0,6,1],[7,19,9,19],[7,20,9,20],[7,21,9,21],[7,18,9,18],[7,17,9,17],[15,0,15,1],[16,0,16,1],[10,14,10,15],[11,14,11,15],[12,14,12,15],[10,0,10,1],[11,0,11,1],[12,0,12,1],[13,0,13,1],[14,0,14,1],[16,14,16,15],[0,0,2,11],[3,5,3,7],[3,9,3,11],[3,0,3,1],[3,2,3,4]]}
["SCHOONHOVEN TOERNOOI\nGROEP 2",null,null,null,null,null,null,null,null,null,null,null,"SCORES BY:\nOnlineExcelCursus.NL"]
[]
[]
[{"$f":"Poules!$AC$15","v":"Tijd"},null,{"$f":"Poules!$AF$15","v":"VELD B"},null,null,{"$f":"Poules!$AT$15","v":"Uitslag"},null,null,null,{"$f":"Poules!$AX$15","v":"Punten"}]
[{"$f":"Poules!$AC$16","v":"10:00:00"},null,{"$f":"Poules!$AF$16","v":"VEP E2"},"--",{"$f":"Poules!$AM$16","v":"Stolwijk E2"},{"$f":"Poules!$AT$16","v":1},"--",{"$f":"Poules!$AV$16","v":2},null,{"$f":"Poules!$AX$16","v":0},null,{"$f":"Poules!$AZ$16","v":3},null,"STAND GROEP 2"]
[{"$f":"Poules!$AC$17","v":"10:12:00"},null,{"$f":"Poules!$AF$17","v":"Lekkerkerk E2"},"--",{"$f":"Poules!$AM$17","v":"VV GZ E3"},{"$f":"Poules!$AT$17","v":2},"--",{"$f":"Poules!$AV$17","v":1},null,{"$f":"Poules!$AX$17","v":3},null,{"$f":"Poules!$AZ$17","v":0}]
[{"$f":"Poules!$AC$18","v":"10:24:00"},null,{"$f":"Poules!$AF$18","v":"Schoonhoven E3"},"--",{"$f":"Poules!$AM$18","v":"Bergambacht E2"},{"$f":"Poules!$AT$18","v":1},"--",{"$f":"Poules!$AV$18","v":2},null,{"$f":"Poules!$AX$18","v":0},null,{"$f":"Poules!$AZ$18","v":3}]
[{"$f":"Poules!$AC$19","v":"10:36:00"},null,{"$f":"Poules!$AF$19","v":"Cabauw E2"},"--",{"$f":"Poules!$AM$19","v":"RKDEO E3"},{"$f":"Poules!$AT$19","v":3},"--",{"$f":"Poules!$AV$19","v":1},null,{"$f":"Poules!$AX$19","v":3},null,{"$f":"Poules!$AZ$19","v":0},null,{"$f":"Poules!$O$3","v":"Stand"},{"$f":"Poules!$P$5","v":"Groep 2"},null,{"$f":"Poules!$W$5","v":"V"},{"$f":"Poules!$X$5","v":"T"},{"$f":"Poules!$Y$5","v":"P"},{"$f":"Poules!$Z$3","v":"Gewonnen"},{"$f":"Poules!$AA$3","v":"Gelijk"},{"$f":"Poules!$AB$3","v":"Verloren"},{"$f":"Poules!$AC$3","v":"Saldo"}]
[{"$f":"Poules!$AC$20","v":"10:48:00"},null,{"$f":"Poules!$AF$20","v":"Stolwijk E2"},"--",{"$f":"Poules!$AM$20","v":"VV GZ E3"},{"$f":"Poules!$AT$20","v":1},"--",{"$f":"Poules!$AV$20","v":6},null,{"$f":"Poules!$AX$20","v":0},null,{"$f":"Poules!$AZ$20","v":3}]
[{"$f":"Poules!$AC$21","v":"11:00:00"},null,{"$f":"Poules!$AF$21","v":"VEP E2"},"--",{"$f":"Poules!$AM$21","v":"Bergambacht E2"},{"$f":"Poules!$AT$21","v":2},"--",{"$f":"Poules!$AV$21","v":2},null,{"$f":"Poules!$AX$21","v":1},null,{"$f":"Poules!$AZ$21","v":1}]
[{"$f":"Poules!$AC$22","v":"11:12:00"},null,{"$f":"Poules!$AF$22","v":"Lekkerkerk E2"},"--",{"$f":"Poules!$AM$22","v":"Cabauw E2"},{"$f":"Poules!$AT$22","v":3},"--",{"$f":"Poules!$AV$22","v":1},null,{"$f":"Poules!$AX$22","v":3},null,{"$f":"Poules!$AZ$22","v":0},null,{"$f":"Poules!$O$6","v":6},{"$f":"Poules!$P$6","v":"Schoonhoven E3"},null,{"$f":"Poules!$W$6","v":6},{"$f":"Poules!$X$6","v":8},{"$f":"Poules!$Y$6","v":7.9980000000000002},{"$f":"Poules!$Z$6","v":2},{"$f":"Poules!$AA$6","v":2},{"$f":"Poules!$AB$6","v":3},{"$f":"Poules!$AC$6","v":-2}]
[{"$f":"Poules!$AC$23","v":"11:24:00"},null,{"$f":"Poules!$AF$23","v":"RKDEO E3"},"--",{"$f":"Poules!$AM$23","v":"Schoonhoven E3"},{"$f":"Poules!$AT$23","v":1},"--",{"$f":"Poules!$AV$23","v":1},null,{"$f":"Poules!$AX$23","v":1},null,{"$f":"Poules!$AZ$23","v":1},null,{"$f":"Poules!$O$7","v":1},{"$f":"Poules!$P$7","v":"Cabauw E2"},null,{"$f":"Poules!$W$7","v":14},{"$f":"Poules!$X$7","v":6},{"$f":"Poules!$Y$7","v":14.007999999999999},{"$f":"Poules!$Z$7","v":4},{"$f":"Poules!$AA$7","v":2},{"$f":"Poules!$AB$7","v":1},{"$f":"Poules!$AC$7","v":8}]
[{"$f":"Poules!$AC$24","v":"11:36:00"},null,{"$f":"Poules!$AF$24","v":"VV GZ E3"},"--",{"$f":"Poules!$AM$24","v":"VEP E2"},{"$f":"Poules!$AT$24","v":1},"--",{"$f":"Poules!$AV$24","v":0},null,{"$f":"Poules!$AX$24","v":3},null,{"$f":"Poules!$AZ$24","v":0},null,{"$f":"Poules!O8","v":3},{"$f":"Poules!P8","v":"RKDEO E3"},null,{"$f":"Poules!W8","v":18},{"$f":"Poules!X8","v":10},{"$f":"Poules!Y8","v":11.008000000000001},{"$f":"Poules!Z8","v":3},{"$f":"Poules!AA8","v":2},{"$f":"Poules!AB8","v":2},{"$f":"Poules!AC8","v":8}]
[{"$f":"Poules!$AC$25","v":"11:48:00"},null,{"$f":"Poules!$AF$25","v":"Bergambacht E2"},"--",{"$f":"Poules!$AM$25","v":"Stolwijk E2"},{"$f":"Poules!$AT$25","v":0},"--",{"$f":"Poules!$AV$25","v":2},null,{"$f":"Poules!$AX$25","v":0},null,{"$f":"Poules!$AZ$25","v":3},null,{"$f":"Poules!O9","v":8},{"$f":"Poules!P9","v":"Bergambacht E2"},null,{"$f":"Poules!W9","v":11},{"$f":"Poules!X9","v":17},{"$f":"Poules!Y9","v":5.9939999999999998},{"$f":"Poules!Z9","v":1},{"$f":"Poules!AA9","v":3},{"$f":"Poules!AB9","v":3},{"$f":"Poules!AC9","v":-6}]
[{"$f":"Poules!$AC$26","v":"12:00:00"},null,{"$f":"Poules!$AF$26","v":"Schoonhoven E3"},"--",{"$f":"Poules!$AM$26","v":"Cabauw E2"},{"$f":"Poules!$AT$26","v":0},"--",{"$f":"Poules!$AV$26","v":1},null,{"$f":"Poules!$AX$26","v":0},null,{"$f":"Poules!$AZ$26","v":3},null,{"$f":"Poules!O10","v":7},{"$f":"Poules!P10","v":"VEP E2"},null,{"$f":"Poules!W10","v":7},{"$f":"Poules!X10","v":8},{"$f":"Poules!Y10","v":5.9989999999999997},{"$f":"Poules!Z10","v":1},{"$f":"Poules!AA10","v":3},{"$f":"Poules!AB10","v":3},{"$f":"Poules!AC10","v":-1}]
[{"$f":"Poules!$AC$27","v":"12:12:00"},null,{"$f":"Poules!$AF$27","v":"Lekkerkerk E2"},"--",{"$f":"Poules!$AM$27","v":"RKDEO E3"},{"$f":"Poules!$AT$27","v":1},"--",{"$f":"Poules!$AV$27","v":3},null,{"$f":"Poules!$AX$27","v":0},null,{"$f":"Poules!$AZ$27","v":3},null,{"$f":"Poules!O11","v":5},{"$f":"Poules!P11","v":"Stolwijk E2"},null,{"$f":"Poules!W11","v":7},{"$f":"Poules!X11","v":19},{"$f":"Poules!Y11","v":8.9879999999999995},{"$f":"Poules!Z11","v":3},{"$f":"Poules!AA11","v":0},{"$f":"Poules!AB11","v":4},{"$f":"Poules!AC11","v":-12}]
[{"$f":"Poules!$AC$28","v":"12:24:00"},null,{"$f":"Poules!$AF$28","v":"Bergambacht E2"},"--",{"$f":"Poules!$AM$28","v":"VV GZ E3"},{"$f":"Poules!$AT$28","v":3},"--",{"$f":"Poules!$AV$28","v":3},null,{"$f":"Poules!$AX$28","v":1},null,{"$f":"Poules!$AZ$28","v":1},null,{"$f":"Poules!O12","v":2},{"$f":"Poules!P12","v":"Lekkerkerk E2"},null,{"$f":"Poules!W12","v":12},{"$f":"Poules!X12","v":10},{"$f":"Poules!Y12","v":12.002000000000001},{"$f":"Poules!Z12","v":4},{"$f":"Poules!AA12","v":0},{"$f":"Poules!AB12","v":3},{"$f":"Poules!AC12","v":2}]
[{"$f":"Poules!$AC$29","v":"12:36:00"},null,{"$f":"Poules!$AF$29","v":"Schoonhoven E3"},"--",{"$f":"Poules!$AM$29","v":"Lekkerkerk E2"},{"$f":"Poules!$AT$29","v":2},"--",{"$f":"Poules!$AV$29","v":1},null,{"$f":"Poules!$AX$29","v":3},null,{"$f":"Poules!$AZ$29","v":0},null,{"$f":"Poules!O13","v":4},{"$f":"Poules!P13","v":"VV GZ E3"},null,{"$f":"Poules!W13","v":14},{"$f":"Poules!X13","v":11},{"$f":"Poules!Y13","v":11.003},{"$f":"Poules!Z13","v":3},{"$f":"Poules!AA13","v":2},{"$f":"Poules!AB13","v":2},{"$f":"Poules!AC13","v":3}]
[{"$f":"Poules!$AC$30","v":"12:48:00"},null,{"$f":"Poules!$AF$30","v":"Stolwijk E2"},"--",{"$f":"Poules!$AM$30","v":"Cabauw E2"},{"$f":"Poules!$AT$30","v":0},"--",{"$f":"Poules!$AV$30","v":4},null,{"$f":"Poules!$AX$30","v":0},null,{"$f":"Poules!$AZ$30","v":3}]
[{"$f":"Poules!$AC$31","v":"13:00:00"},null,{"$f":"Poules!$AF$31","v":"RKDEO E3"},"--",{"$f":"Poules!$AM$31","v":"VEP E2"},{"$f":"Poules!$AT$31","v":1},"--",{"$f":"Poules!$AV$31","v":1},null,{"$f":"Poules!$AX$31","v":1},null,{"$f":"Poules!$AZ$31","v":1}]
[{"$f":"Poules!$AC$32","v":"13:12:00"},null,{"$f":"Poules!$AF$32","v":"VV GZ E3"},"--",{"$f":"Poules!$AM$32","v":"Schoonhoven E3"},{"$f":"Poules!$AT$32","v":0},"--",{"$f":"Poules!$AV$32","v":0},null,{"$f":"Poules!$AX$32","v":1},null,{"$f":"Poules!$AZ$32","v":1}]
[{"$f":"Poules!$AC$33","v":"13:24:00"},null,{"$f":"Poules!$AF$33","v":"Cabauw E2"},"--",{"$f":"Poules!$AM$33","v":"Bergambacht E2"},{"$f":"Poules!$AT$33","v":1},"--",{"$f":"Poules!$AV$33","v":1},null,{"$f":"Poules!$AX$33","v":1},null,{"$f":"Poules!$AZ$33","v":1}]
[{"$f":"Poules!$AC$34","v":"13:36:00"},null,{"$f":"Poules!$AF$34","v":"RKDEO E3"},"--",{"$f":"Poules!$AM$34","v":"Stolwijk E2"},{"$f":"Poules!$AT$34","v":6},"--",{"$f":"Poules!$AV$34","v":0},null,{"$f":"Poules!$AX$34","v":3},null,{"$f":"Poules!$AZ$34","v":0}]
[{"$f":"Poules!$AC$35","v":"13:48:00"},null,{"$f":"Poules!$AF$35","v":"VEP E2"},"--",{"$f":"Poules!$AM$35","v":"Lekkerkerk E2"},{"$f":"Poules!$AT$35","v":0},"--",{"$f":"Poules!$AV$35","v":1},null,{"$f":"Poules!$AX$35","v":0},null,{"$f":"Poules!$AZ$35","v":3}]
[{"$f":"Poules!$AC$36","v":"14:00:00"},null,{"$f":"Poules!$AF$36","v":"Stolwijk E2"},"--",{"$f":"Poules!$AM$36","v":"Schoonhoven E3"},{"$f":"Poules!$AT$36","v":1},"--",{"$f":"Poules!$AV$36","v":2},null,{"$f":"Poules!$AX$36","v":0},null,{"$f":"Poules!$AZ$36","v":3}]
[{"$f":"Poules!$AC$37","v":"14:12:00"},null,{"$f":"Poules!$AF$37","v":"Lekkerkerk E2"},"--",{"$f":"Poules!$AM$37","v":"Bergambacht E2"},{"$f":"Poules!$AT$37","v":4},"--",{"$f":"Poules!$AV$37","v":2},null,{"$f":"Poules!$AX$37","v":3},null,{"$f":"Poules!$AZ$37","v":0}]
[{"$f":"Poules!$AC$38","v":"14:24:00"},null,{"$f":"Poules!$AF$38","v":"VV GZ E3"},"--",{"$f":"Poules!$AM$38","v":"RKDEO E3"},{"$f":"Poules!$AT$38","v":3},"--",{"$f":"Poules!$AV$38","v":2},null,{"$f":"Poules!$AX$38","v":3},null,{"$f":"Poules!$AZ$38","v":0}]
[{"$f":"Poules!$AC$39","v":"14:36:00"},null,{"$f":"Poules!$AF$39","v":"VEP E2"},"--",{"$f":"Poules!$AM$39","v":"Cabauw E2"},{"$f":"Poules!$AT$39","v":1},"--",{"$f":"Poules!$AV$39","v":1},null,{"$f":"Poules!$AX$39","v":1},null,{"$f":"Poules!$AZ$39","v":1}]
[{"$f":"Poules!$AC$40","v":"14:48:00"},null,{"$f":"Poules!$AF$40","v":"Stolwijk E2"},"--",{"$f":"Poules!$AM$40","v":"Lekkerkerk E2"},{"$f":"Poules!$AT$40","v":1},"--",{"$f":"Poules!$AV$40","v":0},null,{"$f":"Poules!$AX$40","v":3},null,{"$f":"Poules!$AZ$40","v":0}]
[{"$f":"Poules!$AC$41","v":"15:00:00"},null,{"$f":"Poules!$AF$41","v":"Cabauw E2"},"--",{"$f":"Poules!$AM$41","v":"VV GZ E3"},{"$f":"Poules!$AT$41","v":3},"--",{"$f":"Poules!$AV$41","v":0},null,{"$f":"Poules!$AX$41","v":3},null,{"$f":"Poules!$AZ$41","v":0}]
[{"$f":"Poules!$AC$42","v":"15:12:00"},null,{"$f":"Poules!$AF$42","v":"Schoonhoven E3"},"--",{"$f":"Poules!$AM$42","v":"VEP E2"},{"$f":"Poules!$AT$42","v":0},"--",{"$f":"Poules!$AV$42","v":2},null,{"$f":"Poules!$AX$42","v":0},null,{"$f":"Poules!$AZ$42","v":3}]
[{"$f":"Poules!$AC$43","v":"15:24:00"},null,{"$f":"Poules!$AF$43","v":"Bergambacht E2"},"--",{"$f":"Poules!$AM$43","v":"RKDEO E3"},{"$f":"Poules!$AT$43","v":1},"--",{"$f":"Poules!$AV$43","v":4},null,{"$f":"Poules!$AX$43","v":0},null,{"$f":"Poules!$AZ$43","v":3}]

{"sheet":"GROEP 3","index":3,"n_rows":32,"n_cols":23,"rows_kept":32,"cut":false,"hidden":false,"merged":[[7,16,9,16],[7,17,9,17],[7,18,9,18],[14,14,14,15],[15,14,15,15],[16,14,16,15],[12,14,12,15],[13,14,13,15],[17,14,17,15],[27,0,27,1],[28,0,28,1],[29,0,29,1],[30,0,30,1],[17,0,17,1],[18,0,18,1],[19,0,19,1],[20,0,20,1],[21,0,21,1],[31,0,31,1],[22,0,22,1],[23,0,23,1],[24,0,24,1],[25,0,25,1],[26,0,26,1],[11,14,11,15],[7,14,9,15],[8,0,8,1],[10,0,10,1],[11,0,11,1],[10,14,10,15],[7,13,9,13],[12,0,12,1],[13,0,13,1],[14,0,14,1],[15,0,15,1],[16,0,16,1],[0,0,2,11],[7,21,9,21],[7,22,9,22],[9,0,9,1],[7,0,7,1],[3,9,3,11],[4,0,4,1],[3,0,3,1],[3,5,3,7],[3,2,3,4],[5,0,5,1],[6,0,6,1],[4,13,5,22],[0,12,2,14],[7,19,9,19],[7,20,9,20]]}
["SCHOONHOVEN TOERNOOI\nGROEP 3",null,null,null,null,null,null,null,null,null,null,null,"SCORES BY:\nOnlineExcelCursus.NL"]
[]
[]
[{"$f":"Poules!$D$45","v":"Tijd"},null,{"$f":"Poules!$G$45","v":"VELD C"},null,null,{"$f":"Poules!$U$45","v":"Uitslag"},null,null,null,{"$f":"Poules!$Y$45","v":"Punten"}]
[{"$f":"Poules!$D$46","v":"10:00:00"},null,{"$f":"Poules!$G$46","v":"Ommoord E3"},"--",{"$f":"Poules!$N$46","v":"De Zwervers E3"},{"$f":"Poules!$U$46","v":1},"--",{"$f":"Poules!$W$46","v":2},null,{"$f":"Poules!$Y$46","v":0},null,{"$f":"Poules!$AA$46","v":3},null,"STAND GROEP 3"]
[{"$f":"Poules!$D$47","v":"10:12:00"},null,{"$f":"Poules!$G$47","v":"DCV E3"},"--",{"$f":"Poules!$N$47","v":"scVictorie'04 E3"},{"$f":"Poules!$U$47","v":2},"--",{"$f":"Poules!$W$47","v":1},null,{"$f":"Poules!$Y$47","v":3},null,{"$f":"Poules!$AA$47","v":0}]
[{"$f":"Poules!$D$48","v":"10:24:00"},null,{"$f":"Poules!$G$48","v":"Schoonhoven E5"},"--",{"$f":"Poules!$N$48","v":"Be Fair E3"},{"$f":"Poules!$U$48","v":1},"--",{"$f":"Poules!$W$48","v":2},null,{"$f":"Poules!$Y$48","v":0},null,{"$f":"Poules!$AA$48","v":3}]
[{"$f":"Poules!$D$49","v":"10:36:00"},null,{"$f":"Poules!$G$49","v":"Lekkerkerk E2"},"--",{"$f":"Poules!$N$49","v":"RKDEO E9"},{"$f":"Poules!$U$49","v":3},"--",{"$f":"Poules!$W$49","v":1},null,{"$f":"Poules!$Y$49","v":3},null,{"$f":"Poules!$AA$49","v":0},null,{"$f":"Poules!$AD$3","v":"Stand"},{"$f":"Poules!$AE$5","v":"Groep 3"},null,{"$f":"Poules!$AK$5","v":"V"},{"$f":"Poules!$AL$5","v":"T"},{"$f":"Poules!$AM$5","v":"P"},{"$f":"Poules!$AN$3","v":"Gewonnen"},{"$f":"Poules!$AO$3","v":"Gelijk"},{"$f":"Poules!$AP$3","v":"Verloren"},{"$f":"Poules!$AQ$3","v":"Saldo"}]
[{"$f":"Poules!$D$50","v":"10:48:00"},null,{"$f":"Poules!$G$50","v":"De Zwervers E3"},"--",{"$f":"Poules!$N$50","v":"scVictorie'04 E3"},{"$f":"Poules!$U$50","v":1},"--",{"$f":"Poules!$W$50","v":6},null,{"$f":"Poules!$Y$50","v":0},null,{"$f":"Poules!$AA$50","v":3}]
[{"$f":"Poules!$D$51","v":"11:00:00"},null,{"$f":"Poules!$G$51","v":"Ommoord E3"},"--",{"$f":"Poules!$N$51","v":"Be Fair E3"},{"$f":"Poules!$U$51","v":2},"--",{"$f":"Poules!$W$51","v":2},null,{"$f":"Poules!$Y$51","v":1},null,{"$f":"Poules!$AA$51","v":1}]
[{"$f":"Poules!$D$52","v":"11:12:00"},null,{"$f":"Poules!$G$52","v":"DCV E3"},"--",{"$f":"Poules!$N$52","v":"Lekkerkerk E2"},{"$f":"Poules!$U$52","v":3},"--",{"$f":"Poules!$W$52","v":1},null,{"$f":"Poules!$Y$52","v":3},null,{"$f":"Poules!$AA$52","v":0},null,{"$f":"Poules!$AD$6","v":3},{"$f":"Poules!$AE$6","v":"Schoonhoven E5"},null,{"$f":"Poules!$AK$6","v":4},{"$f":"Poules!$AL$6","v":5},{"$f":"Poules!$AM$6","v":6.9989999999999997},{"$f":"Poules!$AN$6","v":2},{"$f":"Poules!$AO$6","v":1},{"$f":"Poules!$AP$6","v":2},{"$f":"Poules!$AQ$6","v":-1}]
[{"$f":"Poules!$D$53","v":"11:24:00"},null,{"$f":"Poules!$G$53","v":"RKDEO E9"},"--",{"$f":"Poules!$N$53","v":"Schoonhoven E5"},{"$f":"Poules!$U$53","v":1},"--",{"$f":"Poules!$W$53","v":1},null,{"$f":"Poules!$Y$53","v":1},null,{"$f":"Poules!$AA$53","v":1},null,{"$f":"Poules!$AD$7","v":1},{"$f":"Poules!$AE$7","v":"Lekkerkerk E2"},null,{"$f":"Poules!$AK$7","v":10},{"$f":"Poules!$AL$7","v":2},{"$f":"Poules!$AM$7","v":11.007999999999999},{"$f":"Poules!$AN$7","v":3},{"$f":"Poules!$AO$7","v":2},{"$f":"Poules!$AP$7","v":0},{"$f":"Poules!$AQ$7","v":8}]
[{"$f":"Poules!$D$54","v":"11:36:00"},null,{"$f":"Poules!$G$54","v":"scVictorie'04 E3"},"--",{"$f":"Poules!$N$54","v":"Ommoord E3"},{"$f":"Poules!$U$54","v":1},"--",{"$f":"Poules!$W$54","v":0},null,{"$f":"Poules!$Y$54","v":3},null,{"$f":"Poules!$AA$54","v":0},null,{"$f":"Poules!AD8","v":2},{"$f":"Poules!AE8","v":"RKDEO E9"},null,{"$f":"Poules!AK8","v":16},{"$f":"Poules!AL8","v":6},{"$f":"Poules!AM8","v":10.01},{"$f":"Poules!AN8","v":3},{"$f":"Poules!AO8","v":1},{"$f":"Poules!AP8","v":1},{"$f":"Poules!AQ8","v":10}]
[{"$f":"Poules!$D$55","v":"11:48:00"},null,{"$f":"Poules!$G$55","v":"Be Fair E3"},"--",{"$f":"Poules!$N$55","v":"De Zwervers E3"},{"$f":"Poules!$U$55","v":0},"--",{"$f":"Poules!$W$55","v":2},null,{"$f":"Poules!$Y$55","v":0},null,{"$f":"Poules!$AA$55","v":3},null,{"$f":"Poules!AD9","v":8},{"$f":"Poules!AE9","v":"Be Fair E3"},null,{"$f":"Poules!AK9","v":7},{"$f":"Poules!AL9","v":14},{"$f":"Poules!AM9","v":1.9930000000000001},{"$f":"Poules!AN9","v":0},{"$f":"Poules!AO9","v":2},{"$f":"Poules!AP9","v":3},{"$f":"Poules!AQ9","v":-7}]
[{"$f":"Poules!$D$56","v":"12:00:00"},null,{"$f":"Poules!$G$56","v":"Schoonhoven E5"},"--",{"$f":"Poules!$N$56","v":"Lekkerkerk E2"},{"$f":"Poules!$U$56","v":0},"--",{"$f":"Poules!$W$56","v":1},null,{"$f":"Poules!$Y$56","v":0},null,{"$f":"Poules!$AA$56","v":3},null,{"$f":"Poules!AD10","v":6},{"$f":"Poules!AE10","v":"Ommoord E3"},null,{"$f":"Poules!AK10","v":4},{"$f":"Poules!AL10","v":3},{"$f":"Poules!AM10","v":5.0009999999999994},{"$f":"Poules!AN10","v":1},{"$f":"Poules!AO10","v":2},{"$f":"Poules!AP10","v":1},{"$f":"Poules!AQ10","v":1}]
[{"$f":"Poules!$D$57","v":"12:12:00"},null,{"$f":"Poules!$G$57","v":"DCV E3"},"--",{"$f":"Poules!$N$57","v":"RKDEO E9"},{"$f":"Poules!$U$57","v":1},"--",{"$f":"Poules!$W$57","v":3},null,{"$f":"Poules!$Y$57","v":0},null,{"$f":"Poules!$AA$57","v":3},null,{"$f":"Poules!AD11","v":5},{"$f":"Poules!AE11","v":"De Zwervers E3"},null,{"$f":"Poules!AK11","v":4},{"$f":"Poules!AL11","v":12},{"$f":"Poules!AM11","v":5.992},{"$f":"Poules!AN11","v":2},{"$f":"Poules!AO11","v":0},{"$f":"Poules!AP11","v":3},{"$f":"Poules!AQ11","v":-8}]
[{"$f":"Poules!$D$58","v":"12:24:00"},null,{"$f":"Poules!$G$58","v":"Be Fair E3"},"--",{"$f":"Poules!$N$58","v":"scVictorie'04 E3"},{"$f":"Poules!$U$58","v":3},"--",{"$f":"Poules!$W$58","v":3},null,{"$f":"Poules!$Y$58","v":1},null,{"$f":"Poules!$AA$58","v":1},null,{"$f":"Poules!AD12","v":4},{"$f":"Poules!AE12","v":"DCV E3"},null,{"$f":"Poules!AK12","v":7},{"$f":"Poules!AL12","v":8},{"$f":"Poules!AM12","v":5.9989999999999997},{"$f":"Poules!AN12","v":2},{"$f":"Poules!AO12","v":0},{"$f":"Poules!AP12","v":3},{"$f":"Poules!AQ12","v":-1}]
[{"$f":"Poules!$D$59","v":"12:36:00"},null,{"$f":"Poules!$G$59","v":"Schoonhoven E5"},"--",{"$f":"Poules!$N$59","v":"DCV E3"},{"$f":"Poules!$U$59","v":2},"--",{"$f":"Poules!$W$59","v":1},null,{"$f":"Poules!$Y$59","v":3},null,{"$f":"Poules!$AA$59","v":0},null,{"$f":"Poules!AD13","v":7},{"$f":"Poules!AE13","v":"scVictorie'04 E3"},null,{"$f":"Poules!AK13","v":6},{"$f":"Poules!AL13","v":8},{"$f":"Poules!AM13","v":4.9980000000000002},{"$f":"Poules!AN13","v":1},{"$f":"Poules!AO13","v":2},{"$f":"Poules!AP13","v":1},{"$f":"Poules!AQ13","v":-2}]
[{"$f":"Poules!$D$60","v":"12:48:00"},null,{"$f":"Poules!$G$60","v":"De Zwervers E3"},"--",{"$f":"Poules!$N$60","v":"Lekkerkerk E2"},{"$f":"Poules!$U$60","v":0},"--",{"$f":"Poules!$W$60","v":4},null,{"$f":"Poules!$Y$60","v":0},null,{"$f":"Poules!$AA$60","v":3}]
[{"$f":"Poules!$D$61","v":"13:00:00"},null,{"$f":"Poules!$G$61","v":"RKDEO E9"},"--",{"$f":"Poules!$N$61","v":"Ommoord E3"},{"$f":"Poules!$U$61","v":1},"--",{"$f":"Poules!$W$61","v":1},null,{"$f":"Poules!$Y$61","v":1},null,{"$f":"Poules!$AA$61","v":1}]
[{"$f":"Poules!$D$62","v":"13:12:00"},null,{"$f":"Poules!$G$62","v":"scVictorie'04 E3"},"--",{"$f":"Poules!$N$62","v":"Schoonhoven E5"},{"$f":"Poules!$U$62","v":0},"--",{"$f":"Poules!$W$62","v":0},null,{"$f":"Poules!$Y$62","v":1},null,{"$f":"Poules!$AA$62","v":1}]
[{"$f":"Poules!$D$63","v":"13:24:00"},null,{"$f":"Poules!$G$63","v":"Lekkerkerk E2"},"--",{"$f":"Poules!$N$63","v":"Be Fair E3"},{"$f":"Poules!$U$63","v":1},"--",{"$f":"Poules!$W$63","v":1},null,{"$f":"Poules!$Y$63","v":1},null,{"$f":"Poules!$AA$63","v":1}]
[{"$f":"Poules!$D$64","v":"13:36:00"},null,{"$f":"Poules!$G$64","v":"RKDEO E9"},"--",{"$f":"Poules!$N$64","v":"De Zwervers E3"},{"$f":"Poules!$U$64","v":6},"--",{"$f":"Poules!$W$64","v":0},null,{"$f":"Poules!$Y$64","v":3},null,{"$f":"Poules!$AA$64","v":0}]
[{"$f":"Poules!$D$65","v":"13:48:00"},null,{"$f":"Poules!$G$65","v":"Ommoord E3"},"--",{"$f":"Poules!$N$65","v":"DCV E3"},{"$f":"Poules!$U$65","v":0},"--",{"$f":"Poules!$W$65","v":1},null,{"$f":"Poules!$Y$65","v":0},null,{"$f":"Poules!$AA$65","v":3}]
[{"$f":"Poules!$D$66","v":"14:00:00"},null,{"$f":"Poules!$G$66","v":"De Zwervers E3"},"--",{"$f":"Poules!$N$66","v":"Schoonhoven E5"},{"$f":"Poules!$U$66","v":1},"--",{"$f":"Poules!$W$66","v":2},null,{"$f":"Poules!$Y$66","v":0},null,{"$f":"Poules!$AA$66","v":3}]
[{"$f":"Poules!$D$67","v":"14:12:00"},null,{"$f":"Poules!$G$67","v":"DCV E3"},"--",{"$f":"Poules!$N$67","v":"Be Fair E3"},{"$f":"Poules!$U$67","v":4},"--",{"$f":"Poules!$W$67","v":2},null,{"$f":"Poules!$Y$67","v":3},null,{"$f":"Poules!$AA$67","v":0}]
[{"$f":"Poules!$D$68","v":"14:24:00"},null,{"$f":"Poules!$G$68","v":"scVictorie'04 E3"},"--",{"$f":"Poules!$N$68","v":"RKDEO E9"},{"$f":"Poules!$U$68","v":3},"--",{"$f":"Poules!$W$68","v":2},null,{"$f":"Poules!$Y$68","v":3},null,{"$f":"Poules!$AA$68","v":0}]
[{"$f":"Poules!$D$69","v":"14:36:00"},null,{"$f":"Poules!$G$69","v":"Ommoord E3"},"--",{"$f":"Poules!$N$69","v":"Lekkerkerk E2"},{"$f":"Poules!$U$69","v":1},"--",{"$f":"Poules!$W$69","v":1},null,{"$f":"Poules!$Y$69","v":1},null,{"$f":"Poules!$AA$69","v":1}]
[{"$f":"Poules!$D$70","v":"14:48:00"},null,{"$f":"Poules!$G$70","v":"De Zwervers E3"},"--",{"$f":"Poules!$N$70","v":"DCV E3"},{"$f":"Poules!$U$70","v":1},"--",{"$f":"Poules!$W$70","v":0},null,{"$f":"Poules!$Y$70","v":3},null,{"$f":"Poules!$AA$70","v":0}]
[{"$f":"Poules!$D$71","v":"15:00:00"},null,{"$f":"Poules!$G$71","v":"Lekkerkerk E2"},"--",{"$f":"Poules!$N$71","v":"scVictorie'04 E3"},{"$f":"Poules!$U$71","v":3},"--",{"$f":"Poules!$W$71","v":0},null,{"$f":"Poules!$Y$71","v":3},null,{"$f":"Poules!$AA$71","v":0}]
[{"$f":"Poules!$D$72","v":"15:12:00"},null,{"$f":"Poules!$G$72","v":"Schoonhoven E5"},"--",{"$f":"Poules!$N$72","v":"Ommoord E3"},{"$f":"Poules!$U$72","v":0},"--",{"$f":"Poules!$W$72","v":2},null,{"$f":"Poules!$Y$72","v":0},null,{"$f":"Poules!$AA$72","v":3}]
[{"$f":"Poules!$D$73","v":"15:24:00"},null,{"$f":"Poules!$G$73","v":"Be Fair E3"},"--",{"$f":"Poules!$N$73","v":"RKDEO E9"},{"$f":"Poules!$U$73","v":1},"--",{"$f":"Poules!$W$73","v":4},null,{"$f":"Poules!$Y$73","v":0},null,{"$f":"Poules!$AA$73","v":3}]

{"sheet":"GROEP 4","index":4,"n_rows":32,"n_cols":23,"rows_kept":32,"cut":false,"hidden":false,"merged":[[0,12,2,14],[14,14,14,15],[15,14,15,15],[16,14,16,15],[12,14,12,15],[13,14,13,15],[7,14,9,15],[10,14,10,15],[11,14,11,15],[17,14,17,15],[27,0,27,1],[28,0,28,1],[29,0,29,1],[30,0,30,1],[17,0,17,1],[18,0,18,1],[19,0,19,1],[20,0,20,1],[21,0,21,1],[5,0,5,1],[6,0,6,1],[31,0,31,1],[22,0,22,1],[23,0,23,1],[24,0,24,1],[25,0,25,1],[26,0,26,1],[7,21,9,21],[7,22,9,22],[7,16,9,16],[3,5,3,7],[3,9,3,11],[7,13,9,13],[4,13,5,22],[7,17,9,17],[7,18,9,18],[15,0,15,1],[16,0,16,1],[0,0,2,11],[7,19,9,19],[7,20,9,20],[3,0,3,1],[10,0,10,1],[11,0,11,1],[12,0,12,1],[13,0,13,1],[14,0,14,1],[3,2,3,4],[9,0,9,1],[4,0,4,1],[7,0,7,1],[8,0,8,1]]}
["SCHOONHOVEN TOERNOOI\nGROEP 4",null,null,null,null,null,null,null,null,null,null,null,"SCORES BY:\nOnlineExcelCursus.NL"]
[]
[]
[{"$f":"Poules!$AC$45","v":"Tijd"},null,{"$f":"Poules!$AF$45","v":"VELD D"},null,null,{"$f":"Poules!$AT$45","v":"Uitslag"},null,null,null,{"$f":"Poules!$AX$45","v":"Punten"}]
[{"$f":"Poules!$AC$46","v":"10:00:00"},null,{"$f":"Poules!$AF$46","v":"Oudewater E4"},"--",{"$f":"Poules!$AM$46","v":"SVS E4"},{"$f":"Poules!$AT$46","v":1},"--",{"$f":"Poules!$AV$46","v":2},null,{"$f":"Poules!$Y$46","v":0},null,{"$f":"Poules!$AA$46","v":3},null,"STAND GROEP 3"]
[{"$f":"Poules!$AC$47","v":"10:12:00"},null,{"$f":"Poules!$AF$47","v":"Stolwijk E3"},"--",{"$f":"Poules!$AM$47","v":"Jodan Boys E8"},{"$f":"Poules!$AT$47","v":2},"--",{"$f":"Poules!$AV$47","v":1},null,{"$f":"Poules!$Y$47","v":3},null,{"$f":"Poules!$AA$47","v":0}]
[{"$f":"Poules!$AC$48","v":"10:24:00"},null,{"$f":"Poules!$AF$48","v":"Schoonhoven E7"},"--",{"$f":"Poules!$AM$48","v":"VFC Vlaardingen E8"},{"$f":"Poules!$AT$48","v":1},"--",{"$f":"Poules!$AV$48","v":2},null,{"$f":"Poules!$Y$48","v":0},null,{"$f":"Poules!$AA$48","v":3}]
[{"$f":"Poules!$AC$49","v":"10:36:00"},null,{"$f":"Poules!$AF$49","v":"Stolwijk E2"},"--",{"$f":"Poules!$AM$49","v":"Cabauw E2"},{"$f":"Poules!$AT$49","v":3},"--",{"$f":"Poules!$AV$49","v":1},null,{"$f":"Poules!$Y$49","v":3},null,{"$f":"Poules!$AA$49","v":0},null,{"$f":"Poules!$AR$3","v":"Stand"},{"$f":"Poules!$AS$5","v":"Groep 4"},null,{"$f":"Poules!$AY$5","v":"V"},{"$f":"Poules!$AZ$5","v":"T"},{"$f":"Poules!$BA$5","v":"P"},{"$f":"Poules!$BB$3","v":"Gewonnen"},{"$f":"Poules!$BC$3","v":"Gelijk"},{"$f":"Poules!$BD$3","v":"Verloren"},{"$f":"Poules!$BE$3","v":"Saldo"}]
[{"$f":"Poules!$AC$50","v":"10:48:00"},null,{"$f":"Poules!$AF$50","v":"SVS E4"},"--",{"$f":"Poules!$AM$50","v":"Jodan Boys E8"},{"$f":"Poules!$AT$50","v":1},"--",{"$f":"Poules!$AV$50","v":6},null,{"$f":"Poules!$Y$50","v":0},null,{"$f":"Poules!$AA$50","v":3}]
[{"$f":"Poules!$AC$51","v":"11:00:00"},null,{"$f":"Poules!$AF$51","v":"Oudewater E4"},"--",{"$f":"Poules!$AM$51","v":"VFC Vlaardingen E8"},{"$f":"Poules!$AT$51","v":2},"--",{"$f":"Poules!$AV$51","v":2},null,{"$f":"Poules!$Y$51","v":1},null,{"$f":"Poules!$AA$51","v":1}]
[{"$f":"Poules!$AC$52","v":"11:12:00"},null,{"$f":"Poules!$AF$52","v":"Stolwijk E3"},"--",{"$f":"Poules!$AM$52","v":"Stolwijk E2"},{"$f":"Poules!$AT$52","v":3},"--",{"$f":"Poules!$AV$52","v":1},null,{"$f":"Poules!$Y$52","v":3},null,{"$f":"Poules!$AA$52","v":0},null,{"$f":"Poules!$AR$6","v":3},{"$f":"Poules!$AS$6","v":"Schoonhoven E7"},null,{"$f":"Poules!$AY$6","v":4},{"$f":"Poules!$AZ$6","v":5},{"$f":"Poules!$BA$6","v":6.9989999999999997},{"$f":"Poules!$BB$6","v":2},{"$f":"Poules!$BC$6","v":1},{"$f":"Poules!$BD$6","v":2},{"$f":"Poules!$BE$6","v":-1}]
[{"$f":"Poules!$AC$53","v":"11:24:00"},null,{"$f":"Poules!$AF$53","v":"Cabauw E2"},"--",{"$f":"Poules!$AM$53","v":"Schoonhoven E7"},{"$f":"Poules!$AT$53","v":1},"--",{"$f":"Poules!$AV$53","v":1},null,{"$f":"Poules!$Y$53","v":1},null,{"$f":"Poules!$AA$53","v":1},null,{"$f":"Poules!$AR$7","v":1},{"$f":"Poules!$AS$7","v":"Stolwijk E2"},null,{"$f":"Poules!$AY$7","v":10},{"$f":"Poules!$AZ$7","v":2},{"$f":"Poules!$BA$7","v":11.007999999999999},{"$f":"Poules!$BB$7","v":3},{"$f":"Poules!$BC$7","v":2},{"$f":"Poules!$BD$7","v":0},{"$f":"Poules!$BE$7","v":8}]
[{"$f":"Poules!$AC$54","v":"11:36:00"},null,{"$f":"Poules!$AF$54","v":"Jodan Boys E8"},"--",{"$f":"Poules!$AM$54","v":"Oudewater E4"},{"$f":"Poules!$AT$54","v":1},"--",{"$f":"Poules!$AV$54","v":0},null,{"$f":"Poules!$Y$54","v":3},null,{"$f":"Poules!$AA$54","v":0},null,{"$f":"Poules!AR8","v":2},{"$f":"Poules!AS8","v":"Cabauw E2"},null,{"$f":"Poules!AY8","v":16},{"$f":"Poules!AZ8","v":6},{"$f":"Poules!BA8","v":10.01},{"$f":"Poules!BB8","v":3},{"$f":"Poules!BC8","v":1},{"$f":"Poules!BD8","v":1},{"$f":"Poules!BE8","v":10}]
[{"$f":"Poules!$AC$55","v":"11:48:00"},null,{"$f":"Poules!$AF$55","v":"VFC Vlaardingen E8"},"--",{"$f":"Poules!$AM$55","v":"SVS E4"},{"$f":"Poules!$AT$55","v":0},"--",{"$f":"Poules!$AV$55","v":2},null,{"$f":"Poules!$Y$55","v":0},null,{"$f":"Poules!$AA$55","v":3},null,{"$f":"Poules!AR9","v":8},{"$f":"Poules!AS9","v":"VFC Vlaardingen E8"},null,{"$f":"Poules!AY9","v":7},{"$f":"Poules!AZ9","v":14},{"$f":"Poules!BA9","v":1.9930000000000001},{"$f":"Poules!BB9","v":0},{"$f":"Poules!BC9","v":2},{"$f":"Poules!BD9","v":3},{"$f":"Poules!BE9","v":-7}]
[{"$f":"Poules!$AC$56","v":"12:00:00"},null,{"$f":"Poules!$AF$56","v":"Schoonhoven E7"},"--",{"$f":"Poules!$AM$56","v":"Stolwijk E2"},{"$f":"Poules!$AT$56","v":0},"--",{"$f":"Poules!$AV$56","v":1},null,{"$f":"Poules!$Y$56","v":0},null,{"$f":"Poules!$AA$56","v":3},null,{"$f":"Poules!AR10","v":6},{"$f":"Poules!AS10","v":"Oudewater E4"},null,{"$f":"Poules!AY10","v":4},{"$f":"Poules!AZ10","v":3},{"$f":"Poules!BA10","v":5.0009999999999994},{"$f":"Poules!BB10","v":1},{"$f":"Poules!BC10","v":2},{"$f":"Poules!BD10","v":1},{"$f":"Poules!BE10","v":1}]
[{"$f":"Poules!$AC$57","v":"12:12:00"},null,{"$f":"Poules!$AF$57","v":"Stolwijk E3"},"--",{"$f":"Poules!$AM$57","v":"Cabauw E2"},{"$f":"Poules!$AT$57","v":1},"--",{"$f":"Poules!$AV$57","v":3},null,{"$f":"Poules!$Y$57","v":0},null,{"$f":"Poules!$AA$57","v":3},null,{"$f":"Poules!AR11","v":5},{"$f":"Poules!AS11","v":"SVS E4"},null,{"$f":"Poules!AY11","v":4},{"$f":"Poules!AZ11","v":12},{"$f":"Poules!BA11","v":5.992},{"$f":"Poules!BB11","v":2},{"$f":"Poules!BC11","v":0},{"$f":"Poules!BD11","v":3},{"$f":"Poules!BE11","v":-8}]
[{"$f":"Poules!$AC$58","v":"12:24:00"},null,{"$f":"Poules!$AF$58","v":"VFC Vlaardingen E8"},"--",{"$f":"Poules!$AM$58","v":"Jodan Boys E8"},{"$f":"Poules!$AT$58","v":3},"--",{"$f":"Poules!$AV$58","v":3},null,{"$f":"Poules!$Y$58","v":1},null,{"$f":"Poules!$AA$58","v":1},null,{"$f":"Poules!AR12","v":4},{"$f":"Poules!AS12","v":"Stolwijk E3"},null,{"$f":"Poules!AY12","v":7},{"$f":"Poules!AZ12","v":8},{"$f":"Poules!BA12","v":5.9989999999999997},{"$f":"Poules!BB12","v":2},{"$f":"Poules!BC12","v":0},{"$f":"Poules!BD12","v":3},{"$f":"Poules!BE12","v":-1}]
[{"$f":"Poules!$AC$59","v":"12:36:00"},null,{"$f":"Poules!$AF$59","v":"Schoonhoven E7"},"--",{"$f":"Poules!$AM$59","v":"Stolwijk E3"},{"$f":"Poules!$AT$59","v":2},"--",{"$f":"Poules!$AV$59","v":1},null,{"$f":"Poules!$Y$59","v":3},null,{"$f":"Poules!$AA$59","v":0},null,{"$f":"Poules!AR13","v":7},{"$f":"Poules!AS13","v":"Jodan Boys E8"},null,{"$f":"Poules!AY13","v":6},{"$f":"Poules!AZ13","v":8},{"$f":"Poules!BA13","v":4.9980000000000002},{"$f":"Poules!BB13","v":1},{"$f":"Poules!BC13","v":2},{"$f":"Poules!BD13","v":1},{"$f":"Poules!BE13","v":-2}]
[{"$f":"Poules!$AC$60","v":"12:48:00"},null,{"$f":"Poules!$AF$60","v":"SVS E4"},"--",{"$f":"Poules!$AM$60","v":"Stolwijk E2"},{"$f":"Poules!$AT$60","v":0},"--",{"$f":"Poules!$AV$60","v":4},null,{"$f":"Poules!$Y$60","v":0},null,{"$f":"Poules!$AA$60","v":3}]
[{"$f":"Poules!$AC$61","v":"13:00:00"},null,{"$f":"Poules!$AF$61","v":"Cabauw E2"},"--",{"$f":"Poules!$AM$61","v":"Oudewater E4"},{"$f":"Poules!$AT$61","v":1},"--",{"$f":"Poules!$AV$61","v":1},null,{"$f":"Poules!$Y$61","v":1},null,{"$f":"Poules!$AA$61","v":1}]
[{"$f":"Poules!$AC$62","v":"13:12:00"},null,{"$f":"Poules!$AF$62","v":"Jodan Boys E8"},"--",{"$f":"Poules!$AM$62","v":"Schoonhoven E7"},{"$f":"Poules!$AT$62","v":0},"--",{"$f":"Poules!$AV$62","v":0},null,{"$f":"Poules!$Y$62","v":1},null,{"$f":"Poules!$AA$62","v":1}]
[{"$f":"Poules!$AC$63","v":"13:24:00"},null,{"$f":"Poules!$AF$63","v":"Stolwijk E2"},"--",{"$f":"Poules!$AM$63","v":"VFC Vlaardingen E8"},{"$f":"Poules!$AT$63","v":1},"--",{"$f":"Poules!$AV$63","v":1},null,{"$f":"Poules!$Y$63","v":1},null,{"$f":"Poules!$AA$63","v":1}]
[{"$f":"Poules!$AC$64","v":"13:36:00"},null,{"$f":"Poules!$AF$64","v":"Cabauw E2"},"--",{"$f":"Poules!$AM$64","v":"SVS E4"},{"$f":"Poules!$AT$64","v":6},"--",{"$f":"Poules!$AV$64","v":0},null,{"$f":"Poules!$Y$64","v":3},null,{"$f":"Poules!$AA$64","v":0}]
[{"$f":"Poules!$AC$65","v":"13:48:00"},null,{"$f":"Poules!$AF$65","v":"Oudewater E4"},"--",{"$f":"Poules!$AM$65","v":"Stolwijk E3"},{"$f":"Poules!$AT$65","v":0},"--",{"$f":"Poules!$AV$65","v":1},null,{"$f":"Poules!$Y$65","v":0},null,{"$f":"Poules!$AA$65","v":3}]
[{"$f":"Poules!$AC$66","v":"14:00:00"},null,{"$f":"Poules!$AF$66","v":"SVS E4"},"--",{"$f":"Poules!$AM$66","v":"Schoonhoven E7"},{"$f":"Poules!$AT$66","v":1},"--",{"$f":"Poules!$AV$66","v":2},null,{"$f":"Poules!$Y$66","v":0},null,{"$f":"Poules!$AA$66","v":3}]
[{"$f":"Poules!$AC$67","v":"14:12:00"},null,{"$f":"Poules!$AF$67","v":"Stolwijk E3"},"--",{"$f":"Poules!$AM$67","v":"VFC Vlaardingen E8"},{"$f":"Poules!$AT$67","v":4},"--",{"$f":"Poules!$AV$67","v":2},null,{"$f":"Poules!$Y$67","v":3},null,{"$f":"Poules!$AA$67","v":0}]
[{"$f":"Poules!$AC$68","v":"14:24:00"},null,{"$f":"Poules!$AF$68","v":"Jodan Boys E8"},"--",{"$f":"Poules!$AM$68","v":"Cabauw E2"},{"$f":"Poules!$AT$68","v":3},"--",{"$f":"Poules!$AV$68","v":2},null,{"$f":"Poules!$Y$68","v":3},null,{"$f":"Poules!$AA$68","v":0}]
[{"$f":"Poules!$AC$69","v":"14:36:00"},null,{"$f":"Poules!$AF$69","v":"Oudewater E4"},"--",{"$f":"Poules!$AM$69","v":"Stolwijk E2"},{"$f":"Poules!$AT$69","v":1},"--",{"$f":"Poules!$AV$69","v":1},null,{"$f":"Poules!$Y$69","v":1},null,{"$f":"Poules!$AA$69","v":1}]
[{"$f":"Poules!$AC$70","v":"14:48:00"},null,{"$f":"Poules!$AF$70","v":"SVS E4"},"--",{"$f":"Poules!$AM$70","v":"Stolwijk E3"},{"$f":"Poules!$AT$70","v":1},"--",{"$f":"Poules!$AV$70","v":0},null,{"$f":"Poules!$Y$70","v":3},null,{"$f":"Poules!$AA$70","v":0}]
[{"$f":"Poules!$AC$71","v":"15:00:00"},null,{"$f":"Poules!$AF$71","v":"Stolwijk E2"},"--",{"$f":"Poules!$AM$71","v":"Jodan Boys E8"},{"$f":"Poules!$AT$71","v":3},"--",{"$f":"Poules!$AV$71","v":0},null,{"$f":"Poules!$Y$71","v":3},null,{"$f":"Poules!$AA$71","v":0}]
[{"$f":"Poules!$AC$72","v":"15:12:00"},null,{"$f":"Poules!$AF$72","v":"Schoonhoven E7"},"--",{"$f":"Poules!$AM$72","v":"Oudewater E4"},{"$f":"Poules!$AT$72","v":0},"--",{"$f":"Poules!$AV$72","v":2},null,{"$f":"Poules!$Y$72","v":0},null,{"$f":"Poules!$AA$72","v":3}]
[{"$f":"Poules!$AC$73","v":"15:24:00"},null,{"$f":"Poules!$AF$73","v":"VFC Vlaardingen E8"},"--",{"$f":"Poules!$AM$73","v":"Cabauw E2"},{"$f":"Poules!$AT$73","v":1},"--",{"$f":"Poules!$AV$73","v":4},null,{"$f":"Poules!$Y$73","v":0},null,{"$f":"Poules!$AA$73","v":3}]