{"text_format":"1","workbook":"xlsx","n_sheets":7,"sheets":["Voorronde","finale","troostfinale","GROEP-1","GROEP-2","GROEP-3","GROEP-4"],"not_rendered":{"charts":0,"images":1,"macros":1,"external_links":0,"defined_names":0,"comments":0,"pivot_tables":0},"unopened":[],"bounds":{"document_bytes":16777216,"sheet_cells":100000,"rows_first":2000,"rows_last":500,"rows_between":2000,"halvings":0,"cell_chars":16384,"cell_head_chars":4096},"cells_cut":0,"cells_raw":0,"read":"whole","date_system":"1900"}

{"sheet":"Voorronde","index":0,"n_rows":38,"n_cols":69,"rows_kept":38,"cut":false,"hidden":false,"merged":[[32,28,32,29],[33,28,33,29],[24,28,24,29],[30,28,30,29],[25,28,25,29],[23,45,23,47],[20,38,20,43],[19,38,19,43],[18,38,18,43],[33,38,33,43],[32,38,32,43],[33,31,33,36],[32,31,32,36],[26,31,26,36],[25,31,25,36],[21,31,21,36],[31,28,31,29],[26,28,26,29],[27,28,27,29],[20,28,20,29],[18,28,18,29],[19,28,19,29],[21,3,21,4],[19,3,19,4],[18,3,18,4],[20,3,20,4],[24,31,24,36],[31,38,31,43],[30,38,30,43],[29,38,29,43],[28,38,28,43],[27,38,27,43],[26,38,26,43],[25,38,25,43],[24,38,24,43],[31,31,31,36],[30,31,30,36],[29,31,29,36],[28,31,28,36],[27,31,27,36],[20,31,20,36],[19,31,19,36],[18,31,18,36],[30,6,30,11],[31,13,31,18],[30,13,30,18],[6,15,6,21],[13,31,13,36],[12,31,12,36],[11,20,11,22],[7,15,7,21],[7,30,7,35],[8,15,8,21],[11,31,11,43],[13,28,13,29],[0,0,1,49],[5,1,5,6],[6,1,6,6],[7,1,7,6],[4,1,4,6],[2,0,4,0],[2,12,4,12],[2,11,4,11],[2,10,4,10],[2,27,4,27],[5,44,5,49],[7,44,7,49],[2,14,4,14],[2,29,4,29],[2,43,4,43],[4,15,4,21],[4,30,4,35],[6,30,6,35],[2,13,4,13],[2,25,4,25],[2,26,4,26],[6,44,6,49],[5,15,5,21],[5,30,5,35],[16,3,16,4],[19,13,19,18],[18,13,18,18],[17,13,17,18],[15,13,15,18],[19,6,19,11],[18,6,18,11],[8,1,8,6],[9,1,9,6],[11,3,11,4],[11,6,11,18],[12,3,12,4],[15,3,15,4],[14,3,14,4],[13,3,13,4],[9,15,9,21],[14,13,14,18],[13,6,13,11],[12,6,12,11],[13,13,13,18],[12,13,12,18],[29,13,29,18],[28,13,28,18],[25,13,25,18],[24,13,24,18],[23,3,23,4],[17,3,17,4],[16,31,16,36],[15,31,15,36],[14,31,14,36],[17,6,17,11],[16,6,16,11],[15,6,15,11],[14,6,14,11],[16,13,16,18],[14,28,14,29],[15,28,15,29],[16,28,16,29],[17,28,17,29],[29,28,29,29],[28,28,28,29],[23,24,23,26],[21,13,21,18],[20,6,20,11],[20,13,20,18],[33,3,33,4],[33,13,33,18],[32,13,32,18],[26,3,26,4],[24,3,24,4],[21,6,21,11],[25,3,25,4],[31,3,31,4],[32,3,32,4],[27,3,27,4],[28,3,28,4],[29,3,29,4],[30,3,30,4],[33,6,33,11],[32,6,32,11],[31,6,31,11],[25,6,25,11],[24,6,24,11],[27,13,27,18],[26,13,26,18],[29,6,29,11],[28,6,28,11],[27,6,27,11],[26,6,26,11],[14,38,14,43],[13,38,13,43],[12,38,12,43],[23,31,23,43],[23,6,23,18],[23,28,23,29],[23,20,23,22],[8,44,8,49],[11,45,11,47],[9,30,9,35],[9,44,9,49],[11,49,11,51],[8,30,8,35],[21,28,21,29],[21,38,21,43],[12,28,12,29],[17,31,17,36],[17,38,17,43],[16,38,16,43],[23,49,23,51],[11,24,11,26],[15,38,15,43],[11,28,11,29],[2,56,4,56],[2,42,4,42],[2,53,4,53],[2,54,4,54],[2,55,4,55],[2,28,4,28],[2,39,4,39],[2,40,4,40],[2,41,4,41],[4,44,4,49]]}
["Schoonhoven E TOERNOOI 2014",null,null,null,null,null,null,null,null,null,null,null,null,null,null,null,null,null,null,null,null,null,null,null,null,null,null,null,null,null,null,null,null,null,null,null,null,null,null,null,null,null,null,null,null,null,null,null,null,null,{"$f":"COUNTA(U13:W22)","v":10},{"$f":"COUNTA(AT13:AV22)","v":10},{"$f":"COUNTA(U25:W34)","v":10},{"$f":"COUNTA(AT25:AV34)","v":10},null,null,null,null,null,null,null,{"$f":"VALUE(A6)","v":1},{"$f":"B6","v":"Schoonhoven E1"},{"$f":"VALUE(O6)","v":1},{"$f":"P6","v":"Schoonhoven E3"},{"$f":"VALUE(AD6)","v":1},{"$f":"AE6","v":"Schoonhoven E5"},{"$f":"VALUE(AR6)","v":1},{"$f":"AS6","v":"Schoonhoven E7"}]
[null,null,null,null,null,null,null,null,null,null,null,null,null,null,null,null,null,null,null,null,null,null,null,null,null,null,null,null,null,null,null,null,null,null,null,null,null,null,null,null,null,null,null,null,null,null,null,null,null,null,null,null,null,null,null,null,null,null,null,null,null,{"$f":"VALUE(A7)","v":1},{"$f":"B7","v":"Schoonhoven E2"},{"$f":"VALUE(O7)","v":1},{"$f":"P7","v":"Schoonhoven E4"},{"$f":"VALUE(AD7)","v":1},{"$f":"AE7","v":"Schoonhoven E6"},{"$f":"VALUE(AR7)","v":1},{"$f":"AS7","v":"Schoonhoven E8"}]
["Stand",null,null,null,null,null,null,null,null,null,"Gewonnen","Gelijk","Verloren","Saldo","Stand",null,null,null,null,null,null,null,null,null,null,"Gewonnen","Gelijk","Verloren","Saldo","Stand",null,null,null,null,null,null,null,null,null,"Gewonnen","Gelijk","Verloren","Saldo","Stand",null,null,null,null,null,null,null,null,null,"Gewonnen","Gelijk","Verloren","Saldo",null,null,null,null,{"$f":"VALUE(A8)","v":1},{"$f":"B8","v":"Jodan Boys E2"},{"$f":"VALUE(O8)","v":1},{"$f":"P8","v":"RKDEO E3"},{"$f":"VALUE(AD8)","v":1},{"$f":"AE8","v":"RKDEO E9"},{"$f":"VALUE(AR8)","v":1},{"$f":"AS8","v":"VFC Vlaardingen E8"}]
[null,null,null,null,null,null,null,null,null,null,null,null,null,null,null,null,null,null,null,null,null,null,null,null,null,null,null,null,null,null,null,null,null,null,null,null,null,null,null,null,null,null,null,null,null,null,null,null,null,null,null,null,null,null,null,null,null,null,null,null,null,{"$f":"VALUE(A9)","v":1},{"$f":"B9","v":"Alblasserdam E1"},{"$f":"VALUE(O9)","v":1},{"$f":"P9","v":"VV GZ E3"},{"$f":"VALUE(AD9)","v":1},{"$f":"AE9","v":"scVictorie'04 E3"},{"$f":"VALUE(AR9)","v":1},{"$f":"AS9","v":"Jodan Boys E8"}]
[null,"Groep 1",null,null,null,null,null,"V","T","P",null,null,null,null,null,"Groep 2",null,null,null,null,null,null,"V","T","P",null,null,null,null,null,"Groep 3",null,null,null,null,null,"V","T","P",null,null,null,null,null,"Groep 4",null,null,null,null,null,"V","T","P",null,null,null,null,null,null,null,null,{"$f":"VALUE(A10)","v":1},{"$f":"B10","v":"Excelcior ??"},{"$f":"VALUE(O10)","v":1},{"$f":"P10","v":"Alblasserdam E3"},{"$f":"VALUE(AD10)","v":1},{"$f":"AE10","v":"Jodan Boys E6"},{"$f":"VALUE(AR10)","v":1},{"$f":"AS10","v":"Smitshoek E10"}]
[{"$f":"RANK(J6,$J$6:$J$10,0)","v":1},"Schoonhoven E1",null,null,null,null,null,{"$f":"SUMIF($G$13:$L$22,B6,$U$13:$U$22)+SUMIF($N$13:$S$22,B6,$W$13:$W$22)","v":0},{"$f":"SUMIF($G$13:$L$22,B6,$W$13:$W$22)+SUMIF($N$13:$S$22,B6,$U$13:$U$22)","v":0},{"$f":"(K6*3)+L6+(H6*0.001)-(I6*0.001)","v":0},{"$f":"SUMPRODUCT(($G$13:$L$22=B6)*($Y$13:$Y$22=3))+SUMPRODUCT(($N$13:$S$22=B6)*($AA$13:$AA$22=3))","v":0},{"$f":"SUMPRODUCT(($G$13:$L$22=B6)*($Y$13:$Y$22=1))+SUMPRODUCT(($N$13:$S$22=B6)*($AA$13:$AA$22=1))","v":0},{"$f":"SUMPRODUCT(($G$13:$L$22=B6)*($Y$13:$Y$22=0))+SUMPRODUCT(($N$13:$S$22=B6)*($AA$13:$AA$22=0))","v":0},{"$f":"H6-I6","v":0},{"$f":"RANK(Y6,$Y$6:$Y$10,0)","v":1},"Schoonhoven E3",null,null,null,null,null,null,{"$f":"SUMIF($AF$13:$AK$22,P6,$AT$13:$AT$22)+SUMIF($AM$13:$AR$22,P6,$AV$13:$AV$22)","v":0},{"$f":"SUMIF($AF$13:$AK$22,P6,$AV$13:$AV$22)+SUMIF($AM$13:$AR$22,P6,$AT$13:$AT$22)","v":0},{"$f":"(Z6*3)+AA6+(W6*0.001)-(X6*0.001)","v":0},{"$f":"SUMPRODUCT(($AF$13:$AK$22=P6)*($AX$13:$AX$22=3))+SUMPRODUCT(($AM$13:$AR$22=P6)*($AZ$13:$AZ$22=3))","v":0},{"$f":"SUMPRODUCT(($AF$13:$AK$22=P6)*($AX$13:$AX$22=1))+SUMPRODUCT(($AM$13:$AR$22=P6)*($AZ$13:$AZ$22=1))","v":0},{"$f":"SUMPRODUCT(($AF$13:$AK$22=P6)*($AX$13:$AX$22=0))+SUMPRODUCT(($AM$13:$AR$22=P6)*($AZ$13:$AZ$22=0))","v":0},{"$f":"W6-X6","v":0},{"$f":"RANK(AM6,$AM$6:$AM$10,0)","v":1},"Schoonhoven E5",null,null,null,null,null,{"$f":"SUMIF($G$25:$L$34,AE6,$U$25:$U$34)+SUMIF($N$25:$S$34,AE6,$W$25:$W$34)","v":0},{"$f":"SUMIF($G$25:$L$34,AE6,$W$25:$W$34)+SUMIF($N$25:$S$34,AE6,$U$25:$U$34)","v":0},{"$f":"(AN6*3)+AO6+(AK6*0.001)-(AL6*0.001)","v":0},{"$f":"SUMPRODUCT(($G$25:$L$34=AE6)*($Y$25:$Y$34=3))+SUMPRODUCT(($N$25:$S$34=AE6)*($AA$25:$AA$34=3))","v":0},{"$f":"SUMPRODUCT(($G$25:$L$34=AE6)*($Y$25:$Y$34=1))+SUMPRODUCT(($N$25:$S$34=AE6)*($AA$25:$AA$34=1))","v":0},{"$f":"SUMPRODUCT(($G$25:$L$34=AE6)*($Y$25:$Y$34=0))+SUMPRODUCT(($N$25:$S$34=AE6)*($AA$25:$AA$34=0))","v":0},{"$f":"AK6-AL6","v":0},{"$f":"RANK(BA6,$BA$6:$BA$10,0)","v":1},"Schoonhoven E7",null,null,null,null,null,{"$f":"SUMIF($AF$25:$AK$34,AS6,$AT$25:$AT$34)+SUMIF($AM$25:$AR$34,AS6,$AV$25:$AV$34)","v":0},{"$f":"SUMIF($AF$25:$AK$34,AS6,$AV$25:$AV$34)+SUMIF($AM$25:$AR$34,AS6,$AT$25:$AT$34)","v":0},{"$f":"(BB6*3)+BC6+(AY6*0.001)-(AZ6*0.001)","v":0},{"$f":"SUMPRODUCT(($AF$25:$AK$34=AS6)*($AX$25:$AX$34=3))+SUMPRODUCT(($AM$25:$AR$34=AS6)*($AZ$25:$AZ$34=3))","v":0},{"$f":"SUMPRODUCT(($AF$25:$AK$34=AS6)*($AX$25:$AX$34=1))+SUMPRODUCT(($AM$25:$AR$34=AS6)*($AZ$25:$AZ$34=1))","v":0},{"$f":"SUMPRODUCT(($AF$25:$AK$34=AS6)*($AX$25:$AX$34=0))+SUMPRODUCT(($AM$25:$AR$34=AS6)*($AZ$25:$AZ$34=0))","v":0},{"$f":"AY6-AZ6","v":0}]
[{"$f":"RANK(J7,$J$6:$J$10,0)","v":1},"Schoonhoven E2",null,null,null,null,null,{"$f":"SUMIF($G$13:$L$22,B7,$U$13:$U$22)+SUMIF($N$13:$S$22,B7,$W$13:$W$22)","v":0},{"$f":"SUMIF($G$13:$L$22,B7,$W$13:$W$22)+SUMIF($N$13:$S$22,B7,$U$13:$U$22)","v":0},{"$f":"(K7*3)+L7+(H7*0.001)-(I7*0.001)","v":0},{"$f":"SUMPRODUCT(($G$13:$L$22=B7)*($Y$13:$Y$22=3))+SUMPRODUCT(($N$13:$S$22=B7)*($AA$13:$AA$22=3))","v":0},{"$f":"SUMPRODUCT(($G$13:$L$22=B7)*($Y$13:$Y$22=1))+SUMPRODUCT(($N$13:$S$22=B7)*($AA$13:$AA$22=1))","v":0},{"$f":"SUMPRODUCT(($G$13:$L$22=B7)*($Y$13:$Y$22=0))+SUMPRODUCT(($N$13:$S$22=B7)*($AA$13:$AA$22=0))","v":0},{"$f":"H7-I7","v":0},{"$f":"RANK(Y7,$Y$6:$Y$10,0)","v":1},"Schoonhoven E4",null,null,null,null,null,null,{"$f":"SUMIF($AF$13:$AK$22,P7,$AT$13:$AT$22)+SUMIF($AM$13:$AR$22,P7,$AV$13:$AV$22)","v":0},{"$f":"SUMIF($AF$13:$AK$22,P7,$AV$13:$AV$22)+SUMIF($AM$13:$AR$22,P7,$AT$13:$AT$22)","v":0},{"$f":"(Z7*3)+AA7+(W7*0.001)-(X7*0.001)","v":0},{"$f":"SUMPRODUCT(($AF$13:$AK$22=P7)*($AX$13:$AX$22=3))+SUMPRODUCT(($AM$13:$AR$22=P7)*($AZ$13:$AZ$22=3))","v":0},{"$f":"SUMPRODUCT(($AF$13:$AK$22=P7)*($AX$13:$AX$22=1))+SUMPRODUCT(($AM$13:$AR$22=P7)*($AZ$13:$AZ$22=1))","v":0},{"$f":"SUMPRODUCT(($AF$13:$AK$22=P7)*($AX$13:$AX$22=0))+SUMPRODUCT(($AM$13:$AR$22=P7)*($AZ$13:$AZ$22=0))","v":0},{"$f":"W7-X7","v":0},{"$f":"RANK(AM7,$AM$6:$AM$10,0)","v":1},"Schoonhoven E6",null,null,null,null,null,{"$f":"SUMIF($G$25:$L$34,AE7,$U$25:$U$34)+SUMIF($N$25:$S$34,AE7,$W$25:$W$34)","v":0},{"$f":"SUMIF($G$25:$L$34,AE7,$W$25:$W$34)+SUMIF($N$25:$S$34,AE7,$U$25:$U$34)","v":0},{"$f":"(AN7*3)+AO7+(AK7*0.001)-(AL7*0.001)","v":0},{"$f":"SUMPRODUCT(($G$25:$L$34=AE7)*($Y$25:$Y$34=3))+SUMPRODUCT(($N$25:$S$34=AE7)*($AA$25:$AA$34=3))","v":0},{"$f":"SUMPRODUCT(($G$25:$L$34=AE7)*($Y$25:$Y$34=1))+SUMPRODUCT(($N$25:$S$34=AE7)*($AA$25:$AA$34=1))","v":0},{"$f":"SUMPRODUCT(($G$25:$L$34=AE7)*($Y$25:$Y$34=0))+SUMPRODUCT(($N$25:$S$34=AE7)*($AA$25:$AA$34=0))","v":0},{"$f":"AK7-AL7","v":0},{"$f":"RANK(BA7,$BA$6:$BA$10,0)","v":1},"Schoonhoven E8",null,null,null,null,null,{"$f":"SUMIF($AF$25:$AK$34,AS7,$AT$25:$AT$34)+SUMIF($AM$25:$AR$34,AS7,$AV$25:$AV$34)","v":0},{"$f":"SUMIF($AF$25:$AK$34,AS7,$AV$25:$AV$34)+SUMIF($AM$25:$AR$34,AS7,$AT$25:$AT$34)","v":0},{"$f":"(BB7*3)+BC7+(AY7*0.001)-(AZ7*0.001)","v":0},{"$f":"SUMPRODUCT(($AF$25:$AK$34=AS7)*($AX$25:$AX$34=3))+SUMPRODUCT(($AM$25:$AR$34=AS7)*($AZ$25:$AZ$34=3))","v":0},{"$f":"SUMPRODUCT(($AF$25:$AK$34=AS7)*($AX$25:$AX$34=1))+SUMPRODUCT(($AM$25:$AR$34=AS7)*($AZ$25:$AZ$34=1))","v":0},{"$f":"SUMPRODUCT(($AF$25:$AK$34=AS7)*($AX$25:$AX$34=0))+SUMPRODUCT(($AM$25:$AR$34=AS7)*($AZ$25:$AZ$34=0))","v":0},{"$f":"AY7-AZ7","v":0}]
[{"$f":"RANK(J8,$J$6:$J$10,0)","v":1},"Jodan Boys E2",null,null,null,null,null,{"$f":"SUMIF($G$13:$L$22,B8,$U$13:$U$22)+SUMIF($N$13:$S$22,B8,$W$13:$W$22)","v":0},{"$f":"SUMIF($G$13:$L$22,B8,$W$13:$W$22)+SUMIF($N$13:$S$22,B8,$U$13:$U$22)","v":0},{"$f":"(K8*3)+L8+(H8*0.001)-(I8*0.001)","v":0},{"$f":"SUMPRODUCT(($G$13:$L$22=B8)*($Y$13:$Y$22=3))+SUMPRODUCT(($N$13:$S$22=B8)*($AA$13:$AA$22=3))","v":0},{"$f":"SUMPRODUCT(($G$13:$L$22=B8)*($Y$13:$Y$22=1))+SUMPRODUCT(($N$13:$S$22=B8)*($AA$13:$AA$22=1))","v":0},{"$f":"SUMPRODUCT(($G$13:$L$22=B8)*($Y$13:$Y$22=0))+SUMPRODUCT(($N$13:$S$22=B8)*($AA$13:$AA$22=0))","v":0},{"$f":"H8-I8","v":0},{"$f":"RANK(Y8,$Y$6:$Y$10,0)","v":1},"RKDEO E3",null,null,null,null,null,null,{"$f":"SUMIF($AF$13:$AK$22,P8,$AT$13:$AT$22)+SUMIF($AM$13:$AR$22,P8,$AV$13:$AV$22)","v":0},{"$f":"SUMIF($AF$13:$AK$22,P8,$AV$13:$AV$22)+SUMIF($AM$13:$AR$22,P8,$AT$13:$AT$22)","v":0},{"$f":"(Z8*3)+AA8+(W8*0.001)-(X8*0.001)","v":0},{"$f":"SUMPRODUCT(($AF$13:$AK$22=P8)*($AX$13:$AX$22=3))+SUMPRODUCT(($AM$13:$AR$22=P8)*($AZ$13:$AZ$22=3))","v":0},{"$f":"SUMPRODUCT(($AF$13:$AK$22=P8)*($AX$13:$AX$22=1))+SUMPRODUCT(($AM$13:$AR$22=P8)*($AZ$13:$AZ$22=1))","v":0},{"$f":"SUMPRODUCT(($AF$13:$AK$22=P8)*($AX$13:$AX$22=0))+SUMPRODUCT(($AM$13:$AR$22=P8)*($AZ$13:$AZ$22=0))","v":0},{"$f":"W8-X8","v":0},{"$f":"RANK(AM8,$AM$6:$AM$10,0)","v":1},"RKDEO E9",null,null,null,null,null,{"$f":"SUMIF($G$25:$L$34,AE8,$U$25:$U$34)+SUMIF($N$25:$S$34,AE8,$W$25:$W$34)","v":0},{"$f":"SUMIF($G$25:$L$34,AE8,$W$25:$W$34)+SUMIF($N$25:$S$34,AE8,$U$25:$U$34)","v":0},{"$f":"(AN8*3)+AO8+(AK8*0.001)-(AL8*0.001)","v":0},{"$f":"SUMPRODUCT(($G$25:$L$34=AE8)*($Y$25:$Y$34=3))+SUMPRODUCT(($N$25:$S$34=AE8)*($AA$25:$AA$34=3))","v":0},{"$f":"SUMPRODUCT(($G$25:$L$34=AE8)*($Y$25:$Y$34=1))+SUMPRODUCT(($N$25:$S$34=AE8)*($AA$25:$AA$34=1))","v":0},{"$f":"SUMPRODUCT(($G$25:$L$34=AE8)*($Y$25:$Y$34=0))+SUMPRODUCT(($N$25:$S$34=AE8)*($AA$25:$AA$34=0))","v":0},{"$f":"AK8-AL8","v":0},{"$f":"RANK(BA8,$BA$6:$BA$10,0)","v":1},"VFC Vlaardingen E8",null,null,null,null,null,{"$f":"SUMIF($AF$25:$AK$34,AS8,$AT$25:$AT$34)+SUMIF($AM$25:$AR$34,AS8,$AV$25:$AV$34)","v":0},{"$f":"SUMIF($AF$25:$AK$34,AS8,$AV$25:$AV$34)+SUMIF($AM$25:$AR$34,AS8,$AT$25:$AT$34)","v":0},{"$f":"(BB8*3)+BC8+(AY8*0.001)-(AZ8*0.001)","v":0},{"$f":"SUMPRODUCT(($AF$25:$AK$34=AS8)*($AX$25:$AX$34=3))+SUMPRODUCT(($AM$25:$AR$34=AS8)*($AZ$25:$AZ$34=3))","v":0},{"$f":"SUMPRODUCT(($AF$25:$AK$34=AS8)*($AX$25:$AX$34=1))+SUMPRODUCT(($AM$25:$AR$34=AS8)*($AZ$25:$AZ$34=1))","v":0},{"$f":"SUMPRODUCT(($AF$25:$AK$34=AS8)*($AX$25:$AX$34=0))+SUMPRODUCT(($AM$25:$AR$34=AS8)*($AZ$25:$AZ$34=0))","v":0},{"$f":"AY8-AZ8","v":0}]
[{"$f":"RANK(J9,$J$6:$J$10,0)","v":1},"Alblasserdam E1",null,null,null,null,null,{"$f":"SUMIF($G$13:$L$22,B9,$U$13:$U$22)+SUMIF($N$13:$S$22,B9,$W$13:$W$22)","v":0},{"$f":"SUMIF($G$13:$L$22,B9,$W$13:$W$22)+SUMIF($N$13:$S$22,B9,$U$13:$U$22)","v":0},{"$f":"(K9*3)+L9+(H9*0.001)-(I9*0.001)","v":0},{"$f":"SUMPRODUCT(($G$13:$L$22=B9)*($Y$13:$Y$22=3))+SUMPRODUCT(($N$13:$S$22=B9)*($AA$13:$AA$22=3))","v":0},{"$f":"SUMPRODUCT(($G$13:$L$22=B9)*($Y$13:$Y$22=1))+SUMPRODUCT(($N$13:$S$22=B9)*($AA$13:$AA$22=1))","v":0},{"$f":"SUMPRODUCT(($G$13:$L$22=B9)*($Y$13:$Y$22=0))+SUMPRODUCT(($N$13:$S$22=B9)*($AA$13:$AA$22=0))","v":0},{"$f":"H9-I9","v":0},{"$f":"RANK(Y9,$Y$6:$Y$10,0)","v":1},"VV GZ E3",null,null,null,null,null,null,{"$f":"SUMIF($AF$13:$AK$22,P9,$AT$13:$AT$22)+SUMIF($AM$13:$AR$22,P9,$AV$13:$AV$22)","v":0},{"$f":"SUMIF($AF$13:$AK$22,P9,$AV$13:$AV$22)+SUMIF($AM$13:$AR$22,P9,$AT$13:$AT$22)","v":0},{"$f":"(Z9*3)+AA9+(W9*0.001)-(X9*0.001)","v":0},{"$f":"SUMPRODUCT(($AF$13:$AK$22=P9)*($AX$13:$AX$22=3))+SUMPRODUCT(($AM$13:$AR$22=P9)*($AZ$13:$AZ$22=3))","v":0},{"$f":"SUMPRODUCT(($AF$13:$AK$22=P9)*($AX$13:$AX$22=1))+SUMPRODUCT(($AM$13:$AR$22=P9)*($AZ$13:$AZ$22=1))","v":0},{"$f":"SUMPRODUCT(($AF$13:$AK$22=P9)*($AX$13:$AX$22=0))+SUMPRODUCT(($AM$13:$AR$22=P9)*($AZ$13:$AZ$22=0))","v":0},{"$f":"W9-X9","v":0},{"$f":"RANK(AM9,$AM$6:$AM$10,0)","v":1},"scVictorie'04 E3",null,null,null,null,null,{"$f":"SUMIF($G$25:$L$34,AE9,$U$25:$U$34)+SUMIF($N$25:$S$34,AE9,$W$25:$W$34)","v":0},{"$f":"SUMIF($G$25:$L$34,AE9,$W$25:$W$34)+SUMIF($N$25:$S$34,AE9,$U$25:$U$34)","v":0},{"$f":"(AN9*3)+AO9+(AK9*0.001)-(AL9*0.001)","v":0},{"$f":"SUMPRODUCT(($G$25:$L$34=AE9)*($Y$25:$Y$34=3))+SUMPRODUCT(($N$25:$S$34=AE9)*($AA$25:$AA$34=3))","v":0},{"$f":"SUMPRODUCT(($G$25:$L$34=AE9)*($Y$25:$Y$34=1))+SUMPRODUCT(($N$25:$S$34=AE9)*($AA$25:$AA$34=1))","v":0},{"$f":"SUMPRODUCT(($G$25:$L$34=AE9)*($Y$25:$Y$34=0))+SUMPRODUCT(($N$25:$S$34=AE9)*($AA$25:$AA$34=0))","v":0},{"$f":"AK9-AL9","v":0},{"$f":"RANK(BA9,$BA$6:$BA$10,0)","v":1},"Jodan Boys E8",null,null,null,null,null,{"$f":"SUMIF($AF$25:$AK$34,AS9,$AT$25:$AT$34)+SUMIF($AM$25:$AR$34,AS9,$AV$25:$AV$34)","v":0},{"$f":"SUMIF($AF$25:$AK$34,AS9,$AV$25:$AV$34)+SUMIF($AM$25:$AR$34,AS9,$AT$25:$AT$34)","v":0},{"$f":"(BB9*3)+BC9+(AY9*0.001)-(AZ9*0.001)","v":0},{"$f":"SUMPRODUCT(($AF$25:$AK$34=AS9)*($AX$25:$AX$34=3))+SUMPRODUCT(($AM$25:$AR$34=AS9)*($AZ$25:$AZ$34=3))","v":0},{"$f":"SUMPRODUCT(($AF$25:$AK$34=AS9)*($AX$25:$AX$34=1))+SUMPRODUCT(($AM$25:$AR$34=AS9)*($AZ$25:$AZ$34=1))","v":0},{"$f":"SUMPRODUCT(($AF$25:$AK$34=AS9)*($AX$25:$AX$34=0))+SUMPRODUCT(($AM$25:$AR$34=AS9)*($AZ$25:$AZ$34=0))","v":0},{"$f":"AY9-AZ9","v":0}]
[{"$f":"RANK(J10,$J$6:$J$10,0)","v":1},"Excelcior ??",null,null,null,null,null,{"$f":"SUMIF($G$13:$L$22,B10,$U$13:$U$22)+SUMIF($N$13:$S$22,B10,$W$13:$W$22)","v":0},{"$f":"SUMIF($G$13:$L$22,B10,$W$13:$W$22)+SUMIF($N$13:$S$22,B10,$U$13:$U$22)","v":0},{"$f":"(K10*3)+L10+(H10*0.001)-(I10*0.001)","v":0},{"$f":"SUMPRODUCT(($G$13:$L$22=B10)*($Y$13:$Y$22=3))+SUMPRODUCT(($N$13:$S$22=B10)*($AA$13:$AA$22=3))","v":0},{"$f":"SUMPRODUCT(($G$13:$L$22=B10)*($Y$13:$Y$22=1))+SUMPRODUCT(($N$13:$S$22=B10)*($AA$13:$AA$22=1))","v":0},{"$f":"SUMPRODUCT(($G$13:$L$22=B10)*($Y$13:$Y$22=0))+SUMPRODUCT(($N$13:$S$22=B10)*($AA$13:$AA$22=0))","v":0},{"$f":"H10-I10","v":0},{"$f":"RANK(Y10,$Y$6:$Y$10,0)","v":1},"Alblasserdam E3",null,null,null,null,null,null,{"$f":"SUMIF($AF$13:$AK$22,P10,$AT$13:$AT$22)+SUMIF($AM$13:$AR$22,P10,$AV$13:$AV$22)","v":0},{"$f":"SUMIF($AF$13:$AK$22,P10,$AV$13:$AV$22)+SUMIF($AM$13:$AR$22,P10,$AT$13:$AT$22)","v":0},{"$f":"(Z10*3)+AA10+(W10*0.001)-(X10*0.001)","v":0},{"$f":"SUMPRODUCT(($AF$13:$AK$22=P10)*($AX$13:$AX$22=3))+SUMPRODUCT(($AM$13:$AR$22=P10)*($AZ$13:$AZ$22=3))","v":0},{"$f":"SUMPRODUCT(($AF$13:$AK$22=P10)*($AX$13:$AX$22=1))+SUMPRODUCT(($AM$13:$AR$22=P10)*($AZ$13:$AZ$22=1))","v":0},{"$f":"SUMPRODUCT(($AF$13:$AK$22=P10)*($AX$13:$AX$22=0))+SUMPRODUCT(($AM$13:$AR$22=P10)*($AZ$13:$AZ$22=0))","v":0},{"$f":"W10-X10","v":0},{"$f":"RANK(AM10,$AM$6:$AM$10,0)","v":1},"Jodan Boys E6",null,null,null,null,null,{"$f":"SUMIF($G$25:$L$34,AE10,$U$25:$U$34)+SUMIF($N$25:$S$34,AE10,$W$25:$W$34)","v":0},{"$f":"SUMIF($G$25:$L$34,AE10,$W$25:$W$34)+SUMIF($N$25:$S$34,AE10,$U$25:$U$34)","v":0},{"$f":"(AN10*3)+AO10+(AK10*0.001)-(AL10*0.001)","v":0},{"$f":"SUMPRODUCT(($G$25:$L$34=AE10)*($Y$25:$Y$34=3))+SUMPRODUCT(($N$25:$S$34=AE10)*($AA$25:$AA$34=3))","v":0},{"$f":"SUMPRODUCT(($G$25:$L$34=AE10)*($Y$25:$Y$34=1))+SUMPRODUCT(($N$25:$S$34=AE10)*($AA$25:$AA$34=1))","v":0},{"$f":"SUMPRODUCT(($G$25:$L$34=AE10)*($Y$25:$Y$34=0))+SUMPRODUCT(($N$25:$S$34=AE10)*($AA$25:$AA$34=0))","v":0},{"$f":"AK10-AL10","v":0},{"$f":"RANK(BA10,$BA$6:$BA$10,0)","v":1},"Smitshoek E10",null,null,null,null,null,{"$f":"SUMIF($AF$25:$AK$34,AS10,$AT$25:$AT$34)+SUMIF($AM$25:$AR$34,AS10,$AV$25:$AV$34)","v":0},{"$f":"SUMIF($AF$25:$AK$34,AS10,$AV$25:$AV$34)+SUMIF($AM$25:$AR$34,AS10,$AT$25:$AT$34)","v":0},{"$f":"(BB10*3)+BC10+(AY10*0.001)-(AZ10*0.001)","v":0},{"$f":"SUMPRODUCT(($AF$25:$AK$34=AS10)*($AX$25:$AX$34=3))+SUMPRODUCT(($AM$25:$AR$34=AS10)*($AZ$25:$AZ$34=3))","v":0},{"$f":"SUMPRODUCT(($AF$25:$AK$34=AS10)*($AX$25:$AX$34=1))+SUMPRODUCT(($AM$25:$AR$34=AS10)*($AZ$25:$AZ$34=1))","v":0},{"$f":"SUMPRODUCT(($AF$25:$AK$34=AS10)*($AX$25:$AX$34=0))+SUMPRODUCT(($AM$25:$AR$34=AS10)*($AZ$25:$AZ$34=0))","v":0},{"$f":"AY10-AZ10","v":0}]
[]
[null,null,null,"Tijd",null,null,"VELD A",null,null,null,null,null,null,null,null,null,null,null,null,null,"Uitslag",null,null,null,"Punten",null,null,null,"Tijd",null,null,"VELD B",null,null,null,null,null,null,null,null,null,null,null,null,null,"Uitslag",null,null,null,"Punten"]
[null,null,null,"09:00:00",null,null,{"$f":"B6","v":"Schoonhoven E1"},null,null,null,null,null,"--",{"$f":"B7","v":"Schoonhoven E2"},null,null,null,null,null,null,null,"--",null,null,{"$f":"IF(U13=\"\",\"\",IF(U13>W13,3,IF(U13=W13,1,0)))","v":""},null,{"$f":"IF(W13=\"\",\"\",IF(W13>U13,3,IF(W13=U13,1,0)))","v":""},null,"14:15:00",null,null,{"$f":"P6","v":"Schoonhoven E3"},null,null,null,null,null,"--",{"$f":"P7","v":"Schoonhoven E4"},null,null,null,null,null,null,null,"--",null,null,{"$f":"IF(AT13=\"\",\"\",IF(AT13>AV13,3,IF(AT13=AV13,1,0)))","v":""},null,{"$f":"IF(AV13=\"\",\"\",IF(AV13>AT13,3,IF(AV13=AT13,1,0)))","v":""}]
[null,null,null,"14:28:00",null,null,{"$f":"B8","v":"Jodan Boys E2"},null,null,null,null,null,"--",{"$f":"B9","v":"Alblasserdam E1"},null,null,null,null,null,null,null,"--",null,null,{"$f":"IF(U14=\"\",\"\",IF(U14>W14,3,IF(U14=W14,1,0)))","v":""},null,{"$f":"IF(W14=\"\",\"\",IF(W14>U14,3,IF(W14=U14,1,0)))","v":""},null,"14:28:00",null,null,{"$f":"P8","v":"RKDEO E3"},null,null,null,null,null,"--",{"$f":"P9","v":"VV GZ E3"},null,null,null,null,null,null,null,"--",null,null,{"$f":"IF(AT14=\"\",\"\",IF(AT14>AV14,3,IF(AT14=AV14,1,0)))","v":""},null,{"$f":"IF(AV14=\"\",\"\",IF(AV14>AT14,3,IF(AV14=AT14,1,0)))","v":""}]
[null,null,null,"14:41:00",null,null,{"$f":"B10","v":"Excelcior ??"},null,null,null,null,null,"--",{"$f":"B6","v":"Schoonhoven E1"},null,null,null,null,null,null,null,"--",null,null,{"$f":"IF(U15=\"\",\"\",IF(U15>W15,3,IF(U15=W15,1,0)))","v":""},null,"",null,"14:41:00",null,null,{"$f":"P10","v":"Alblasserdam E3"},null,null,null,null,null,"--",{"$f":"P6","v":"Schoonhoven E3"},null,null,null,null,null,null,null,"--",null,null,{"$f":"IF(AT15=\"\",\"\",IF(AT15>AV15,3,IF(AT15=AV15,1,0)))","v":""},null,""]
[null,null,null,"14:54:00",null,null,{"$f":"B7","v":"Schoonhoven E2"},null,null,null,null,null,"--",{"$f":"B8","v":"Jodan Boys E2"},null,null,null,null,null,null,null,"--",null,null,"",null,"",null,"14:54:00",null,null,{"$f":"P7","v":"Schoonhoven E4"},null,null,null,null,null,"--",{"$f":"P8","v":"RKDEO E3"},null,null,null,null,null,null,null,"--",null,null,"",null,""]
[null,null,null,"15:07:00",null,null,{"$f":"B10","v":"Excelcior ??"},null,null,null,null,null,"--",{"$f":"B9","v":"Alblasserdam E1"},null,null,null,null,null,null,null,"--",null,null,"",null,"",null,"15:07:00",null,null,{"$f":"P10","v":"Alblasserdam E3"},null,null,null,null,null,"--",{"$f":"P9","v":"VV GZ E3"},null,null,null,null,null,null,null,"--",null,null,"",null,""]
[null,null,null,"15:20:00",null,null,{"$f":"B6","v":"Schoonhoven E1"},null,null,null,null,null,"--",{"$f":"B8","v":"Jodan Boys E2"},null,null,null,null,null,null,null,"--",null,null,"",null,"",null,"15:20:00",null,null,{"$f":"P6","v":"Schoonhoven E3"},null,null,null,null,null,"--",{"$f":"P8","v":"RKDEO E3"},null,null,null,null,null,null,null,"--",null,null,"",null,""]
[null,null,null,"15:33:00",null,null,{"$f":"B7","v":"Schoonhoven E2"},null,null,null,null,null,"--",{"$f":"B10","v":"Excelcior ??"},null,null,null,null,null,null,null,"--",null,null,"",null,"",null,"15:33:00",null,null,{"$f":"P7","v":"Schoonhoven E4"},null,null,null,null,null,"--",{"$f":"P10","v":"Alblasserdam E3"},null,null,null,null,null,null,null,"--",null,null,"",null,""]
[null,null,null,"15:46:00",null,null,{"$f":"B9","v":"Alblasserdam E1"},null,null,null,null,null,"--",{"$f":"B6","v":"Schoonhoven E1"},null,null,null,null,null,null,null,"--",null,null,"",null,"",null,"15:46:00",null,null,{"$f":"P9","v":"VV GZ E3"},null,null,null,null,null,"--",{"$f":"P6","v":"Schoonhoven E3"},null,null,null,null,null,null,null,"--",null,null,"",null,""]
[null,null,null,"15:59:00",null,null,{"$f":"B8","v":"Jodan Boys E2"},null,null,null,null,null,"--",{"$f":"B10","v":"Excelcior ??"},null,null,null,null,null,null,null,"--",null,null,"",null,"",null,"15:59:00",null,null,{"$f":"P8","v":"RKDEO E3"},null,null,null,null,null,"--",{"$f":"P10","v":"Alblasserdam E3"},null,null,null,null,null,null,null,"--",null,null,"",null,""]
[null,null,null,"16:12:00",null,null,{"$f":"B9","v":"Alblasserdam E1"},null,null,null,null,null,"--",{"$f":"B7","v":"Schoonhoven E2"},null,null,null,null,null,null,null,"--",null,null,"",null,"",null,"16:12:00",null,null,{"$f":"P9","v":"VV GZ E3"},null,null,null,null,null,"--",{"$f":"P7","v":"Schoonhoven E4"},null,null,null,null,null,null,null,"--",null,null,"",null,""]
[]
[null,null,null,"Tijd",null,null,"VELD C",null,null,null,null,null,null,null,null,null,null,null,null,null,"Uitslag",null,null,null,"Punten",null,null,null,"Tijd",null,null,"VELD D",null,null,null,null,null,null,null,null,null,null,null,null,null,"Uitslag",null,null,null,"Punten"]
[null,null,null,"14:15:00",null,null,{"$f":"AE6","v":"Schoonhoven E5"},null,null,null,null,null,"--",{"$f":"AE7","v":"Schoonhoven E6"},null,null,null,null,null,null,null,"--",null,null,{"$f":"IF(U25=\"\",\"\",IF(U25>W25,3,IF(U25=W25,1,0)))","v":""},null,{"$f":"IF(W25=\"\",\"\",IF(W25>U25,3,IF(W25=U25,1,0)))","v":""},null,"14:15:00",null,null,{"$f":"AS6","v":"Schoonhoven E7"},null,null,null,null,null,"--",{"$f":"AS7","v":"Schoonhoven E8"},null,null,null,null,null,null,null,"--",null,null,{"$f":"IF(AT25=\"\",\"\",IF(AT25>AV25,3,IF(AT25=AV25,1,0)))","v":""},null,{"$f":"IF(AV25=\"\",\"\",IF(AV25>AT25,3,IF(AV25=AT25,1,0)))","v":""}]
[null,null,null,"14:28:00",null,null,{"$f":"AE8","v":"RKDEO E9"},null,null,null,null,null,"--",{"$f":"AE9","v":"scVictorie'04 E3"},null,null,null,null,null,null,null,"--",null,null,{"$f":"IF(U26=\"\",\"\",IF(U26>W26,3,IF(U26=W26,1,0)))","v":""},null,{"$f":"IF(W26=\"\",\"\",IF(W26>U26,3,IF(W26=U26,1,0)))","v":""},null,"14:28:00",null,null,{"$f":"AS8","v":"VFC Vlaardingen E8"},null,null,null,null,null,"--",{"$f":"AS9","v":"Jodan Boys E8"},null,null,null,null,null,null,null,"--",null,null,{"$f":"IF(AT26=\"\",\"\",IF(AT26>AV26,3,IF(AT26=AV26,1,0)))","v":""},null,{"$f":"IF(AV26=\"\",\"\",IF(AV26>AT26,3,IF(AV26=AT26,1,0)))","v":""}]
[null,null,null,"14:41:00",null,null,{"$f":"AE10","v":"Jodan Boys E6"},null,null,null,null,null,"--",{"$f":"AE6","v":"Schoonhoven E5"},null,null,null,null,null,null,null,"--",null,null,{"$f":"IF(U27=\"\",\"\",IF(U27>W27,3,IF(U27=W27,1,0)))","v":""},null,"",null,"14:41:00",null,null,{"$f":"AS10","v":"Smitshoek E10"},null,null,null,null,null,"--",{"$f":"AS6","v":"Schoonhoven E7"},null,null,null,null,null,null,null,"--",null,null,{"$f":"IF(AT27=\"\",\"\",IF(AT27>AV27,3,IF(AT27=AV27,1,0)))","v":""},null,""]
[null,null,null,"14:54:00",null,null,{"$f":"AE7","v":"Schoonhoven E6"},null,null,null,null,null,"--",{"$f":"AE8","v":"RKDEO E9"},null,null,null,null,null,null,null,"--",null,null,"",null,"",null,"14:54:00",null,null,{"$f":"AS7","v":"Schoonhoven E8"},null,null,null,null,null,"--",{"$f":"AS8","v":"VFC Vlaardingen E8"},null,null,null,null,null,null,null,"--",null,null,"",null,""]
[null,null,null,"15:07:00",null,null,{"$f":"AE10","v":"Jodan Boys E6"},null,null,null,null,null,"--",{"$f":"AE9","v":"scVictorie'04 E3"},null,null,null,null,null,null,null,"--",null,null,"",null,"",null,"15:07:00",null,null,{"$f":"AS10","v":"Smitshoek E10"},null,null,null,null,null,"--",{"$f":"AS9","v":"Jodan Boys E8"},null,null,null,null,null,null,null,"--",null,null,"",null,""]
[null,null,null,"15:20:00",null,null,{"$f":"AE6","v":"Schoonhoven E5"},null,null,null,null,null,"--",{"$f":"AE8","v":"RKDEO E9"},null,null,null,null,null,null,null,"--",null,null,"",null,"",null,"15:20:00",null,null,{"$f":"AS6","v":"Schoonhoven E7"},null,null,null,null,null,"--",{"$f":"AS8","v":"VFC Vlaardingen E8"},null,null,null,null,null,null,null,"--",null,null,"",null,""]
[null,null,null,"15:33:00",null,null,{"$f":"AE7","v":"Schoonhoven E6"},null,null,null,null,null,"--",{"$f":"AE10","v":"Jodan Boys E6"},null,null,null,null,null,null,null,"--",null,null,"",null,"",null,"15:33:00",null,null,{"$f":"AS7","v":"Schoonhoven E8"},null,null,null,null,null,"--",{"$f":"AS10","v":"Smitshoek E10"},null,null,null,null,null,null,null,"--",null,null,"",null,""]
[null,null,null,"15:46:00",null,null,{"$f":"AE9","v":"scVictorie'04 E3"},null,null,null,null,null,"--",{"$f":"AE6","v":"Schoonhoven E5"},null,null,null,null,null,null,null,"--",null,null,"",null,"",null,"15:46:00",null,null,{"$f":"AS9","v":"Jodan Boys E8"},null,null,null,null,null,"--",{"$f":"AS6","v":"Schoonhoven E7"},null,null,null,null,null,null,null,"--",null,null,"",null,""]
[null,null,null,"15:59:00",null,null,{"$f":"AE8","v":"RKDEO E9"},null,null,null,null,null,"--",{"$f":"AE10","v":"Jodan Boys E6"},null,null,null,null,null,null,null,"--",null,null,"",null,"",null,"15:59:00",null,null,{"$f":"AS8","v":"VFC Vlaardingen E8"},null,null,null,null,null,"--",{"$f":"AS10","v":"Smitshoek E10"},null,null,null,null,null,null,null,"--",null,null,"",null,""]
[null,null,null,"16:12:00",null,null,{"$f":"AE9","v":"scVictorie'04 E3"},null,null,null,null,null,"--",{"$f":"AE7","v":"Schoonhoven E6"},null,null,null,null,null,null,null,"--",null,null,"",null,"",null,"16:12:00",null,null,{"$f":"AS9","v":"Jodan Boys E8"},null,null,null,null,null,"--",{"$f":"AS7","v":"Schoonhoven E8"},null,null,null,null,null,null,null,"--",null,null,"",null,""]
[]
[]
[]
[null,null,null,"(zie verder op het volgende blad)"]

{"sheet":"finale","index":1,"n_rows":21,"n_cols":57,"rows_kept":21,"cut":false,"hidden":false,"merged":[[11,24,11,27],[11,19,11,22],[11,8,11,11],[11,3,11,6],[18,12,18,18],[16,11,16,14],[16,16,16,19],[15,16,15,19],[15,11,15,14],[13,3,13,27],[0,3,0,27],[8,3,8,27],[10,0,10,1],[10,24,10,27],[10,19,10,22],[10,8,10,11],[10,3,10,6],[6,24,6,27],[5,24,5,27],[5,19,5,22],[10,16,10,17],[6,19,6,22],[5,3,5,6],[2,16,2,17],[2,19,2,22],[5,8,5,11],[2,24,2,27],[3,3,3,6],[3,8,3,11],[3,24,3,27],[3,19,3,22],[20,12,22,18],[2,0,2,1],[2,3,2,6],[2,8,2,11],[5,0,5,1],[15,7,15,8],[5,16,5,17],[6,3,6,6],[6,8,6,11]]}
[null,null,null,"Kwartfinale",null,null,null,null,null,null,null,null,null,null,null,null,null,null,null,null,null,null,null,null,null,null,null,null,null,null,null,null,null,null,null,null,null,null,null,null,null,null,null,null,null,null,null,null,{"$f":"Voorronde!AY1","v":10},{"$f":"Voorronde!BJ1","v":1},{"$f":"Voorronde!BK1","v":"Schoonhoven E1"},{"$f":"Voorronde!BL1","v":1},{"$f":"Voorronde!BM1","v":"Schoonhoven E3"},{"$f":"Voorronde!BN1","v":1},{"$f":"Voorronde!BO1","v":"Schoonhoven E5"},{"$f":"Voorronde!BP1","v":1},{"$f":"Voorronde!BQ1","v":"Schoonhoven E7"}]
[null,null,null,null,null,null,null,null,null,null,null,null,null,null,null,null,null,null,null,null,null,null,null,null,null,null,null,null,null,null,null,null,null,null,null,null,null,null,null,null,null,null,null,null,null,null,null,null,{"$f":"Voorronde!AZ1","v":10},{"$f":"Voorronde!BJ2","v":1},{"$f":"Voorronde!BK2","v":"Schoonhoven E2"},{"$f":"Voorronde!BL2","v":1},{"$f":"Voorronde!BM2","v":"Schoonhoven E4"},{"$f":"Voorronde!BN2","v":1},{"$f":"Voorronde!BO2","v":"Schoonhoven E6"},{"$f":"Voorronde!BP2","v":1},{"$f":"Voorronde!BQ2","v":"Schoonhoven E8"}]
["16:30:00",null,"A","Nr 1 groep 1",null,null,null,null,"Nr 2 groep 3",null,null,null,null,null,null,null,"16:30:00",null,"B","Nr 1 groep 2",null,null,null,null,"Nr 2 groep 4",null,null,null,null,null,null,null,null,null,null,null,null,null,null,null,null,null,null,null,null,null,null,null,{"$f":"Voorronde!BA1","v":10},{"$f":"Voorronde!BJ3","v":1},{"$f":"Voorronde!BK3","v":"Jodan Boys E2"},{"$f":"Voorronde!BL3","v":1},{"$f":"Voorronde!BM3","v":"RKDEO E3"},{"$f":"Voorronde!BN3","v":1},{"$f":"Voorronde!BO3","v":"RKDEO E9"},{"$f":"Voorronde!BP3","v":1},{"$f":"Voorronde!BQ3","v":"VFC Vlaardingen E8"}]
[null,null,null,{"$f":"IF(AW1=30,VLOOKUP(1,AX1:AY5,2,0),\"\")","v":""},null,null,null,"--",{"$f":"IF(AW3=30,VLOOKUP(2,BB1:BC5,2,0),\"\")","v":""},null,null,null,null,null,"-",null,null,null,null,{"$f":"IF(AW2=30,VLOOKUP(1,AZ1:BA5,2,0),\"\")","v":""},null,null,null,"--",{"$f":"IF(AW4=30,VLOOKUP(2,BD1:BE5,2,0),\"\")","v":""},null,null,null,null,null,"-",null,null,null,null,null,null,null,null,null,null,null,null,null,null,null,null,null,{"$f":"Voorronde!BB1","v":10},{"$f":"Voorronde!BJ4","v":1},{"$f":"Voorronde!BK4","v":"Alblasserdam E1"},{"$f":"Voorronde!BL4","v":1},{"$f":"Voorronde!BM4","v":"VV GZ E3"},{"$f":"Voorronde!BN4","v":1},{"$f":"Voorronde!BO4","v":"scVictorie'04 E3"},{"$f":"Voorronde!BP4","v":1},{"$f":"Voorronde!BQ4","v":"Jodan Boys E8"}]
[null,null,null,null,null,null,null,null,null,null,null,null,null,null,null,null,null,null,null,null,null,null,null,null,null,null,null,null,null,null,null,null,null,null,null,null,null,null,null,null,null,null,null,null,null,null,null,null,null,{"$f":"Voorronde!BJ5","v":1},{"$f":"Voorronde!BK5","v":"Excelcior ??"},{"$f":"Voorronde!BL5","v":1},{"$f":"Voorronde!BM5","v":"Alblasserdam E3"},{"$f":"Voorronde!BN5","v":1},{"$f":"Voorronde!BO5","v":"Jodan Boys E6"},{"$f":"Voorronde!BP5","v":1},{"$f":"Voorronde!BQ5","v":"Smitshoek E10"}]
["16:30:00",null,"C","Nr 1 groep 3",null,null,null,null,"Nr 2 groep 2",null,null,null,null,null,null,null,"16:30:00",null,"D","Nr 1 groep 4 ",null,null,null,null,"Nr 2 groep 1"]
[null,null,null,{"$f":"IF(AW3=30,VLOOKUP(1,BB1:BC5,2,0),\"\")","v":""},null,null,null,null,{"$f":"IF(AW2=30,VLOOKUP(2,AZ1:BA5,2,0),\"\")","v":""},null,null,null,null,null,"-",null,null,null,null,{"$f":"IF(AW4=30,VLOOKUP(1,BD1:BE5,2,0),\"\")","v":""},null,null,null,null,{"$f":"IF(AW1=30,VLOOKUP(2,AX1:AY5,2,0),\"\")","v":""},null,null,null,null,null,"-"]
[]
[null,null,null,"Halve finale"]
[]
["16:45:00",null,"E","Winnaar A",null,null,null,null,"Winnaar B",null,null,null,null,null,null,null,"16:45:00",null,"F","Winnaar C",null,null,null,null,"Winnaar D"]
[null,null,null,{"$f":"IF(N4=\"\",\"\",IF(N4>P4,D4,I4))","v":""},null,null,null,null,{"$f":"IF(AD4=\"\",\"\",IF(AD4>AF4,T4,Y4))","v":""},null,null,null,null,null,"-",null,null,null,null,{"$f":"IF(N7=\"\",\"\",IF(N7>P7,D7,I7))","v":""},null,null,null,null,{"$f":"IF(AD7=\"\",\"\",IF(AD7>AF7,T7,Y7))","v":""},null,null,null,null,null,"-"]
[]
[null,null,null,"Finale"]
[]
[null,null,null,null,null,null,null,"17:05:00",null,null,null,"Winnaar E",null,null,null,null,"Winnaar F"]
[null,null,null,null,null,null,null,null,null,null,null,{"$f":"IF(N12=\"\",\"\",IF(N12>P12,D12,I12))","v":""},null,null,null,null,{"$f":"IF(AD12=\"\",\"\",IF(AD12>AF12,T12,Y12))","v":""},null,null,null,null,1,"-",2]
[]
[null,null,null,null,null,null,null,null,null,null,null,null,"Winnaar E-toernooi"]
[]
[null,null,null,null,null,null,null,null,null,null,null,null,{"$f":"IF(V17=\"\",\"\",IF(V17>X17,L17,Q17))","v":""}]

{"sheet":"troostfinale","index":2,"n_rows":21,"n_cols":57,"rows_kept":21,"cut":false,"hidden":false,"merged":[[0,3,0,27],[2,0,2,1],[2,3,2,6],[2,8,2,11],[2,16,2,17],[2,19,2,22],[2,24,2,27],[3,3,3,6],[3,8,3,11],[3,19,3,22],[3,24,3,27],[5,0,5,1],[5,3,5,6],[5,8,5,11],[5,16,5,17],[5,19,5,22],[5,24,5,27],[10,0,10,1],[10,3,10,6],[10,8,10,11],[10,16,10,17],[10,19,10,22],[13,3,13,27],[6,3,6,6],[6,8,6,11],[6,19,6,22],[6,24,6,27],[8,3,8,27],[10,24,10,27],[11,3,11,6],[11,8,11,11],[11,19,11,22],[11,24,11,27],[20,12,22,18],[15,7,15,8],[15,11,15,14],[15,16,15,19],[16,11,16,14],[16,16,16,19],[18,12,18,18]]}
[null,null,null,"Kwartfinale",null,null,null,null,null,null,null,null,null,null,null,null,null,null,null,null,null,null,null,null,null,null,null,null,null,null,null,null,null,null,null,null,null,null,null,null,null,null,null,null,null,null,null,null,{"$f":"Voorronde!AY1","v":10},{"$f":"Voorronde!BJ1","v":1},{"$f":"Voorronde!BK1","v":"Schoonhoven E1"},{"$f":"Voorronde!BL1","v":1},{"$f":"Voorronde!BM1","v":"Schoonhoven E3"},{"$f":"Voorronde!BN1","v":1},{"$f":"Voorronde!BO1","v":"Schoonhoven E5"},{"$f":"Voorronde!BP1","v":1},{"$f":"Voorronde!BQ1","v":"Schoonhoven E7"}]
[null,null,null,null,null,null,null,null,null,null,null,null,null,null,null,null,null,null,null,null,null,null,null,null,null,null,null,null,null,null,null,null,null,null,null,null,null,null,null,null,null,null,null,null,null,null,null,null,{"$f":"Voorronde!AZ1","v":10},{"$f":"Voorronde!BJ2","v":1},{"$f":"Voorronde!BK2","v":"Schoonhoven E2"},{"$f":"Voorronde!BL2","v":1},{"$f":"Voorronde!BM2","v":"Schoonhoven E4"},{"$f":"Voorronde!BN2","v":1},{"$f":"Voorronde!BO2","v":"Schoonhoven E6"},{"$f":"Voorronde!BP2","v":1},{"$f":"Voorronde!BQ2","v":"Schoonhoven E8"}]
["16:30:00",null,"A","Nr 3 groep 1",null,null,null,null,"Nr 4 groep 3",null,null,null,null,null,null,null,"16:30:00",null,"B","Nr 3 groep 2",null,null,null,null,"Nr 4 groep 4",null,null,null,null,null,null,null,null,null,null,null,null,null,null,null,null,null,null,null,null,null,null,null,{"$f":"Voorronde!BA1","v":10},{"$f":"Voorronde!BJ3","v":1},{"$f":"Voorronde!BK3","v":"Jodan Boys E2"},{"$f":"Voorronde!BL3","v":1},{"$f":"Voorronde!BM3","v":"RKDEO E3"},{"$f":"Voorronde!BN3","v":1},{"$f":"Voorronde!BO3","v":"RKDEO E9"},{"$f":"Voorronde!BP3","v":1},{"$f":"Voorronde!BQ3","v":"VFC Vlaardingen E8"}]
[null,null,null,{"$f":"IF(AW1=30,VLOOKUP(3,AX1:AY5,2,0),\"\")","v":""},null,null,null,"--",{"$f":"IF(AW3=30,VLOOKUP(4,BB1:BC5,2,0),\"\")","v":""},null,null,null,null,null,"-",null,null,null,null,{"$f":"IF(AW2=30,VLOOKUP(3,AZ1:BA5,2,0),\"\")","v":""},null,null,null,"--",{"$f":"IF(AW4=30,VLOOKUP(4,BD1:BE5,2,0),\"\")","v":""},null,null,null,null,null,"-",null,null,null,null,null,null,null,null,null,null,null,null,null,null,null,null,null,{"$f":"Voorronde!BB1","v":10},{"$f":"Voorronde!BJ4","v":1},{"$f":"Voorronde!BK4","v":"Alblasserdam E1"},{"$f":"Voorronde!BL4","v":1},{"$f":"Voorronde!BM4","v":"VV GZ E3"},{"$f":"Voorronde!BN4","v":1},{"$f":"Voorronde!BO4","v":"scVictorie'04 E3"},{"$f":"Voorronde!BP4","v":1},{"$f":"Voorronde!BQ4","v":"Jodan Boys E8"}]
[null,null,null,null,null,null,null,null,null,null,null,null,null,null,null,null,null,null,null,null,null,null,null,null,null,null,null,null,null,null,null,null,null,null,null,null,null,null,null,null,null,null,null,null,null,null,null,null,null,{"$f":"Voorronde!BJ5","v":1},{"$f":"Voorronde!BK5","v":"Excelcior ??"},{"$f":"Voorronde!BL5","v":1},{"$f":"Voorronde!BM5","v":"Alblasserdam E3"},{"$f":"Voorronde!BN5","v":1},{"$f":"Voorronde!BO5","v":"Jodan Boys E6"},{"$f":"Voorronde!BP5","v":1},{"$f":"Voorronde!BQ5","v":"Smitshoek E10"}]
["16:30:00",null,"C","Nr 3 groep 3",null,null,null,null,"Nr 4 groep 2",null,null,null,null,null,null,null,"16:30:00",null,"D","Nr 3 groep 4 ",null,null,null,null,"Nr 4 groep 1"]
[null,null,null,{"$f":"IF(AW3=30,VLOOKUP(3,BB1:BC5,2,0),\"\")","v":""},null,null,null,null,{"$f":"IF(AW2=30,VLOOKUP(4,AZ1:BA5,2,0),\"\")","v":""},null,null,null,null,null,"-",null,null,null,null,{"$f":"IF(AW4=30,VLOOKUP(3,BD1:BE5,2,0),\"\")","v":""},null,null,null,null,{"$f":"IF(AW1=30,VLOOKUP(4,AX1:AY5,2,0),\"\")","v":""},null,null,null,null,null,"-"]
[]
[null,null,null,"Halve finale"]
[]
["16:45:00",null,"E","Winnaar A",null,null,null,null,"Winnaar B",null,null,null,null,null,null,null,"16:45:00",null,"F","Winnaar C",null,null,null,null,"Winnaar D"]
[null,null,null,{"$f":"IF(N4=\"\",\"\",IF(N4>P4,D4,I4))","v":""},null,null,null,null,{"$f":"IF(AD4=\"\",\"\",IF(AD4>AF4,T4,Y4))","v":""},null,null,null,null,null,"-",null,null,null,null,{"$f":"IF(N7=\"\",\"\",IF(N7>P7,D7,I7))","v":""},null,null,null,null,{"$f":"IF(AD7=\"\",\"\",IF(AD7>AF7,T7,Y7))","v":""},null,null,null,null,null,"-"]
[]
[null,null,null,"Finale"]
[]
[null,null,null,null,null,null,null,"17:05:00",null,null,null,"Winnaar E",null,null,null,null,"Winnaar F"]
[null,null,null,null,null,null,null,null,null,null,null,{"$f":"IF(N12=\"\",\"\",IF(N12>P12,D12,I12))","v":""},null,null,null,null,{"$f":"IF(AD12=\"\",\"\",IF(AD12>AF12,T12,Y12))","v":""},null,null,null,null,1,"-",2]
[]
[null,null,null,null,null,null,null,null,null,null,null,null,"Winnaar E-toernooi"]
[]
[null,null,null,null,null,null,null,null,null,null,null,null,{"$f":"IF(V17=\"\",\"\",IF(V17>X17,L17,Q17))","v":""}]

{"sheet":"GROEP-1","index":3,"n_rows":24,"n_cols":15,"rows_kept":24,"cut":false,"hidden":false,"merged":[[0,14,2,15],[0,0,2,13],[20,1,20,6],[21,1,21,6],[22,1,22,6],[16,0,18,0],[10,5,10,6],[11,2,11,3],[11,5,11,6],[3,0,3,1],[3,2,3,6],[3,7,3,9],[7,2,7,3],[7,5,7,6],[6,0,6,1],[7,0,7,1],[23,1,23,6],[3,11,3,13],[16,1,18,6],[16,7,18,7],[16,8,18,8],[16,9,18,9],[16,11,18,11],[16,12,18,12],[16,13,18,13],[19,1,19,6],[12,2,12,3],[12,5,12,6],[16,10,18,10],[9,2,9,3],[9,5,9,6],[10,2,10,3],[4,0,4,1],[5,0,5,1],[5,2,5,3],[4,2,4,3],[4,5,4,6],[5,5,5,6],[8,0,8,1],[9,0,9,1],[6,2,6,3],[6,5,6,6],[8,2,8,3],[8,5,8,6],[13,2,13,3],[13,5,13,6],[13,0,13,1],[10,0,10,1],[11,0,11,1],[12,0,12,1]]}
["SCHOONHOVEN TOERNOOI",null,null,null,null,null,null,null,null,null,null,null,null,null,"SCORES BY:\nOnlineExcelCursus.NL"]
[]
[]
[{"$f":"Voorronde!D12","v":"Tijd"},{"$f":"Voorronde!E12","v":0},{"$f":"Voorronde!G12","v":"VELD A"},null,null,null,null,{"$f":"Voorronde!U12","v":"Uitslag"},null,null,null,{"$f":"Voorronde!Y12","v":"Punten"}]
[{"$f":"Voorronde!D13","v":"09:00:00"},{"$f":"Voorronde!E13","v":"00:00:00"},{"$f":"Voorronde!G13","v":"Schoonhoven E1"},{"$f":"Voorronde!H13","v":0},{"$f":"Voorronde!M13","v":"--"},{"$f":"Voorronde!N13","v":"Schoonhoven E2"},{"$f":"Voorronde!O13","v":0},{"$f":"Voorronde!U13","v":0},{"$f":"Voorronde!V13","v":"--"},{"$f":"Voorronde!W13","v":0},null,{"$f":"Voorronde!Y13","v":""},null,{"$f":"Voorronde!AA13","v":""}]
[{"$f":"Voorronde!D14","v":"14:28:00"},{"$f":"Voorronde!E14","v":"00:00:00"},{"$f":"Voorronde!G14","v":"Jodan Boys E2"},{"$f":"Voorronde!H14","v":0},{"$f":"Voorronde!M14","v":"--"},{"$f":"Voorronde!N14","v":"Alblasserdam E1"},{"$f":"Voorronde!O14","v":0},{"$f":"Voorronde!U14","v":0},{"$f":"Voorronde!V14","v":"--"},{"$f":"Voorronde!W14","v":0},null,{"$f":"Voorronde!Y14","v":""},null,{"$f":"Voorronde!AA14","v":""}]
[{"$f":"Voorronde!D15","v":"14:41:00"},{"$f":"Voorronde!E15","v":"00:00:00"},{"$f":"Voorronde!G15","v":"Excelcior ??"},{"$f":"Voorronde!H15","v":0},{"$f":"Voorronde!M15","v":"--"},{"$f":"Voorronde!N15","v":"Schoonhoven E1"},{"$f":"Voorronde!O15","v":0},{"$f":"Voorronde!U15","v":0},{"$f":"Voorronde!V15","v":"--"},{"$f":"Voorronde!W15","v":0},null,{"$f":"Voorronde!Y15","v":""},null,{"$f":"Voorronde!AA15","v":""}]
[{"$f":"Voorronde!D16","v":"14:54:00"},{"$f":"Voorronde!E16","v":"00:00:00"},{"$f":"Voorronde!G16","v":"Schoonhoven E2"},{"$f":"Voorronde!H16","v":0},{"$f":"Voorronde!M16","v":"--"},{"$f":"Voorronde!N16","v":"Jodan Boys E2"},{"$f":"Voorronde!O16","v":0},{"$f":"Voorronde!U16","v":0},{"$f":"Voorronde!V16","v":"--"},{"$f":"Voorronde!W16","v":0},null,{"$f":"Voorronde!Y16","v":""},null,{"$f":"Voorronde!AA16","v":""}]
[{"$f":"Voorronde!D17","v":"15:07:00"},{"$f":"Voorronde!E17","v":"00:00:00"},{"$f":"Voorronde!G17","v":"Excelcior ??"},{"$f":"Voorronde!H17","v":0},{"$f":"Voorronde!M17","v":"--"},{"$f":"Voorronde!N17","v":"Alblasserdam E1"},{"$f":"Voorronde!O17","v":0},{"$f":"Voorronde!U17","v":0},{"$f":"Voorronde!V17","v":"--"},{"$f":"Voorronde!W17","v":0},null,{"$f":"Voorronde!Y17","v":""},null,{"$f":"Voorronde!AA17","v":""}]
[{"$f":"Voorronde!D18","v":"15:20:00"},{"$f":"Voorronde!E18","v":"00:00:00"},{"$f":"Voorronde!G18","v":"Schoonhoven E1"},{"$f":"Voorronde!H18","v":0},{"$f":"Voorronde!M18","v":"--"},{"$f":"Voorronde!N18","v":"Jodan Boys E2"},{"$f":"Voorronde!O18","v":0},{"$f":"Voorronde!U18","v":0},{"$f":"Voorronde!V18","v":"--"},{"$f":"Voorronde!W18","v":0},null,{"$f":"Voorronde!Y18","v":""},null,{"$f":"Voorronde!AA18","v":""}]
[{"$f":"Voorronde!D19","v":"15:33:00"},{"$f":"Voorronde!E19","v":"00:00:00"},{"$f":"Voorronde!G19","v":"Schoonhoven E2"},{"$f":"Voorronde!H19","v":0},{"$f":"Voorronde!M19","v":"--"},{"$f":"Voorronde!N19","v":"Excelcior ??"},{"$f":"Voorronde!O19","v":0},{"$f":"Voorronde!U19","v":0},{"$f":"Voorronde!V19","v":"--"},{"$f":"Voorronde!W19","v":0},null,{"$f":"Voorronde!Y19","v":""},null,{"$f":"Voorronde!AA19","v":""}]
[{"$f":"Voorronde!D20","v":"15:46:00"},{"$f":"Voorronde!E20","v":"00:00:00"},{"$f":"Voorronde!G20","v":"Alblasserdam E1"},{"$f":"Voorronde!H20","v":0},{"$f":"Voorronde!M20","v":"--"},{"$f":"Voorronde!N20","v":"Schoonhoven E1"},{"$f":"Voorronde!O20","v":0},{"$f":"Voorronde!U20","v":0},{"$f":"Voorronde!V20","v":"--"},{"$f":"Voorronde!W20","v":0},null,{"$f":"Voorronde!Y20","v":""},null,{"$f":"Voorronde!AA20","v":""}]
[{"$f":"Voorronde!D21","v":"15:59:00"},{"$f":"Voorronde!E21","v":"00:00:00"},{"$f":"Voorronde!G21","v":"Jodan Boys E2"},{"$f":"Voorronde!H21","v":0},{"$f":"Voorronde!M21","v":"--"},{"$f":"Voorronde!N21","v":"Excelcior ??"},{"$f":"Voorronde!O21","v":0},{"$f":"Voorronde!U21","v":0},{"$f":"Voorronde!V21","v":"--"},{"$f":"Voorronde!W21","v":0},null,{"$f":"Voorronde!Y21","v":""},null,{"$f":"Voorronde!AA21","v":""}]
[{"$f":"Voorronde!D22","v":"16:12:00"},{"$f":"Voorronde!E22","v":"00:00:00"},{"$f":"Voorronde!G22","v":"Alblasserdam E1"},{"$f":"Voorronde!H22","v":0},{"$f":"Voorronde!M22","v":"--"},{"$f":"Voorronde!N22","v":"Schoonhoven E2"},{"$f":"Voorronde!O22","v":0},{"$f":"Voorronde!U22","v":0},{"$f":"Voorronde!V22","v":"--"},{"$f":"Voorronde!W22","v":0},null,{"$f":"Voorronde!Y22","v":""},null,{"$f":"Voorronde!AA22","v":""}]
[]
[]
[{"$f":"Voorronde!A3","v":"Stand"},{"$f":"Voorronde!B5","v":"Groep 1"},null,null,null,null,null,{"$f":"Voorronde!H5","v":"V"},{"$f":"Voorronde!I5","v":"T"},{"$f":"Voorronde!J5","v":"P"},{"$f":"Voorronde!K3","v":"Gewonnen"},{"$f":"Voorronde!L3","v":"Gelijk"},{"$f":"Voorronde!M3","v":"Verloren"},{"$f":"Voorronde!N3","v":"Saldo"}]
[{"$f":"Voorronde!A4","v":0},null,null,null,null,null,null,null,null,null,{"$f":"Voorronde!K4","v":0},{"$f":"Voorronde!L4","v":0},{"$f":"Voorronde!M4","v":0},{"$f":"Voorronde!N4","v":0}]
[{"$f":"Voorronde!A5","v":0},null,null,null,null,null,null,null,null,null,{"$f":"Voorronde!K5","v":0},{"$f":"Voorronde!L5","v":0},{"$f":"Voorronde!M5","v":0},{"$f":"Voorronde!N5","v":0}]
[{"$f":"Voorronde!A6","v":1},{"$f":"Voorronde!B6","v":"Schoonhoven E1"},{"$f":"Voorronde!C6","v":0},{"$f":"Voorronde!D6","v":0},{"$f":"Voorronde!E6","v":0},{"$f":"Voorronde!F6","v":0},{"$f":"Voorronde!G6","v":0},{"$f":"Voorronde!H6","v":0},{"$f":"Voorronde!I6","v":0},{"$f":"Voorronde!J6","v":0},{"$f":"Voorronde!K6","v":0},{"$f":"Voorronde!L6","v":0},{"$f":"Voorronde!M6","v":0},{"$f":"Voorronde!N6","v":0}]
[{"$f":"Voorronde!A7","v":1},{"$f":"Voorronde!B7","v":"Schoonhoven E2"},{"$f":"Voorronde!C7","v":0},{"$f":"Voorronde!D7","v":0},{"$f":"Voorronde!E7","v":0},{"$f":"Voorronde!F7","v":0},{"$f":"Voorronde!G7","v":0},{"$f":"Voorronde!H7","v":0},{"$f":"Voorronde!I7","v":0},{"$f":"Voorronde!J7","v":0},{"$f":"Voorronde!K7","v":0},{"$f":"Voorronde!L7","v":0},{"$f":"Voorronde!M7","v":0},{"$f":"Voorronde!N7","v":0}]
[{"$f":"Voorronde!A8","v":1},{"$f":"Voorronde!B8","v":"Jodan Boys E2"},{"$f":"Voorronde!C8","v":0},{"$f":"Voorronde!D8","v":0},{"$f":"Voorronde!E8","v":0},{"$f":"Voorronde!F8","v":0},{"$f":"Voorronde!G8","v":0},{"$f":"Voorronde!H8","v":0},{"$f":"Voorronde!I8","v":0},{"$f":"Voorronde!J8","v":0},{"$f":"Voorronde!K8","v":0},{"$f":"Voorronde!L8","v":0},{"$f":"Voorronde!M8","v":0},{"$f":"Voorronde!N8","v":0}]
[{"$f":"Voorronde!A9","v":1},{"$f":"Voorronde!B9","v":"Alblasserdam E1"},{"$f":"Voorronde!C9","v":0},{"$f":"Voorronde!D9","v":0},{"$f":"Voorronde!E9","v":0},{"$f":"Voorronde!F9","v":0},{"$f":"Voorronde!G9","v":0},{"$f":"Voorronde!H9","v":0},{"$f":"Voorronde!I9","v":0},{"$f":"Voorronde!J9","v":0},{"$f":"Voorronde!K9","v":0},{"$f":"Voorronde!L9","v":0},{"$f":"Voorronde!M9","v":0},{"$f":"Voorronde!N9","v":0}]
[{"$f":"Voorronde!A10","v":1},{"$f":"Voorronde!B10","v":"Excelcior ??"},{"$f":"Voorronde!C10","v":0},{"$f":"Voorronde!D10","v":0},{"$f":"Voorronde!E10","v":0},{"$f":"Voorronde!F10","v":0},{"$f":"Voorronde!G10","v":0},{"$f":"Voorronde!H10","v":0},{"$f":"Voorronde!I10","v":0},{"$f":"Voorronde!J10","v":0},{"$f":"Voorronde!K10","v":0},{"$f":"Voorronde!L10","v":0},{"$f":"Voorronde!M10","v":0},{"$f":"Voorronde!N10","v":0}]

{"sheet":"GROEP-2","index":4,"n_rows":25,"n_cols":13,"rows_kept":25,"cut":false,"hidden":false,"merged":[[17,11,19,11],[0,12,2,13],[20,1,20,4],[21,1,21,4],[22,1,22,4],[0,0,2,11],[3,5,3,7],[3,9,3,11],[12,0,12,1],[13,0,13,1],[3,0,3,1],[3,2,3,4],[9,0,9,1],[10,0,10,1],[11,0,11,1],[6,0,6,1],[17,8,19,8],[17,9,19,9],[17,10,19,10],[17,7,19,7],[24,1,24,4],[17,1,19,4],[17,5,19,5],[17,6,19,6],[23,1,23,4],[7,0,7,1],[8,0,8,1],[4,0,4,1],[5,0,5,1],[17,0,19,0]]}
["SCHOONHOVEN TOERNOOI",null,null,null,null,null,null,null,null,null,null,null,"SCORES BY:\nOnlineExcelCursus.NL"]
[]
[]
[{"$f":"Voorronde!AC12","v":"Tijd"},null,{"$f":"Voorronde!AF12","v":"VELD B"},null,null,{"$f":"Voorronde!AT12","v":"Uitslag"},null,null,null,{"$f":"Voorronde!AX12","v":"Punten"}]
[{"$f":"Voorronde!AC13","v":"14:15:00"},{"$f":"Voorronde!AD13","v":"00:00:00"},{"$f":"Voorronde!AF13","v":"Schoonhoven E3"},{"$f":"Voorronde!AL13","v":"--"},{"$f":"Voorronde!AM13","v":"Schoonhoven E4"},{"$f":"Voorronde!AT13","v":0},{"$f":"Voorronde!AU13","v":"--"},{"$f":"Voorronde!AV13","v":0},null,{"$f":"Voorronde!AX13","v":""},null,{"$f":"Voorronde!AZ13","v":""}]
[{"$f":"Voorronde!AC14","v":"14:28:00"},{"$f":"Voorronde!AD14","v":"00:00:00"},{"$f":"Voorronde!AF14","v":"RKDEO E3"},{"$f":"Voorronde!AL14","v":"--"},{"$f":"Voorronde!AM14","v":"VV GZ E3"},{"$f":"Voorronde!AT14","v":0},{"$f":"Voorronde!AU14","v":"--"},{"$f":"Voorronde!AV14","v":0},null,{"$f":"Voorronde!AX14","v":""},null,{"$f":"Voorronde!AZ14","v":""}]
[{"$f":"Voorronde!AC15","v":"14:41:00"},{"$f":"Voorronde!AD15","v":"00:00:00"},{"$f":"Voorronde!AF15","v":"Alblasserdam E3"},{"$f":"Voorronde!AL15","v":"--"},{"$f":"Voorronde!AM15","v":"Schoonhoven E3"},{"$f":"Voorronde!AT15","v":0},{"$f":"Voorronde!AU15","v":"--"},{"$f":"Voorronde!AV15","v":0},null,{"$f":"Voorronde!AX15","v":""},null,{"$f":"Voorronde!AZ15","v":""}]
[{"$f":"Voorronde!AC16","v":"14:54:00"},{"$f":"Voorronde!AD16","v":"00:00:00"},{"$f":"Voorronde!AF16","v":"Schoonhoven E4"},{"$f":"Voorronde!AL16","v":"--"},{"$f":"Voorronde!AM16","v":"RKDEO E3"},{"$f":"Voorronde!AT16","v":0},{"$f":"Voorronde!AU16","v":"--"},{"$f":"Voorronde!AV16","v":0},null,{"$f":"Voorronde!AX16","v":""},null,{"$f":"Voorronde!AZ16","v":""}]
[{"$f":"Voorronde!AC17","v":"15:07:00"},{"$f":"Voorronde!AD17","v":"00:00:00"},{"$f":"Voorronde!AF17","v":"Alblasserdam E3"},{"$f":"Voorronde!AL17","v":"--"},{"$f":"Voorronde!AM17","v":"VV GZ E3"},{"$f":"Voorronde!AT17","v":0},{"$f":"Voorronde!AU17","v":"--"},{"$f":"Voorronde!AV17","v":0},null,{"$f":"Voorronde!AX17","v":""},null,{"$f":"Voorronde!AZ17","v":""}]
[{"$f":"Voorronde!AC18","v":"15:20:00"},{"$f":"Voorronde!AD18","v":"00:00:00"},{"$f":"Voorronde!AF18","v":"Schoonhoven E3"},{"$f":"Voorronde!AL18","v":"--"},{"$f":"Voorronde!AM18","v":"RKDEO E3"},{"$f":"Voorronde!AT18","v":0},{"$f":"Voorronde!AU18","v":"--"},{"$f":"Voorronde!AV18","v":0},null,{"$f":"Voorronde!AX18","v":""},null,{"$f":"Voorronde!AZ18","v":""}]
[{"$f":"Voorronde!AC19","v":"15:33:00"},{"$f":"Voorronde!AD19","v":"00:00:00"},{"$f":"Voorronde!AF19","v":"Schoonhoven E4"},{"$f":"Voorronde!AL19","v":"--"},{"$f":"Voorronde!AM19","v":"Alblasserdam E3"},{"$f":"Voorronde!AT19","v":0},{"$f":"Voorronde!AU19","v":"--"},{"$f":"Voorronde!AV19","v":0},null,{"$f":"Voorronde!AX19","v":""},null,{"$f":"Voorronde!AZ19","v":""}]
[{"$f":"Voorronde!AC20","v":"15:46:00"},{"$f":"Voorronde!AD20","v":"00:00:00"},{"$f":"Voorronde!AF20","v":"VV GZ E3"},{"$f":"Voorronde!AL20","v":"--"},{"$f":"Voorronde!AM20","v":"Schoonhoven E3"},{"$f":"Voorronde!AT20","v":0},{"$f":"Voorronde!AU20","v":"--"},{"$f":"Voorronde!AV20","v":0},null,{"$f":"Voorronde!AX20","v":""},null,{"$f":"Voorronde!AZ20","v":""}]
[{"$f":"Voorronde!AC21","v":"15:59:00"},{"$f":"Voorronde!AD21","v":"00:00:00"},{"$f":"Voorronde!AF21","v":"RKDEO E3"},{"$f":"Voorronde!AL21","v":"--"},{"$f":"Voorronde!AM21","v":"Alblasserdam E3"},{"$f":"Voorronde!AT21","v":0},{"$f":"Voorronde!AU21","v":"--"},{"$f":"Voorronde!AV21","v":0},null,{"$f":"Voorronde!AX21","v":""},null,{"$f":"Voorronde!AZ21","v":""}]
[{"$f":"Voorronde!AC22","v":"16:12:00"},{"$f":"Voorronde!AD22","v":"00:00:00"},{"$f":"Voorronde!AF22","v":"VV GZ E3"},{"$f":"Voorronde!AL22","v":"--"},{"$f":"Voorronde!AM22","v":"Schoonhoven E4"},{"$f":"Voorronde!AT22","v":0},{"$f":"Voorronde!AU22","v":"--"},{"$f":"Voorronde!AV22","v":0},null,{"$f":"Voorronde!AX22","v":""},null,{"$f":"Voorronde!AZ22","v":""}]
[]
[]
[]
[{"$f":"Voorronde!O3","v":"Stand"},{"$f":"Voorronde!P5","v":"Groep 2"},null,null,null,{"$f":"Voorronde!W5","v":"V"},{"$f":"Voorronde!X5","v":"T"},{"$f":"Voorronde!Y5","v":"P"},{"$f":"Voorronde!Z3","v":"Gewonnen"},{"$f":"Voorronde!AA3","v":"Gelijk"},{"$f":"Voorronde!AB3","v":"Verloren"},{"$f":"Voorronde!AC3","v":"Saldo"}]
[{"$f":"Voorronde!O4","v":0},null,null,null,null,null,null,null,{"$f":"Voorronde!Z4","v":0},{"$f":"Voorronde!AA4","v":0},{"$f":"Voorronde!AB4","v":0},{"$f":"Voorronde!AC4","v":0}]
[{"$f":"Voorronde!O5","v":0},null,null,null,null,null,null,null,{"$f":"Voorronde!Z5","v":0},{"$f":"Voorronde!AA5","v":0},{"$f":"Voorronde!AB5","v":0},{"$f":"Voorronde!AC5","v":0}]
[{"$f":"Voorronde!O6","v":1},{"$f":"Voorronde!P6","v":"Schoonhoven E3"},null,null,null,{"$f":"Voorronde!W6","v":0},{"$f":"Voorronde!X6","v":0},{"$f":"Voorronde!Y6","v":0},{"$f":"Voorronde!Z6","v":0},{"$f":"Voorronde!AA6","v":0},{"$f":"Voorronde!AB6","v":0},{"$f":"Voorronde!AC6","v":0}]
[{"$f":"Voorronde!O7","v":1},{"$f":"Voorronde!P7","v":"Schoonhoven E4"},null,null,null,{"$f":"Voorronde!W7","v":0},{"$f":"Voorronde!X7","v":0},{"$f":"Voorronde!Y7","v":0},{"$f":"Voorronde!Z7","v":0},{"$f":"Voorronde!AA7","v":0},{"$f":"Voorronde!AB7","v":0},{"$f":"Voorronde!AC7","v":0}]
[{"$f":"Voorronde!O8","v":1},{"$f":"Voorronde!P8","v":"RKDEO E3"},null,null,null,{"$f":"Voorronde!W8","v":0},{"$f":"Voorronde!X8","v":0},{"$f":"Voorronde!Y8","v":0},{"$f":"Voorronde!Z8","v":0},{"$f":"Voorronde!AA8","v":0},{"$f":"Voorronde!AB8","v":0},{"$f":"Voorronde!AC8","v":0}]
[{"$f":"Voorronde!O9","v":1},{"$f":"Voorronde!P9","v":"VV GZ E3"},null,null,null,{"$f":"Voorronde!W9","v":0},{"$f":"Voorronde!X9","v":0},{"$f":"Voorronde!Y9","v":0},{"$f":"Voorronde!Z9","v":0},{"$f":"Voorronde!AA9","v":0},{"$f":"Voorronde!AB9","v":0},{"$f":"Voorronde!AC9","v":0}]
[{"$f":"Voorronde!O10","v":1},{"$f":"Voorronde!P10","v":"Alblasserdam E3"},null,null,null,{"$f":"Voorronde!W10","v":0},{"$f":"Voorronde!X10","v":0},{"$f":"Voorronde!Y10","v":0},{"$f":"Voorronde!Z10","v":0},{"$f":"Voorronde!AA10","v":0},{"$f":"Voorronde!AB10","v":0},{"$f":"Voorronde!AC10","v":0}]

{"sheet":"GROEP-3","index":5,"n_rows":24,"n_cols":13,"rows_kept":24,"cut":false,"hidden":false,"merged":[[16,8,18,8],[16,9,18,9],[0,12,2,13],[16,5,18,5],[16,6,18,6],[16,7,18,7],[0,0,2,11],[16,10,18,10],[16,11,18,11],[11,0,11,1],[12,0,12,1],[9,0,9,1],[10,0,10,1],[7,0,7,1],[3,9,3,11],[4,0,4,1],[21,1,21,4],[22,1,22,4],[23,1,23,4],[19,1,19,4],[13,0,13,1],[16,0,18,0],[5,0,5,1],[6,0,6,1],[3,0,3,1],[3,5,3,7],[20,1,20,4],[16,1,18,4],[3,2,3,4],[8,0,8,1]]}
["SCHOONHOVEN TOERNOOI",null,null,null,null,null,null,null,null,null,null,null,"SCORES BY:\nOnlineExcelCursus.NL"]
[]
[]
[{"$f":"Voorronde!D24","v":"Tijd"},{"$f":"Voorronde!E24","v":0},{"$f":"Voorronde!G24","v":"VELD C"},null,null,{"$f":"Voorronde!U24","v":"Uitslag"},{"$f":"Voorronde!V24","v":0},{"$f":"Voorronde!W24","v":0},null,{"$f":"Voorronde!Y24","v":"Punten"}]
[{"$f":"Voorronde!D25","v":"14:15:00"},{"$f":"Voorronde!E25","v":"00:00:00"},{"$f":"Voorronde!G25","v":"Schoonhoven E5"},{"$f":"Voorronde!M25","v":"--"},{"$f":"Voorronde!N25","v":"Schoonhoven E6"},{"$f":"Voorronde!U25","v":0},{"$f":"Voorronde!V25","v":"--"},{"$f":"Voorronde!W25","v":0},null,{"$f":"Voorronde!Y25","v":""},null,{"$f":"Voorronde!AA25","v":""}]
[{"$f":"Voorronde!D26","v":"14:28:00"},{"$f":"Voorronde!E26","v":"00:00:00"},{"$f":"Voorronde!G26","v":"RKDEO E9"},{"$f":"Voorronde!M26","v":"--"},{"$f":"Voorronde!N26","v":"scVictorie'04 E3"},{"$f":"Voorronde!U26","v":0},{"$f":"Voorronde!V26","v":"--"},{"$f":"Voorronde!W26","v":0},null,{"$f":"Voorronde!Y26","v":""},null,{"$f":"Voorronde!AA26","v":""}]
[{"$f":"Voorronde!D27","v":"14:41:00"},{"$f":"Voorronde!E27","v":"00:00:00"},{"$f":"Voorronde!G27","v":"Jodan Boys E6"},{"$f":"Voorronde!M27","v":"--"},{"$f":"Voorronde!N27","v":"Schoonhoven E5"},{"$f":"Voorronde!U27","v":0},{"$f":"Voorronde!V27","v":"--"},{"$f":"Voorronde!W27","v":0},null,{"$f":"Voorronde!Y27","v":""},null,{"$f":"Voorronde!AA27","v":""}]
[{"$f":"Voorronde!D28","v":"14:54:00"},{"$f":"Voorronde!E28","v":"00:00:00"},{"$f":"Voorronde!G28","v":"Schoonhoven E6"},{"$f":"Voorronde!M28","v":"--"},{"$f":"Voorronde!N28","v":"RKDEO E9"},{"$f":"Voorronde!U28","v":0},{"$f":"Voorronde!V28","v":"--"},{"$f":"Voorronde!W28","v":0},null,{"$f":"Voorronde!Y28","v":""},null,{"$f":"Voorronde!AA28","v":""}]
[{"$f":"Voorronde!D29","v":"15:07:00"},{"$f":"Voorronde!E29","v":"00:00:00"},{"$f":"Voorronde!G29","v":"Jodan Boys E6"},{"$f":"Voorronde!M29","v":"--"},{"$f":"Voorronde!N29","v":"scVictorie'04 E3"},{"$f":"Voorronde!U29","v":0},{"$f":"Voorronde!V29","v":"--"},{"$f":"Voorronde!W29","v":0},null,{"$f":"Voorronde!Y29","v":""},null,{"$f":"Voorronde!AA29","v":""}]
[{"$f":"Voorronde!D30","v":"15:20:00"},{"$f":"Voorronde!E30","v":"00:00:00"},{"$f":"Voorronde!G30","v":"Schoonhoven E5"},{"$f":"Voorronde!M30","v":"--"},{"$f":"Voorronde!N30","v":"RKDEO E9"},{"$f":"Voorronde!U30","v":0},{"$f":"Voorronde!V30","v":"--"},{"$f":"Voorronde!W30","v":0},null,{"$f":"Voorronde!Y30","v":""},null,{"$f":"Voorronde!AA30","v":""}]
[{"$f":"Voorronde!D31","v":"15:33:00"},{"$f":"Voorronde!E31","v":"00:00:00"},{"$f":"Voorronde!G31","v":"Schoonhoven E6"},{"$f":"Voorronde!M31","v":"--"},{"$f":"Voorronde!N31","v":"Jodan Boys E6"},{"$f":"Voorronde!U31","v":0},{"$f":"Voorronde!V31","v":"--"},{"$f":"Voorronde!W31","v":0},null,{"$f":"Voorronde!Y31","v":""},null,{"$f":"Voorronde!AA31","v":""}]
[{"$f":"Voorronde!D32","v":"15:46:00"},{"$f":"Voorronde!E32","v":"00:00:00"},{"$f":"Voorronde!G32","v":"scVictorie'04 E3"},{"$f":"Voorronde!M32","v":"--"},{"$f":"Voorronde!N32","v":"Schoonhoven E5"},{"$f":"Voorronde!U32","v":0},{"$f":"Voorronde!V32","v":"--"},{"$f":"Voorronde!W32","v":0},null,{"$f":"Voorronde!Y32","v":""},null,{"$f":"Voorronde!AA32","v":""}]
[{"$f":"Voorronde!D33","v":"15:59:00"},{"$f":"Voorronde!E33","v":"00:00:00"},{"$f":"Voorronde!G33","v":"RKDEO E9"},{"$f":"Voorronde!M33","v":"--"},{"$f":"Voorronde!N33","v":"Jodan Boys E6"},{"$f":"Voorronde!U33","v":0},{"$f":"Voorronde!V33","v":"--"},{"$f":"Voorronde!W33","v":0},null,{"$f":"Voorronde!Y33","v":""},null,{"$f":"Voorronde!AA33","v":""}]
[{"$f":"Voorronde!D34","v":"16:12:00"},{"$f":"Voorronde!E34","v":"00:00:00"},{"$f":"Voorronde!G34","v":"scVictorie'04 E3"},{"$f":"Voorronde!M34","v":"--"},{"$f":"Voorronde!N34","v":"Schoonhoven E6"},{"$f":"Voorronde!U34","v":0},{"$f":"Voorronde!V34","v":"--"},{"$f":"Voorronde!W34","v":0},null,{"$f":"Voorronde!Y34","v":""},null,{"$f":"Voorronde!AA34","v":""}]
[]
[]
[{"$f":"Voorronde!AD3","v":"Stand"},{"$f":"Voorronde!AE5","v":"Groep 3"},null,null,null,{"$f":"Voorronde!AK5","v":"V"},{"$f":"Voorronde!AL5","v":"T"},{"$f":"Voorronde!AM5","v":"P"},{"$f":"Voorronde!AN3","v":"Gewonnen"},{"$f":"Voorronde!AO3","v":"Gelijk"},{"$f":"Voorronde!AP3","v":"Verloren"},{"$f":"Voorronde!AQ3","v":"Saldo"}]
[{"$f":"Voorronde!AD4","v":0},null,null,null,null,null,null,null,{"$f":"Voorronde!AN4","v":0},{"$f":"Voorronde!AO4","v":0},{"$f":"Voorronde!AP4","v":0},{"$f":"Voorronde!AQ4","v":0}]
[{"$f":"Voorronde!AD5","v":0},null,null,null,null,null,null,null,{"$f":"Voorronde!AN5","v":0},{"$f":"Voorronde!AO5","v":0},{"$f":"Voorronde!AP5","v":0},{"$f":"Voorronde!AQ5","v":0}]
[{"$f":"Voorronde!AD6","v":1},{"$f":"Voorronde!AE6","v":"Schoonhoven E5"},null,null,null,{"$f":"Voorronde!AK6","v":0},{"$f":"Voorronde!AL6","v":0},{"$f":"Voorronde!AM6","v":0},{"$f":"Voorronde!AN6","v":0},{"$f":"Voorronde!AO6","v":0},{"$f":"Voorronde!AP6","v":0},{"$f":"Voorronde!AQ6","v":0}]
[{"$f":"Voorronde!AD7","v":1},{"$f":"Voorronde!AE7","v":"Schoonhoven E6"},null,null,null,{"$f":"Voorronde!AK7","v":0},{"$f":"Voorronde!AL7","v":0},{"$f":"Voorronde!AM7","v":0},{"$f":"Voorronde!AN7","v":0},{"$f":"Voorronde!AO7","v":0},{"$f":"Voorronde!AP7","v":0},{"$f":"Voorronde!AQ7","v":0}]
[{"$f":"Voorronde!AD8","v":1},{"$f":"Voorronde!AE8","v":"RKDEO E9"},null,null,null,{"$f":"Voorronde!AK8","v":0},{"$f":"Voorronde!AL8","v":0},{"$f":"Voorronde!AM8","v":0},{"$f":"Voorronde!AN8","v":0},{"$f":"Voorronde!AO8","v":0},{"$f":"Voorronde!AP8","v":0},{"$f":"Voorronde!AQ8","v":0}]
[{"$f":"Voorronde!AD9","v":1},{"$f":"Voorronde!AE9","v":"scVictorie'04 E3"},null,null,null,{"$f":"Voorronde!AK9","v":0},{"$f":"Voorronde!AL9","v":0},{"$f":"Voorronde!AM9","v":0},{"$f":"Voorronde!AN9","v":0},{"$f":"Voorronde!AO9","v":0},{"$f":"Voorronde!AP9","v":0},{"$f":"Voorronde!AQ9","v":0}]
[{"$f":"Voorronde!AD10","v":1},{"$f":"Voorronde!AE10","v":"Jodan Boys E6"},null,null,null,{"$f":"Voorronde!AK10","v":0},{"$f":"Voorronde!AL10","v":0},{"$f":"Voorronde!AM10","v":0},{"$f":"Voorronde!AN10","v":0},{"$f":"Voorronde!AO10","v":0},{"$f":"Voorronde!AP10","v":0},{"$f":"Voorronde!AQ10","v":0}]

{"sheet":"GROEP-4","index":6,"n_rows":24,"n_cols":13,"rows_kept":24,"cut":false,"hidden":false,"merged":[[0,12,2,13],[16,6,18,6],[16,7,18,7],[19,1,19,4],[20,1,20,4],[0,0,2,11],[16,8,18,8],[16,9,18,9],[16,10,18,10],[16,11,18,11],[16,5,18,5],[3,5,3,7],[3,9,3,11],[3,0,3,1],[21,1,21,4],[22,1,22,4],[16,1,18,4],[3,2,3,4],[23,1,23,4],[13,0,13,1],[16,0,18,0],[11,0,11,1],[12,0,12,1],[9,0,9,1],[10,0,10,1],[4,0,4,1],[7,0,7,1],[8,0,8,1],[5,0,5,1],[6,0,6,1]]}
["SCHOONHOVEN TOERNOOI",null,null,null,null,null,null,null,null,null,null,null,"SCORES BY:\nOnlineExcelCursus.NL"]
[]
[]
[{"$f":"Voorronde!AC24","v":"Tijd"},{"$f":"Voorronde!AD24","v":0},{"$f":"Voorronde!AF24","v":"VELD D"},null,null,{"$f":"Voorronde!AT24","v":"Uitslag"},{"$f":"Voorronde!AU24","v":0},{"$f":"Voorronde!AV24","v":0},null,{"$f":"Voorronde!AX24","v":"Punten"},{"$f":"Voorronde!AY24","v":0},{"$f":"Voorronde!AZ24","v":0}]
[{"$f":"Voorronde!AC25","v":"14:15:00"},{"$f":"Voorronde!AD25","v":"00:00:00"},{"$f":"Voorronde!AF25","v":"Schoonhoven E7"},{"$f":"Voorronde!AL25","v":"--"},{"$f":"Voorronde!AM25","v":"Schoonhoven E8"},{"$f":"Voorronde!AT25","v":0},{"$f":"Voorronde!AU25","v":"--"},{"$f":"Voorronde!AV25","v":0},null,{"$f":"Voorronde!Y25","v":""},null,{"$f":"Voorronde!AA25","v":""}]
[{"$f":"Voorronde!AC26","v":"14:28:00"},{"$f":"Voorronde!AD26","v":"00:00:00"},{"$f":"Voorronde!AF26","v":"VFC Vlaardingen E8"},{"$f":"Voorronde!AL26","v":"--"},{"$f":"Voorronde!AM26","v":"Jodan Boys E8"},{"$f":"Voorronde!AT26","v":0},{"$f":"Voorronde!AU26","v":"--"},{"$f":"Voorronde!AV26","v":0},null,{"$f":"Voorronde!Y26","v":""},null,{"$f":"Voorronde!AA26","v":""}]
[{"$f":"Voorronde!AC27","v":"14:41:00"},{"$f":"Voorronde!AD27","v":"00:00:00"},{"$f":"Voorronde!AF27","v":"Smitshoek E10"},{"$f":"Voorronde!AL27","v":"--"},{"$f":"Voorronde!AM27","v":"Schoonhoven E7"},{"$f":"Voorronde!AT27","v":0},{"$f":"Voorronde!AU27","v":"--"},{"$f":"Voorronde!AV27","v":0},null,{"$f":"Voorronde!Y27","v":""},null,{"$f":"Voorronde!AA27","v":""}]
[{"$f":"Voorronde!AC28","v":"14:54:00"},{"$f":"Voorronde!AD28","v":"00:00:00"},{"$f":"Voorronde!AF28","v":"Schoonhoven E8"},{"$f":"Voorronde!AL28","v":"--"},{"$f":"Voorronde!AM28","v":"VFC Vlaardingen E8"},{"$f":"Voorronde!AT28","v":0},{"$f":"Voorronde!AU28","v":"--"},{"$f":"Voorronde!AV28","v":0},null,{"$f":"Voorronde!Y28","v":""},null,{"$f":"Voorronde!AA28","v":""}]
[{"$f":"Voorronde!AC29","v":"15:07:00"},{"$f":"Voorronde!AD29","v":"00:00:00"},{"$f":"Voorronde!AF29","v":"Smitshoek E10"},{"$f":"Voorronde!AL29","v":"--"},{"$f":"Voorronde!AM29","v":"Jodan Boys E8"},{"$f":"Voorronde!AT29","v":0},{"$f":"Voorronde!AU29","v":"--"},{"$f":"Voorronde!AV29","v":0},null,{"$f":"Voorronde!Y29","v":""},null,{"$f":"Voorronde!AA29","v":""}]
[{"$f":"Voorronde!AC30","v":"15:20:00"},{"$f":"Voorronde!AD30","v":"00:00:00"},{"$f":"Voorronde!AF30","v":"Schoonhoven E7"},{"$f":"Voorronde!AL30","v":"--"},{"$f":"Voorronde!AM30","v":"VFC Vlaardingen E8"},{"$f":"Voorronde!AT30","v":0},{"$f":"Voorronde!AU30","v":"--"},{"$f":"Voorronde!AV30","v":0},null,{"$f":"Voorronde!Y30","v":""},null,{"$f":"Voorronde!AA30","v":""}]
[{"$f":"Voorronde!AC31","v":"15:33:00"},{"$f":"Voorronde!AD31","v":"00:00:00"},{"$f":"Voorronde!AF31","v":"Schoonhoven E8"},{"$f":"Voorronde!AL31","v":"--"},{"$f":"Voorronde!AM31","v":"Smitshoek E10"},{"$f":"Voorronde!AT31","v":0},{"$f":"Voorronde!AU31","v":"--"},{"$f":"Voorronde!AV31","v":0},null,{"$f":"Voorronde!Y31","v":""},null,{"$f":"Voorronde!AA31","v":""}]
[{"$f":"Voorronde!AC32","v":"15:46:00"},{"$f":"Voorronde!AD32","v":"00:00:00"},{"$f":"Voorronde!AF32","v":"Jodan Boys E8"},{"$f":"Voorronde!AL32","v":"--"},{"$f":"Voorronde!AM32","v":"Schoonhoven E7"},{"$f":"Voorronde!AT32","v":0},{"$f":"Voorronde!AU32","v":"--"},{"$f":"Voorronde!AV32","v":0},null,{"$f":"Voorronde!Y32","v":""},null,{"$f":"Voorronde!AA32","v":""}]
[{"$f":"Voorronde!AC33","v":"15:59:00"},{"$f":"Voorronde!AD33","v":"00:00:00"},{"$f":"Voorronde!AF33","v":"VFC Vlaardingen E8"},{"$f":"Voorronde!AL33","v":"--"},{"$f":"Voorronde!AM33","v":"Smitshoek E10"},{"$f":"Voorronde!AT33","v":0},{"$f":"Voorronde!AU33","v":"--"},{"$f":"Voorronde!AV33","v":0},null,{"$f":"Voorronde!Y33","v":""},null,{"$f":"Voorronde!AA33","v":""}]
[{"$f":"Voorronde!AC34","v":"16:12:00"},{"$f":"Voorronde!AD34","v":"00:00:00"},{"$f":"Voorronde!AF34","v":"Jodan Boys E8"},{"$f":"Voorronde!AL34","v":"--"},{"$f":"Voorronde!AM34","v":"Schoonhoven E8"},{"$f":"Voorronde!AT34","v":0},{"$f":"Voorronde!AU34","v":"--"},{"$f":"Voorronde!AV34","v":0},null,{"$f":"Voorronde!Y34","v":""},null,{"$f":"Voorronde!AA34","v":""}]
[]
[]
[{"$f":"Voorronde!AR3","v":"Stand"},{"$f":"Voorronde!AS5","v":"Groep 4"},null,null,null,{"$f":"Voorronde!AY5","v":"V"},{"$f":"Voorronde!AZ5","v":"T"},{"$f":"Voorronde!BA5","v":"P"},{"$f":"Voorronde!BB3","v":"Gewonnen"},{"$f":"Voorronde!BC3","v":"Gelijk"},{"$f":"Voorronde!BD3","v":"Verloren"},{"$f":"Voorronde!BE3","v":"Saldo"}]
[{"$f":"Voorronde!AR4","v":0},null,null,null,null,null,null,null,{"$f":"Voorronde!BB4","v":0},{"$f":"Voorronde!BC4","v":0},{"$f":"Voorronde!BD4","v":0},{"$f":"Voorronde!BE4","v":0}]
[{"$f":"Voorronde!AR5","v":0},null,null,null,null,null,null,null,{"$f":"Voorronde!BB5","v":0},{"$f":"Voorronde!BC5","v":0},{"$f":"Voorronde!BD5","v":0},{"$f":"Voorronde!BE5","v":0}]
[{"$f":"Voorronde!AR6","v":1},{"$f":"Voorronde!AS6","v":"Schoonhoven E7"},null,null,null,{"$f":"Voorronde!AY6","v":0},{"$f":"Voorronde!AZ6","v":0},{"$f":"Voorronde!BA6","v":0},{"$f":"Voorronde!BB6","v":0},{"$f":"Voorronde!BC6","v":0},{"$f":"Voorronde!BD6","v":0},{"$f":"Voorronde!BE6","v":0}]
[{"$f":"Voorronde!AR7","v":1},{"$f":"Voorronde!AS7","v":"Schoonhoven E8"},null,null,null,{"$f":"Voorronde!AY7","v":0},{"$f":"Voorronde!AZ7","v":0},{"$f":"Voorronde!BA7","v":0},{"$f":"Voorronde!BB7","v":0},{"$f":"Voorronde!BC7","v":0},{"$f":"Voorronde!BD7","v":0},{"$f":"Voorronde!BE7","v":0}]
[{"$f":"Voorronde!AR8","v":1},{"$f":"Voorronde!AS8","v":"VFC Vlaardingen E8"},null,null,null,{"$f":"Voorronde!AY8","v":0},{"$f":"Voorronde!AZ8","v":0},{"$f":"Voorronde!BA8","v":0},{"$f":"Voorronde!BB8","v":0},{"$f":"Voorronde!BC8","v":0},{"$f":"Voorronde!BD8","v":0},{"$f":"Voorronde!BE8","v":0}]
[{"$f":"Voorronde!AR9","v":1},{"$f":"Voorronde!AS9","v":"Jodan Boys E8"},null,null,null,{"$f":"Voorronde!AY9","v":0},{"$f":"Voorronde!AZ9","v":0},{"$f":"Voorronde!BA9","v":0},{"$f":"Voorronde!BB9","v":0},{"$f":"Voorronde!BC9","v":0},{"$f":"Voorronde!BD9","v":0},{"$f":"Voorronde!BE9","v":0}]
[{"$f":"Voorronde!AR10","v":1},{"$f":"Voorronde!AS10","v":"Smitshoek E10"},null,null,null,{"$f":"Voorronde!AY10","v":0},{"$f":"Voorronde!AZ10","v":0},{"$f":"Voorronde!BA10","v":0},{"$f":"Voorronde!BB10","v":0},{"$f":"Voorronde!BC10","v":0},{"$f":"Voorronde!BD10","v":0},{"$f":"Voorronde!BE10","v":0}]